Workbook
Name 依頼内容: Sheet2!$C$1:$C$3
Name 発注者機関事務所名: Sheet2!$A$1:$A$23
Name 有無: Sheet2!$B$1:$B$2
Name 有無空: Sheet2!$B$1:$B$3

Sheet Sheet1
A1: 様式－３ | C1: 2017年版
A2: 電子成果データ内容確認・登録依頼書
B3: 依頼日
A4: 公益財団法人とちぎ建設技術センター 様
B5: 会社名
A6: 以下の業務について、電子成果データ（副）の内容確認と登録を依頼します。
A7: 依頼内容 | C7: 注意事項
A8: 新規・修正・差し替え | B8: 新規 | C8: ▼を押して新規・修正・差し替えを選択(登録完了後の訂正は差し替えとする)
A9: ＣＤ・DVD等の枚数 | C9: 登録するCD・DVD等の枚数を記入する
A10: 契約番号 | C10: 県の場合はハイフン以外の契約番号9桁、企業局は先頭に「K」を付加。他はそのまま入力
A11: 委託業務の名称 | C11: 契約書の内容をそのまま記入する（改行等は不要）
A13: 業務情報（変更がある場合は記入してください） | C13: 注意事項
A14: 変更後履行期間（終了） | C14: 西暦で記入する（例：2014/3/31) ※変更がない場合は記入不要
A15: ３級基準点測量 | C15: ▼を押してあり・なしを選択する ※変更がない場合は記入不要
A16: ボーリング調査 | C16: ▼を押してあり・なしを選択する ※変更がない場合は記入不要
A18: 受注者情報（変更がある場合は記入してください） | C18: 注意事項
A19: 担当部署 | C19: ※変更がない場合は記入不要
A20: 担当者名 | C20: ※変更がない場合は記入不要
A21: 電話番号 | C21: 担当者への連絡用の電話番号 ※変更がない場合は記入不要
A22: メールアドレス | C22: 担当者への連絡用のメールアドレス ※変更がない場合は記入不要
... A25: 実施日 | C25: 西暦で記入する（例：2013/4/3)
A26: 発注担当者との協議事項や業務内容の特殊性などの理由で、エラーチェックの対象とな
A27: るような内容があれば、以下に記入してください。差し替えの場合は理由を記入してください。
A28: 特記事項
A34: （注）この様式に記入したうえで印刷（白黒で可）し、成果品のCD・DVD等（副）と合わせて
A35: 下記まで郵送または直接お持ちください。
A37: 電子成果データ内容確認・登録依頼書提出先
A38: 〒321-0974 宇都宮市竹林町1030-2
A39: （公財）とちぎ建設技術センター 企画開発部 企画開発課 情報開発担当
A40: CD等預かり証 | B40: =B10 -> 0 | C40: =B9 -> 0
B41: =C5 -> 0

Sheet Sheet2
B1: あり | C1: 新規
B2: なし | C2: 修正
C3: 差し替え

Sheet BCG
A1: ■契約番号と変更フラグ
A2: 契約番号 | B2: =IF(Sheet1!$B$10<>"",UPPER(Sheet1!$B$10),"") | C2: （小文字は大文字に変換）
A3: 変更フラグ | B3: =IF(OR(Sheet1!$B$14<>"",Sheet1!$B$15<>"",Sheet1!$B$16<>""),"%","")
A4: 対象文字列 | B4: =IF(B2<>"",B2&B3,"") | C4: （契約番号が空欄なら表示しない）
A6: チェックデジット計算
A7: 先頭からの桁数 | C7: 1 | D7: 2 | E7: 3 | F7: 4 | G7: 5 | H7: 6 | I7: 7 | J7: 8 | K7: 9 | L7: 10 | M7: 11 | N7: 12 | O7: 13 | P7: 14 | Q7: 15 | R7: 16
A8: 桁の文字 | C8: =MID($B$4,C7,1) | D8: =MID($B$4,D7,1) | E8: =MID($B$4,E7,1) | F8: =MID($B$4,F7,1) | G8: =MID($B$4,G7,1) | H8: =MID($B$4,H7,1) | I8: =MID($B$4,I7,1) | J8: =MID($B$4,J7,1) | ... R8: =MID($B$4,R7,1)
A9: 文字を数値化 | C9: =IF(C8="",0,IF(OR(C8="-",C8="."),IF(C8="-",36,37),IF(OR(C8=" ",C8="$"),IF(C8=" ",38,39),IF(OR(C8="/",C8="+"),IF(C8="/",40,41),IF(OR(C8="%",C8="*"),IF(C8="%",42,43),IF(AND(CODE(C8)>=65,CODE(C8)<=90),CODE(C8)-55,VALUE(C8))))))) -> 0 | D9: =IF(D8="",0,IF(OR(D8="-",D8="."),IF(D8="-",36,37),IF(OR(D8=" ",D8="$"),IF(D8=" ",38,39),IF(OR(D8="/",D8="+"),IF(D8="/",40,41),IF(OR(D8="%",D8="*"),IF(D8="%",42,43),IF(AND(CODE(D8)>=65,CODE(D8)<=90),CODE(D8)-55,VALUE(D8))))))) -> 0 | E9: =IF(E8="",0,IF(OR(E8="-",E8="."),IF(E8="-",36,37),IF(OR(E8=" ",E8="$"),IF(E8=" ",38,39),IF(OR(E8="/",E8="+"),IF(E8="/",40,41),IF(OR(E8="%",E8="*"),IF(E8="%",42,43),IF(AND(CODE(E8)>=65,CODE(E8)<=90),CODE(E8)-55,VALUE(E8))))))) -> 0 | F9: =IF(F8="",0,IF(OR(F8="-",F8="."),IF(F8="-",36,37),IF(OR(F8=" ",F8="$"),IF(F8=" ",38,39),IF(OR(F8="/",F8="+"),IF(F8="/",40,41),IF(OR(F8="%",F8="*"),IF(F8="%",42,43),IF(AND(CODE(F8)>=65,CODE(F8)<=90),CODE(F8)-55,VALUE(F8))))))) -> 0 | G9: =IF(G8="",0,IF(OR(G8="-",G8="."),IF(G8="-",36,37),IF(OR(G8=" ",G8="$"),IF(G8=" ",38,39),IF(OR(G8="/",G8="+"),IF(G8="/",40,41),IF(OR(G8="%",G8="*"),IF(G8="%",42,43),IF(AND(CODE(G8)>=65,CODE(G8)<=90),CODE(G8)-55,VALUE(G8))))))) -> 0 | H9: =IF(H8="",0,IF(OR(H8="-",H8="."),IF(H8="-",36,37),IF(OR(H8=" ",H8="$"),IF(H8=" ",38,39),IF(OR(H8="/",H8="+"),IF(H8="/",40,41),IF(OR(H8="%",H8="*"),IF(H8="%",42,43),IF(AND(CODE(H8)>=65,CODE(H8)<=90),CODE(H8)-55,VALUE(H8))))))) -> 0 | I9: =IF(I8="",0,IF(OR(I8="-",I8="."),IF(I8="-",36,37),IF(OR(I8=" ",I8="$"),IF(I8=" ",38,39),IF(OR(I8="/",I8="+"),IF(I8="/",40,41),IF(OR(I8="%",I8="*"),IF(I8="%",42,43),IF(AND(CODE(I8)>=65,CODE(I8)<=90),CODE(I8)-55,VALUE(I8))))))) -> 0 | J9: =IF(J8="",0,IF(OR(J8="-",J8="."),IF(J8="-",36,37),IF(OR(J8=" ",J8="$"),IF(J8=" ",38,39),IF(OR(J8="/",J8="+"),IF(J8="/",40,41),IF(OR(J8="%",J8="*"),IF(J8="%",42,43),IF(AND(CODE(J8)>=65,CODE(J8)<=90),CODE(J8)-55,VALUE(J8))))))) -> 0 | ... R9: =IF(R8="",0,IF(OR(R8="-",R8="."),IF(R8="-",36,37),IF(OR(R8=" ",R8="$"),IF(R8=" ",38,39),IF(OR(R8="/",R8="+"),IF(R8="/",40,41),IF(OR(R8="%",R8="*"),IF(R8="%",42,43),IF(AND(CODE(R8)>=65,CODE(R8)<=90),CODE(R8)-55,VALUE(R8))))))) -> 0
A10: 合計 | B10: =SUM(C9:Q9) -> 0
A11: モジュラス43 | B11: =MOD(B10,43) -> 0
A12: チェックデジット | B12: =IF(OR(B11=36,B11=37),IF(B11=36,"-","."),IF(OR(B11=38,B11=39),IF(B11=38," ","$"),IF(OR(B11=40,B11=41),IF(B11=40,"/","+"),IF(OR(B11=42,B11=43),IF(B11=42,"%","*"),IF(AND(B11>=10,B11<=35),CHAR(B11+55),B11))))) -> 0
A14: CODE39にする文字列 | B14: =IF(B4="","","*"&B4&B12& "*")
A15: 上位８バイト
A16: 先頭からの桁数 | S16: 1 | AU16: 2 | BW16: 3 | CY16: 4 | EA16: 5 | FC16: 6 | GE16: 7 | HG16: 8
A17: その桁の文字 | S17: =MID(B14,S16,1) | AU17: =MID(B14,AU16,1) | BW17: =MID(B14,BW16,1) | CY17: =MID(B14,CY16,1) | EA17: =MID(B14,EA16,1) | FC17: =MID(B14,FC16,1) | GE17: =MID(B14,GE16,1) | HG17: =MID(B14,HG16,1)
A18: バーコード | S18: =IF(S17="","",VLOOKUP("~"&S17,CODE39!$A$2:'CODE39'!$AB$45,2,FALSE)) | T18: =IF(S17="","",VLOOKUP("~"&S17,CODE39!$A$2:'CODE39'!$AB$45,3,FALSE)) | U18: =IF(S17="","",VLOOKUP("~"&S17,CODE39!$A$2:'CODE39'!$AB$45,4,FALSE)) | V18: =IF(S17="","",VLOOKUP("~"&S17,CODE39!$A$2:'CODE39'!$AB$45,5,FALSE)) | W18: =IF(S17="","",VLOOKUP("~"&S17,CODE39!$A$2:'CODE39'!$AB$45,6,FALSE)) | X18: =IF(S17="","",VLOOKUP("~"&S17,CODE39!$A$2:'CODE39'!$AB$45,7,FALSE)) | Y18: =IF(S17="","",VLOOKUP("~"&S17,CODE39!$A$2:'CODE39'!$AB$45,8,FALSE)) | Z18: =IF(S17="","",VLOOKUP("~"&S17,CODE39!$A$2:'CODE39'!$AB$45,9,FALSE)) | AA18: =IF(S17="","",VLOOKUP("~"&S17,CODE39!$A$2:'CODE39'!$AB$45,10,FALSE)) | AB18: =IF(S17="","",VLOOKUP("~"&S17,CODE39!$A$2:'CODE39'!$AB$45,11,FALSE)) | AC18: =IF(S17="","",VLOOKUP("~"&S17,CODE39!$A$2:'CODE39'!$AB$45,12,FALSE)) | AD18: =IF(S17="","",VLOOKUP("~"&S17,CODE39!$A$2:'CODE39'!$AB$45,13,FALSE)) | AE18: =IF(S17="","",VLOOKUP("~"&S17,CODE39!$A$2:'CODE39'!$AB$45,14,FALSE)) | AF18: =IF(S17="","",VLOOKUP("~"&S17,CODE39!$A$2:'CODE39'!$AB$45,15,FALSE)) | AG18: =IF(S17="","",VLOOKUP("~"&S17,CODE39!$A$2:'CODE39'!$AB$45,16,FALSE)) | AH18: =IF(S17="","",VLOOKUP("~"&S17,CODE39!$A$2:'CODE39'!$AB$45,17,FALSE)) | AI18: =IF(S17="","",VLOOKUP("~"&S17,CODE39!$A$2:'CODE39'!$AB$45,18,FALSE)) | AJ18: =IF(S17="","",VLOOKUP("~"&S17,CODE39!$A$2:'CODE39'!$AB$45,19,FALSE)) | AK18: =IF(S17="","",VLOOKUP("~"&S17,CODE39!$A$2:'CODE39'!$AB$45,20,FALSE)) | AL18: =IF(S17="","",VLOOKUP("~"&S17,CODE39!$A$2:'CODE39'!$AB$45,21,FALSE)) | AM18: =IF(S17="","",VLOOKUP("~"&S17,CODE39!$A$2:'CODE39'!$AB$45,22,FALSE)) | AN18: =IF(S17="","",VLOOKUP("~"&S17,CODE39!$A$2:'CODE39'!$AB$45,23,FALSE)) | AO18: =IF(S17="","",VLOOKUP("~"&S17,CODE39!$A$2:'CODE39'!$AB$45,24,FALSE)) | AP18: =IF(S17="","",VLOOKUP("~"&S17,CODE39!$A$2:'CODE39'!$AB$45,25,FALSE)) | AQ18: =IF(S17="","",VLOOKUP("~"&S17,CODE39!$A$2:'CODE39'!$AB$45,26,FALSE)) | AR18: =IF(S17="","",VLOOKUP("~"&S17,CODE39!$A$2:'CODE39'!$AB$45,27,FALSE)) | AS18: =IF(S17="","",VLOOKUP("~"&S17,CODE39!$A$2:'CODE39'!$AB$45,28,FALSE)) | AU18: =IF(AU17="","",VLOOKUP("~"&AU17,CODE39!$A$2:'CODE39'!$AB$45,2,FALSE)) | AV18: =IF(AU17="","",VLOOKUP("~"&AU17,CODE39!$A$2:'CODE39'!$AB$45,3,FALSE)) | AW18: =IF(AU17="","",VLOOKUP("~"&AU17,CODE39!$A$2:'CODE39'!$AB$45,4,FALSE)) | AX18: =IF(AU17="","",VLOOKUP("~"&AU17,CODE39!$A$2:'CODE39'!$AB$45,5,FALSE)) | AY18: =IF(AU17="","",VLOOKUP("~"&AU17,CODE39!$A$2:'CODE39'!$AB$45,6,FALSE)) | AZ18: =IF(AU17="","",VLOOKUP("~"&AU17,CODE39!$A$2:'CODE39'!$AB$45,7,FALSE)) | BA18: =IF(AU17="","",VLOOKUP("~"&AU17,CODE39!$A$2:'CODE39'!$AB$45,8,FALSE)) | BB18: =IF(AU17="","",VLOOKUP("~"&AU17,CODE39!$A$2:'CODE39'!$AB$45,9,FALSE)) | BC18: =IF(AU17="","",VLOOKUP("~"&AU17,CODE39!$A$2:'CODE39'!$AB$45,10,FALSE)) | BD18: =IF(AU17="","",VLOOKUP("~"&AU17,CODE39!$A$2:'CODE39'!$AB$45,11,FALSE)) | BE18: =IF(AU17="","",VLOOKUP("~"&AU17,CODE39!$A$2:'CODE39'!$AB$45,12,FALSE)) | BF18: =IF(AU17="","",VLOOKUP("~"&AU17,CODE39!$A$2:'CODE39'!$AB$45,13,FALSE)) | BG18: =IF(AU17="","",VLOOKUP("~"&AU17,CODE39!$A$2:'CODE39'!$AB$45,14,FALSE)) | BH18: =IF(AU17="","",VLOOKUP("~"&AU17,CODE39!$A$2:'CODE39'!$AB$45,15,FALSE)) | BI18: =IF(AU17="","",VLOOKUP("~"&AU17,CODE39!$A$2:'CODE39'!$AB$45,16,FALSE)) | BJ18: =IF(AU17="","",VLOOKUP("~"&AU17,CODE39!$A$2:'CODE39'!$AB$45,17,FALSE)) | BK18: =IF(AU17="","",VLOOKUP("~"&AU17,CODE39!$A$2:'CODE39'!$AB$45,18,FALSE)) | BL18: =IF(AU17="","",VLOOKUP("~"&AU17,CODE39!$A$2:'CODE39'!$AB$45,19,FALSE)) | BM18: =IF(AU17="","",VLOOKUP("~"&AU17,CODE39!$A$2:'CODE39'!$AB$45,20,FALSE)) | BN18: =IF(AU17="","",VLOOKUP("~"&AU17,CODE39!$A$2:'CODE39'!$AB$45,21,FALSE)) | BO18: =IF(AU17="","",VLOOKUP("~"&AU17,CODE39!$A$2:'CODE39'!$AB$45,22,FALSE)) | BP18: =IF(AU17="","",VLOOKUP("~"&AU17,CODE39!$A$2:'CODE39'!$AB$45,23,FALSE)) | BQ18: =IF(AU17="","",VLOOKUP("~"&AU17,CODE39!$A$2:'CODE39'!$AB$45,24,FALSE)) | BR18: =IF(AU17="","",VLOOKUP("~"&AU17,CODE39!$A$2:'CODE39'!$AB$45,25,FALSE)) | BS18: =IF(AU17="","",VLOOKUP("~"&AU17,CODE39!$A$2:'CODE39'!$AB$45,26,FALSE)) | BT18: =IF(AU17="","",VLOOKUP("~"&AU17,CODE39!$A$2:'CODE39'!$AB$45,27,FALSE)) | BU18: =IF(AU17="","",VLOOKUP("~"&AU17,CODE39!$A$2:'CODE39'!$AB$45,28,FALSE)) | BW18: =IF(BW17="","",VLOOKUP("~"&BW17,CODE39!$A$2:'CODE39'!$AB$45,2,FALSE)) | BX18: =IF(BW17="","",VLOOKUP("~"&BW17,CODE39!$A$2:'CODE39'!$AB$45,3,FALSE)) | BY18: =IF(BW17="","",VLOOKUP("~"&BW17,CODE39!$A$2:'CODE39'!$AB$45,4,FALSE)) | BZ18: =IF(BW17="","",VLOOKUP("~"&BW17,CODE39!$A$2:'CODE39'!$AB$45,5,FALSE)) | CA18: =IF(BW17="","",VLOOKUP("~"&BW17,CODE39!$A$2:'CODE39'!$AB$45,6,FALSE)) | CB18: =IF(BW17="","",VLOOKUP("~"&BW17,CODE39!$A$2:'CODE39'!$AB$45,7,FALSE)) | CC18: =IF(BW17="","",VLOOKUP("~"&BW17,CODE39!$A$2:'CODE39'!$AB$45,8,FALSE)) | CD18: =IF(BW17="","",VLOOKUP("~"&BW17,CODE39!$A$2:'CODE39'!$AB$45,9,FALSE)) | CE18: =IF(BW17="","",VLOOKUP("~"&BW17,CODE39!$A$2:'CODE39'!$AB$45,10,FALSE)) | CF18: =IF(BW17="","",VLOOKUP("~"&BW17,CODE39!$A$2:'CODE39'!$AB$45,11,FALSE)) | CG18: =IF(BW17="","",VLOOKUP("~"&BW17,CODE39!$A$2:'CODE39'!$AB$45,12,FALSE)) | CH18: =IF(BW17="","",VLOOKUP("~"&BW17,CODE39!$A$2:'CODE39'!$AB$45,13,FALSE)) | CI18: =IF(BW17="","",VLOOKUP("~"&BW17,CODE39!$A$2:'CODE39'!$AB$45,14,FALSE)) | CJ18: =IF(BW17="","",VLOOKUP("~"&BW17,CODE39!$A$2:'CODE39'!$AB$45,15,FALSE)) | CK18: =IF(BW17="","",VLOOKUP("~"&BW17,CODE39!$A$2:'CODE39'!$AB$45,16,FALSE)) | CL18: =IF(BW17="","",VLOOKUP("~"&BW17,CODE39!$A$2:'CODE39'!$AB$45,17,FALSE)) | CM18: =IF(BW17="","",VLOOKUP("~"&BW17,CODE39!$A$2:'CODE39'!$AB$45,18,FALSE)) | CN18: =IF(BW17="","",VLOOKUP("~"&BW17,CODE39!$A$2:'CODE39'!$AB$45,19,FALSE)) | CO18: =IF(BW17="","",VLOOKUP("~"&BW17,CODE39!$A$2:'CODE39'!$AB$45,20,FALSE)) | CP18: =IF(BW17="","",VLOOKUP("~"&BW17,CODE39!$A$2:'CODE39'!$AB$45,21,FALSE)) | CQ18: =IF(BW17="","",VLOOKUP("~"&BW17,CODE39!$A$2:'CODE39'!$AB$45,22,FALSE)) | CR18: =IF(BW17="","",VLOOKUP("~"&BW17,CODE39!$A$2:'CODE39'!$AB$45,23,FALSE)) | CS18: =IF(BW17="","",VLOOKUP("~"&BW17,CODE39!$A$2:'CODE39'!$AB$45,24,FALSE)) | CT18: =IF(BW17="","",VLOOKUP("~"&BW17,CODE39!$A$2:'CODE39'!$AB$45,25,FALSE)) | CU18: =IF(BW17="","",VLOOKUP("~"&BW17,CODE39!$A$2:'CODE39'!$AB$45,26,FALSE)) | CV18: =IF(BW17="","",VLOOKUP("~"&BW17,CODE39!$A$2:'CODE39'!$AB$45,27,FALSE)) | CW18: =IF(BW17="","",VLOOKUP("~"&BW17,CODE39!$A$2:'CODE39'!$AB$45,28,FALSE)) | CY18: =IF(CY17="","",VLOOKUP("~"&CY17,CODE39!$A$2:'CODE39'!$AB$45,2,FALSE)) | CZ18: =IF(CY17="","",VLOOKUP("~"&CY17,CODE39!$A$2:'CODE39'!$AB$45,3,FALSE)) | DA18: =IF(CY17="","",VLOOKUP("~"&CY17,CODE39!$A$2:'CODE39'!$AB$45,4,FALSE)) | DB18: =IF(CY17="","",VLOOKUP("~"&CY17,CODE39!$A$2:'CODE39'!$AB$45,5,FALSE)) | DC18: =IF(CY17="","",VLOOKUP("~"&CY17,CODE39!$A$2:'CODE39'!$AB$45,6,FALSE)) | DD18: =IF(CY17="","",VLOOKUP("~"&CY17,CODE39!$A$2:'CODE39'!$AB$45,7,FALSE)) | DE18: =IF(CY17="","",VLOOKUP("~"&CY17,CODE39!$A$2:'CODE39'!$AB$45,8,FALSE)) | DF18: =IF(CY17="","",VLOOKUP("~"&CY17,CODE39!$A$2:'CODE39'!$AB$45,9,FALSE)) | DG18: =IF(CY17="","",VLOOKUP("~"&CY17,CODE39!$A$2:'CODE39'!$AB$45,10,FALSE)) | DH18: =IF(CY17="","",VLOOKUP("~"&CY17,CODE39!$A$2:'CODE39'!$AB$45,11,FALSE)) | DI18: =IF(CY17="","",VLOOKUP("~"&CY17,CODE39!$A$2:'CODE39'!$AB$45,12,FALSE)) | DJ18: =IF(CY17="","",VLOOKUP("~"&CY17,CODE39!$A$2:'CODE39'!$AB$45,13,FALSE)) | DK18: =IF(CY17="","",VLOOKUP("~"&CY17,CODE39!$A$2:'CODE39'!$AB$45,14,FALSE)) | DL18: =IF(CY17="","",VLOOKUP("~"&CY17,CODE39!$A$2:'CODE39'!$AB$45,15,FALSE)) | DM18: =IF(CY17="","",VLOOKUP("~"&CY17,CODE39!$A$2:'CODE39'!$AB$45,16,FALSE)) | DN18: =IF(CY17="","",VLOOKUP("~"&CY17,CODE39!$A$2:'CODE39'!$AB$45,17,FALSE)) | DO18: =IF(CY17="","",VLOOKUP("~"&CY17,CODE39!$A$2:'CODE39'!$AB$45,18,FALSE)) | DP18: =IF(CY17="","",VLOOKUP("~"&CY17,CODE39!$A$2:'CODE39'!$AB$45,19,FALSE)) | DQ18: =IF(CY17="","",VLOOKUP("~"&CY17,CODE39!$A$2:'CODE39'!$AB$45,20,FALSE)) | DR18: =IF(CY17="","",VLOOKUP("~"&CY17,CODE39!$A$2:'CODE39'!$AB$45,21,FALSE)) | DS18: =IF(CY17="","",VLOOKUP("~"&CY17,CODE39!$A$2:'CODE39'!$AB$45,22,FALSE)) | DT18: =IF(CY17="","",VLOOKUP("~"&CY17,CODE39!$A$2:'CODE39'!$AB$45,23,FALSE)) | DU18: =IF(CY17="","",VLOOKUP("~"&CY17,CODE39!$A$2:'CODE39'!$AB$45,24,FALSE)) | DV18: =IF(CY17="","",VLOOKUP("~"&CY17,CODE39!$A$2:'CODE39'!$AB$45,25,FALSE)) | DW18: =IF(CY17="","",VLOOKUP("~"&CY17,CODE39!$A$2:'CODE39'!$AB$45,26,FALSE)) | DX18: =IF(CY17="","",VLOOKUP("~"&CY17,CODE39!$A$2:'CODE39'!$AB$45,27,FALSE)) | DY18: =IF(CY17="","",VLOOKUP("~"&CY17,CODE39!$A$2:'CODE39'!$AB$45,28,FALSE)) | EA18: =IF(EA17="","",VLOOKUP("~"&EA17,CODE39!$A$2:'CODE39'!$AB$45,2,FALSE)) | EB18: =IF(EA17="","",VLOOKUP("~"&EA17,CODE39!$A$2:'CODE39'!$AB$45,3,FALSE)) | EC18: =IF(EA17="","",VLOOKUP("~"&EA17,CODE39!$A$2:'CODE39'!$AB$45,4,FALSE)) | ED18: =IF(EA17="","",VLOOKUP("~"&EA17,CODE39!$A$2:'CODE39'!$AB$45,5,FALSE)) | EE18: =IF(EA17="","",VLOOKUP("~"&EA17,CODE39!$A$2:'CODE39'!$AB$45,6,FALSE)) | EF18: =IF(EA17="","",VLOOKUP("~"&EA17,CODE39!$A$2:'CODE39'!$AB$45,7,FALSE)) | EG18: =IF(EA17="","",VLOOKUP("~"&EA17,CODE39!$A$2:'CODE39'!$AB$45,8,FALSE)) | EH18: =IF(EA17="","",VLOOKUP("~"&EA17,CODE39!$A$2:'CODE39'!$AB$45,9,FALSE)) | EI18: =IF(EA17="","",VLOOKUP("~"&EA17,CODE39!$A$2:'CODE39'!$AB$45,10,FALSE)) | EJ18: =IF(EA17="","",VLOOKUP("~"&EA17,CODE39!$A$2:'CODE39'!$AB$45,11,FALSE)) | EK18: =IF(EA17="","",VLOOKUP("~"&EA17,CODE39!$A$2:'CODE39'!$AB$45,12,FALSE)) | EL18: =IF(EA17="","",VLOOKUP("~"&EA17,CODE39!$A$2:'CODE39'!$AB$45,13,FALSE)) | EM18: =IF(EA17="","",VLOOKUP("~"&EA17,CODE39!$A$2:'CODE39'!$AB$45,14,FALSE)) | EN18: =IF(EA17="","",VLOOKUP("~"&EA17,CODE39!$A$2:'CODE39'!$AB$45,15,FALSE)) | EO18: =IF(EA17="","",VLOOKUP("~"&EA17,CODE39!$A$2:'CODE39'!$AB$45,16,FALSE)) | EP18: =IF(EA17="","",VLOOKUP("~"&EA17,CODE39!$A$2:'CODE39'!$AB$45,17,FALSE)) | EQ18: =IF(EA17="","",VLOOKUP("~"&EA17,CODE39!$A$2:'CODE39'!$AB$45,18,FALSE)) | ER18: =IF(EA17="","",VLOOKUP("~"&EA17,CODE39!$A$2:'CODE39'!$AB$45,19,FALSE)) | ES18: =IF(EA17="","",VLOOKUP("~"&EA17,CODE39!$A$2:'CODE39'!$AB$45,20,FALSE)) | ET18: =IF(EA17="","",VLOOKUP("~"&EA17,CODE39!$A$2:'CODE39'!$AB$45,21,FALSE)) | EU18: =IF(EA17="","",VLOOKUP("~"&EA17,CODE39!$A$2:'CODE39'!$AB$45,22,FALSE)) | EV18: =IF(EA17="","",VLOOKUP("~"&EA17,CODE39!$A$2:'CODE39'!$AB$45,23,FALSE)) | EW18: =IF(EA17="","",VLOOKUP("~"&EA17,CODE39!$A$2:'CODE39'!$AB$45,24,FALSE)) | EX18: =IF(EA17="","",VLOOKUP("~"&EA17,CODE39!$A$2:'CODE39'!$AB$45,25,FALSE)) | EY18: =IF(EA17="","",VLOOKUP("~"&EA17,CODE39!$A$2:'CODE39'!$AB$45,26,FALSE)) | EZ18: =IF(EA17="","",VLOOKUP("~"&EA17,CODE39!$A$2:'CODE39'!$AB$45,27,FALSE)) | FA18: =IF(EA17="","",VLOOKUP("~"&EA17,CODE39!$A$2:'CODE39'!$AB$45,28,FALSE)) | FC18: =IF(FC17="","",VLOOKUP("~"&FC17,CODE39!$A$2:'CODE39'!$AB$45,2,FALSE)) | FD18: =IF(FC17="","",VLOOKUP("~"&FC17,CODE39!$A$2:'CODE39'!$AB$45,3,FALSE)) | FE18: =IF(FC17="","",VLOOKUP("~"&FC17,CODE39!$A$2:'CODE39'!$AB$45,4,FALSE)) | FF18: =IF(FC17="","",VLOOKUP("~"&FC17,CODE39!$A$2:'CODE39'!$AB$45,5,FALSE)) | FG18: =IF(FC17="","",VLOOKUP("~"&FC17,CODE39!$A$2:'CODE39'!$AB$45,6,FALSE)) | FH18: =IF(FC17="","",VLOOKUP("~"&FC17,CODE39!$A$2:'CODE39'!$AB$45,7,FALSE)) | FI18: =IF(FC17="","",VLOOKUP("~"&FC17,CODE39!$A$2:'CODE39'!$AB$45,8,FALSE)) | FJ18: =IF(FC17="","",VLOOKUP("~"&FC17,CODE39!$A$2:'CODE39'!$AB$45,9,FALSE)) | FK18: =IF(FC17="","",VLOOKUP("~"&FC17,CODE39!$A$2:'CODE39'!$AB$45,10,FALSE)) | FL18: =IF(FC17="","",VLOOKUP("~"&FC17,CODE39!$A$2:'CODE39'!$AB$45,11,FALSE)) | FM18: =IF(FC17="","",VLOOKUP("~"&FC17,CODE39!$A$2:'CODE39'!$AB$45,12,FALSE)) | FN18: =IF(FC17="","",VLOOKUP("~"&FC17,CODE39!$A$2:'CODE39'!$AB$45,13,FALSE)) | FO18: =IF(FC17="","",VLOOKUP("~"&FC17,CODE39!$A$2:'CODE39'!$AB$45,14,FALSE)) | FP18: =IF(FC17="","",VLOOKUP("~"&FC17,CODE39!$A$2:'CODE39'!$AB$45,15,FALSE)) | FQ18: =IF(FC17="","",VLOOKUP("~"&FC17,CODE39!$A$2:'CODE39'!$AB$45,16,FALSE)) | FR18: =IF(FC17="","",VLOOKUP("~"&FC17,CODE39!$A$2:'CODE39'!$AB$45,17,FALSE)) | FS18: =IF(FC17="","",VLOOKUP("~"&FC17,CODE39!$A$2:'CODE39'!$AB$45,18,FALSE)) | FT18: =IF(FC17="","",VLOOKUP("~"&FC17,CODE39!$A$2:'CODE39'!$AB$45,19,FALSE)) | FU18: =IF(FC17="","",VLOOKUP("~"&FC17,CODE39!$A$2:'CODE39'!$AB$45,20,FALSE)) | FV18: =IF(FC17="","",VLOOKUP("~"&FC17,CODE39!$A$2:'CODE39'!$AB$45,21,FALSE)) | FW18: =IF(FC17="","",VLOOKUP("~"&FC17,CODE39!$A$2:'CODE39'!$AB$45,22,FALSE)) | FX18: =IF(FC17="","",VLOOKUP("~"&FC17,CODE39!$A$2:'CODE39'!$AB$45,23,FALSE)) | FY18: =IF(FC17="","",VLOOKUP("~"&FC17,CODE39!$A$2:'CODE39'!$AB$45,24,FALSE)) | FZ18: =IF(FC17="","",VLOOKUP("~"&FC17,CODE39!$A$2:'CODE39'!$AB$45,25,FALSE)) | GA18: =IF(FC17="","",VLOOKUP("~"&FC17,CODE39!$A$2:'CODE39'!$AB$45,26,FALSE)) | GB18: =IF(FC17="","",VLOOKUP("~"&FC17,CODE39!$A$2:'CODE39'!$AB$45,27,FALSE)) | GC18: =IF(FC17="","",VLOOKUP("~"&FC17,CODE39!$A$2:'CODE39'!$AB$45,28,FALSE)) | GE18: =IF(GE17="","",VLOOKUP("~"&GE17,CODE39!$A$2:'CODE39'!$AB$45,2,FALSE)) | GF18: =IF(GE17="","",VLOOKUP("~"&GE17,CODE39!$A$2:'CODE39'!$AB$45,3,FALSE)) | GG18: =IF(GE17="","",VLOOKUP("~"&GE17,CODE39!$A$2:'CODE39'!$AB$45,4,FALSE)) | GH18: =IF(GE17="","",VLOOKUP("~"&GE17,CODE39!$A$2:'CODE39'!$AB$45,5,FALSE)) | GI18: =IF(GE17="","",VLOOKUP("~"&GE17,CODE39!$A$2:'CODE39'!$AB$45,6,FALSE)) | GJ18: =IF(GE17="","",VLOOKUP("~"&GE17,CODE39!$A$2:'CODE39'!$AB$45,7,FALSE)) | GK18: =IF(GE17="","",VLOOKUP("~"&GE17,CODE39!$A$2:'CODE39'!$AB$45,8,FALSE)) | GL18: =IF(GE17="","",VLOOKUP("~"&GE17,CODE39!$A$2:'CODE39'!$AB$45,9,FALSE)) | GM18: =IF(GE17="","",VLOOKUP("~"&GE17,CODE39!$A$2:'CODE39'!$AB$45,10,FALSE)) | GN18: =IF(GE17="","",VLOOKUP("~"&GE17,CODE39!$A$2:'CODE39'!$AB$45,11,FALSE)) | GO18: =IF(GE17="","",VLOOKUP("~"&GE17,CODE39!$A$2:'CODE39'!$AB$45,12,FALSE)) | GP18: =IF(GE17="","",VLOOKUP("~"&GE17,CODE39!$A$2:'CODE39'!$AB$45,13,FALSE)) | GQ18: =IF(GE17="","",VLOOKUP("~"&GE17,CODE39!$A$2:'CODE39'!$AB$45,14,FALSE)) | GR18: =IF(GE17="","",VLOOKUP("~"&GE17,CODE39!$A$2:'CODE39'!$AB$45,15,FALSE)) | GS18: =IF(GE17="","",VLOOKUP("~"&GE17,CODE39!$A$2:'CODE39'!$AB$45,16,FALSE)) | GT18: =IF(GE17="","",VLOOKUP("~"&GE17,CODE39!$A$2:'CODE39'!$AB$45,17,FALSE)) | GU18: =IF(GE17="","",VLOOKUP("~"&GE17,CODE39!$A$2:'CODE39'!$AB$45,18,FALSE)) | GV18: =IF(GE17="","",VLOOKUP("~"&GE17,CODE39!$A$2:'CODE39'!$AB$45,19,FALSE)) | GW18: =IF(GE17="","",VLOOKUP("~"&GE17,CODE39!$A$2:'CODE39'!$AB$45,20,FALSE)) | GX18: =IF(GE17="","",VLOOKUP("~"&GE17,CODE39!$A$2:'CODE39'!$AB$45,21,FALSE)) | GY18: =IF(GE17="","",VLOOKUP("~"&GE17,CODE39!$A$2:'CODE39'!$AB$45,22,FALSE)) | GZ18: =IF(GE17="","",VLOOKUP("~"&GE17,CODE39!$A$2:'CODE39'!$AB$45,23,FALSE)) | HA18: =IF(GE17="","",VLOOKUP("~"&GE17,CODE39!$A$2:'CODE39'!$AB$45,24,FALSE)) | HB18: =IF(GE17="","",VLOOKUP("~"&GE17,CODE39!$A$2:'CODE39'!$AB$45,25,FALSE)) | HC18: =IF(GE17="","",VLOOKUP("~"&GE17,CODE39!$A$2:'CODE39'!$AB$45,26,FALSE)) | HD18: =IF(GE17="","",VLOOKUP("~"&GE17,CODE39!$A$2:'CODE39'!$AB$45,27,FALSE)) | HE18: =IF(GE17="","",VLOOKUP("~"&GE17,CODE39!$A$2:'CODE39'!$AB$45,28,FALSE)) | HG18: =IF(HG17="","",VLOOKUP("~"&HG17,CODE39!$A$2:'CODE39'!$AB$45,2,FALSE)) | HH18: =IF(HG17="","",VLOOKUP("~"&HG17,CODE39!$A$2:'CODE39'!$AB$45,3,FALSE)) | HI18: =IF(HG17="","",VLOOKUP("~"&HG17,CODE39!$A$2:'CODE39'!$AB$45,4,FALSE)) | HJ18: =IF(HG17="","",VLOOKUP("~"&HG17,CODE39!$A$2:'CODE39'!$AB$45,5,FALSE)) | HK18: =IF(HG17="","",VLOOKUP("~"&HG17,CODE39!$A$2:'CODE39'!$AB$45,6,FALSE)) | HL18: =IF(HG17="","",VLOOKUP("~"&HG17,CODE39!$A$2:'CODE39'!$AB$45,7,FALSE)) | HM18: =IF(HG17="","",VLOOKUP("~"&HG17,CODE39!$A$2:'CODE39'!$AB$45,8,FALSE)) | HN18: =IF(HG17="","",VLOOKUP("~"&HG17,CODE39!$A$2:'CODE39'!$AB$45,9,FALSE)) | HO18: =IF(HG17="","",VLOOKUP("~"&HG17,CODE39!$A$2:'CODE39'!$AB$45,10,FALSE)) | HP18: =IF(HG17="","",VLOOKUP("~"&HG17,CODE39!$A$2:'CODE39'!$AB$45,11,FALSE)) | HQ18: =IF(HG17="","",VLOOKUP("~"&HG17,CODE39!$A$2:'CODE39'!$AB$45,12,FALSE)) | HR18: =IF(HG17="","",VLOOKUP("~"&HG17,CODE39!$A$2:'CODE39'!$AB$45,13,FALSE)) | HS18: =IF(HG17="","",VLOOKUP("~"&HG17,CODE39!$A$2:'CODE39'!$AB$45,14,FALSE)) | HT18: =IF(HG17="","",VLOOKUP("~"&HG17,CODE39!$A$2:'CODE39'!$AB$45,15,FALSE)) | HU18: =IF(HG17="","",VLOOKUP("~"&HG17,CODE39!$A$2:'CODE39'!$AB$45,16,FALSE)) | HV18: =IF(HG17="","",VLOOKUP("~"&HG17,CODE39!$A$2:'CODE39'!$AB$45,17,FALSE)) | HW18: =IF(HG17="","",VLOOKUP("~"&HG17,CODE39!$A$2:'CODE39'!$AB$45,18,FALSE)) | HX18: =IF(HG17="","",VLOOKUP("~"&HG17,CODE39!$A$2:'CODE39'!$AB$45,19,FALSE)) | HY18: =IF(HG17="","",VLOOKUP("~"&HG17,CODE39!$A$2:'CODE39'!$AB$45,20,FALSE)) | HZ18: =IF(HG17="","",VLOOKUP("~"&HG17,CODE39!$A$2:'CODE39'!$AB$45,21,FALSE)) | IA18: =IF(HG17="","",VLOOKUP("~"&HG17,CODE39!$A$2:'CODE39'!$AB$45,22,FALSE)) | IB18: =IF(HG17="","",VLOOKUP("~"&HG17,CODE39!$A$2:'CODE39'!$AB$45,23,FALSE)) | IC18: =IF(HG17="","",VLOOKUP("~"&HG17,CODE39!$A$2:'CODE39'!$AB$45,24,FALSE)) | ID18: =IF(HG17="","",VLOOKUP("~"&HG17,CODE39!$A$2:'CODE39'!$AB$45,25,FALSE)) | IE18: =IF(HG17="","",VLOOKUP("~"&HG17,CODE39!$A$2:'CODE39'!$AB$45,26,FALSE)) | IF18: =IF(HG17="","",VLOOKUP("~"&HG17,CODE39!$A$2:'CODE39'!$AB$45,27,FALSE)) | IG18: =IF(HG17="","",VLOOKUP("~"&HG17,CODE39!$A$2:'CODE39'!$AB$45,28,FALSE))
A19: 下位８バイト
A20: 先頭からの桁数 | S20: 9 | AU20: 10 | BW20: 11 | CY20: 12 | EA20: 13 | FC20: 14 | GE20: 15 | HG20: 16
A21: その桁の文字 | S21: =MID(B14,S20,1) | AU21: =MID(B14,AU20,1) | BW21: =MID(B14,BW20,1) | CY21: =MID(B14,CY20,1) | EA21: =MID(B14,EA20,1) | FC21: =MID(B14,FC20,1) | GE21: =MID(B14,GE20,1) | HG21: =MID(B14,HG20,1)
A22: バーコード | S22: =IF(S21="","",VLOOKUP("~"&S21,CODE39!$A$2:'CODE39'!$AB$45,2,FALSE)) | T22: =IF(S21="","",VLOOKUP("~"&S21,CODE39!$A$2:'CODE39'!$AB$45,3,FALSE)) | U22: =IF(S21="","",VLOOKUP("~"&S21,CODE39!$A$2:'CODE39'!$AB$45,4,FALSE)) | V22: =IF(S21="","",VLOOKUP("~"&S21,CODE39!$A$2:'CODE39'!$AB$45,5,FALSE)) | W22: =IF(S21="","",VLOOKUP("~"&S21,CODE39!$A$2:'CODE39'!$AB$45,6,FALSE)) | X22: =IF(S21="","",VLOOKUP("~"&S21,CODE39!$A$2:'CODE39'!$AB$45,7,FALSE)) | Y22: =IF(S21="","",VLOOKUP("~"&S21,CODE39!$A$2:'CODE39'!$AB$45,8,FALSE)) | Z22: =IF(S21="","",VLOOKUP("~"&S21,CODE39!$A$2:'CODE39'!$AB$45,9,FALSE)) | AA22: =IF(S21="","",VLOOKUP("~"&S21,CODE39!$A$2:'CODE39'!$AB$45,10,FALSE)) | AB22: =IF(S21="","",VLOOKUP("~"&S21,CODE39!$A$2:'CODE39'!$AB$45,11,FALSE)) | AC22: =IF(S21="","",VLOOKUP("~"&S21,CODE39!$A$2:'CODE39'!$AB$45,12,FALSE)) | AD22: =IF(S21="","",VLOOKUP("~"&S21,CODE39!$A$2:'CODE39'!$AB$45,13,FALSE)) | AE22: =IF(S21="","",VLOOKUP("~"&S21,CODE39!$A$2:'CODE39'!$AB$45,14,FALSE)) | AF22: =IF(S21="","",VLOOKUP("~"&S21,CODE39!$A$2:'CODE39'!$AB$45,15,FALSE)) | AG22: =IF(S21="","",VLOOKUP("~"&S21,CODE39!$A$2:'CODE39'!$AB$45,16,FALSE)) | AH22: =IF(S21="","",VLOOKUP("~"&S21,CODE39!$A$2:'CODE39'!$AB$45,17,FALSE)) | AI22: =IF(S21="","",VLOOKUP("~"&S21,CODE39!$A$2:'CODE39'!$AB$45,18,FALSE)) | AJ22: =IF(S21="","",VLOOKUP("~"&S21,CODE39!$A$2:'CODE39'!$AB$45,19,FALSE)) | AK22: =IF(S21="","",VLOOKUP("~"&S21,CODE39!$A$2:'CODE39'!$AB$45,20,FALSE)) | AL22: =IF(S21="","",VLOOKUP("~"&S21,CODE39!$A$2:'CODE39'!$AB$45,21,FALSE)) | AM22: =IF(S21="","",VLOOKUP("~"&S21,CODE39!$A$2:'CODE39'!$AB$45,22,FALSE)) | AN22: =IF(S21="","",VLOOKUP("~"&S21,CODE39!$A$2:'CODE39'!$AB$45,23,FALSE)) | AO22: =IF(S21="","",VLOOKUP("~"&S21,CODE39!$A$2:'CODE39'!$AB$45,24,FALSE)) | AP22: =IF(S21="","",VLOOKUP("~"&S21,CODE39!$A$2:'CODE39'!$AB$45,25,FALSE)) | AQ22: =IF(S21="","",VLOOKUP("~"&S21,CODE39!$A$2:'CODE39'!$AB$45,26,FALSE)) | AR22: =IF(S21="","",VLOOKUP("~"&S21,CODE39!$A$2:'CODE39'!$AB$45,27,FALSE)) | AS22: =IF(S21="","",VLOOKUP("~"&S21,CODE39!$A$2:'CODE39'!$AB$45,28,FALSE)) | AU22: =IF(AU21="","",VLOOKUP("~"&AU21,CODE39!$A$2:'CODE39'!$AB$45,2,FALSE)) | AV22: =IF(AU21="","",VLOOKUP("~"&AU21,CODE39!$A$2:'CODE39'!$AB$45,3,FALSE)) | AW22: =IF(AU21="","",VLOOKUP("~"&AU21,CODE39!$A$2:'CODE39'!$AB$45,4,FALSE)) | AX22: =IF(AU21="","",VLOOKUP("~"&AU21,CODE39!$A$2:'CODE39'!$AB$45,5,FALSE)) | AY22: =IF(AU21="","",VLOOKUP("~"&AU21,CODE39!$A$2:'CODE39'!$AB$45,6,FALSE)) | AZ22: =IF(AU21="","",VLOOKUP("~"&AU21,CODE39!$A$2:'CODE39'!$AB$45,7,FALSE)) | BA22: =IF(AU21="","",VLOOKUP("~"&AU21,CODE39!$A$2:'CODE39'!$AB$45,8,FALSE)) | BB22: =IF(AU21="","",VLOOKUP("~"&AU21,CODE39!$A$2:'CODE39'!$AB$45,9,FALSE)) | BC22: =IF(AU21="","",VLOOKUP("~"&AU21,CODE39!$A$2:'CODE39'!$AB$45,10,FALSE)) | BD22: =IF(AU21="","",VLOOKUP("~"&AU21,CODE39!$A$2:'CODE39'!$AB$45,11,FALSE)) | BE22: =IF(AU21="","",VLOOKUP("~"&AU21,CODE39!$A$2:'CODE39'!$AB$45,12,FALSE)) | BF22: =IF(AU21="","",VLOOKUP("~"&AU21,CODE39!$A$2:'CODE39'!$AB$45,13,FALSE)) | BG22: =IF(AU21="","",VLOOKUP("~"&AU21,CODE39!$A$2:'CODE39'!$AB$45,14,FALSE)) | BH22: =IF(AU21="","",VLOOKUP("~"&AU21,CODE39!$A$2:'CODE39'!$AB$45,15,FALSE)) | BI22: =IF(AU21="","",VLOOKUP("~"&AU21,CODE39!$A$2:'CODE39'!$AB$45,16,FALSE)) | BJ22: =IF(AU21="","",VLOOKUP("~"&AU21,CODE39!$A$2:'CODE39'!$AB$45,17,FALSE)) | BK22: =IF(AU21="","",VLOOKUP("~"&AU21,CODE39!$A$2:'CODE39'!$AB$45,18,FALSE)) | BL22: =IF(AU21="","",VLOOKUP("~"&AU21,CODE39!$A$2:'CODE39'!$AB$45,19,FALSE)) | BM22: =IF(AU21="","",VLOOKUP("~"&AU21,CODE39!$A$2:'CODE39'!$AB$45,20,FALSE)) | BN22: =IF(AU21="","",VLOOKUP("~"&AU21,CODE39!$A$2:'CODE39'!$AB$45,21,FALSE)) | BO22: =IF(AU21="","",VLOOKUP("~"&AU21,CODE39!$A$2:'CODE39'!$AB$45,22,FALSE)) | BP22: =IF(AU21="","",VLOOKUP("~"&AU21,CODE39!$A$2:'CODE39'!$AB$45,23,FALSE)) | BQ22: =IF(AU21="","",VLOOKUP("~"&AU21,CODE39!$A$2:'CODE39'!$AB$45,24,FALSE)) | BR22: =IF(AU21="","",VLOOKUP("~"&AU21,CODE39!$A$2:'CODE39'!$AB$45,25,FALSE)) | BS22: =IF(AU21="","",VLOOKUP("~"&AU21,CODE39!$A$2:'CODE39'!$AB$45,26,FALSE)) | BT22: =IF(AU21="","",VLOOKUP("~"&AU21,CODE39!$A$2:'CODE39'!$AB$45,27,FALSE)) | BU22: =IF(AU21="","",VLOOKUP("~"&AU21,CODE39!$A$2:'CODE39'!$AB$45,28,FALSE)) | BW22: =IF(BW21="","",VLOOKUP("~"&BW21,CODE39!$A$2:'CODE39'!$AB$45,2,FALSE)) | BX22: =IF(BW21="","",VLOOKUP("~"&BW21,CODE39!$A$2:'CODE39'!$AB$45,3,FALSE)) | BY22: =IF(BW21="","",VLOOKUP("~"&BW21,CODE39!$A$2:'CODE39'!$AB$45,4,FALSE)) | BZ22: =IF(BW21="","",VLOOKUP("~"&BW21,CODE39!$A$2:'CODE39'!$AB$45,5,FALSE)) | CA22: =IF(BW21="","",VLOOKUP("~"&BW21,CODE39!$A$2:'CODE39'!$AB$45,6,FALSE)) | CB22: =IF(BW21="","",VLOOKUP("~"&BW21,CODE39!$A$2:'CODE39'!$AB$45,7,FALSE)) | CC22: =IF(BW21="","",VLOOKUP("~"&BW21,CODE39!$A$2:'CODE39'!$AB$45,8,FALSE)) | CD22: =IF(BW21="","",VLOOKUP("~"&BW21,CODE39!$A$2:'CODE39'!$AB$45,9,FALSE)) | CE22: =IF(BW21="","",VLOOKUP("~"&BW21,CODE39!$A$2:'CODE39'!$AB$45,10,FALSE)) | CF22: =IF(BW21="","",VLOOKUP("~"&BW21,CODE39!$A$2:'CODE39'!$AB$45,11,FALSE)) | CG22: =IF(BW21="","",VLOOKUP("~"&BW21,CODE39!$A$2:'CODE39'!$AB$45,12,FALSE)) | CH22: =IF(BW21="","",VLOOKUP("~"&BW21,CODE39!$A$2:'CODE39'!$AB$45,13,FALSE)) | CI22: =IF(BW21="","",VLOOKUP("~"&BW21,CODE39!$A$2:'CODE39'!$AB$45,14,FALSE)) | CJ22: =IF(BW21="","",VLOOKUP("~"&BW21,CODE39!$A$2:'CODE39'!$AB$45,15,FALSE)) | CK22: =IF(BW21="","",VLOOKUP("~"&BW21,CODE39!$A$2:'CODE39'!$AB$45,16,FALSE)) | CL22: =IF(BW21="","",VLOOKUP("~"&BW21,CODE39!$A$2:'CODE39'!$AB$45,17,FALSE)) | CM22: =IF(BW21="","",VLOOKUP("~"&BW21,CODE39!$A$2:'CODE39'!$AB$45,18,FALSE)) | CN22: =IF(BW21="","",VLOOKUP("~"&BW21,CODE39!$A$2:'CODE39'!$AB$45,19,FALSE)) | CO22: =IF(BW21="","",VLOOKUP("~"&BW21,CODE39!$A$2:'CODE39'!$AB$45,20,FALSE)) | CP22: =IF(BW21="","",VLOOKUP("~"&BW21,CODE39!$A$2:'CODE39'!$AB$45,21,FALSE)) | CQ22: =IF(BW21="","",VLOOKUP("~"&BW21,CODE39!$A$2:'CODE39'!$AB$45,22,FALSE)) | CR22: =IF(BW21="","",VLOOKUP("~"&BW21,CODE39!$A$2:'CODE39'!$AB$45,23,FALSE)) | CS22: =IF(BW21="","",VLOOKUP("~"&BW21,CODE39!$A$2:'CODE39'!$AB$45,24,FALSE)) | CT22: =IF(BW21="","",VLOOKUP("~"&BW21,CODE39!$A$2:'CODE39'!$AB$45,25,FALSE)) | CU22: =IF(BW21="","",VLOOKUP("~"&BW21,CODE39!$A$2:'CODE39'!$AB$45,26,FALSE)) | CV22: =IF(BW21="","",VLOOKUP("~"&BW21,CODE39!$A$2:'CODE39'!$AB$45,27,FALSE)) | CW22: =IF(BW21="","",VLOOKUP("~"&BW21,CODE39!$A$2:'CODE39'!$AB$45,28,FALSE)) | CY22: =IF(CY21="","",VLOOKUP("~"&CY21,CODE39!$A$2:'CODE39'!$AB$45,2,FALSE)) | CZ22: =IF(CY21="","",VLOOKUP("~"&CY21,CODE39!$A$2:'CODE39'!$AB$45,3,FALSE)) | DA22: =IF(CY21="","",VLOOKUP("~"&CY21,CODE39!$A$2:'CODE39'!$AB$45,4,FALSE)) | DB22: =IF(CY21="","",VLOOKUP("~"&CY21,CODE39!$A$2:'CODE39'!$AB$45,5,FALSE)) | DC22: =IF(CY21="","",VLOOKUP("~"&CY21,CODE39!$A$2:'CODE39'!$AB$45,6,FALSE)) | DD22: =IF(CY21="","",VLOOKUP("~"&CY21,CODE39!$A$2:'CODE39'!$AB$45,7,FALSE)) | DE22: =IF(CY21="","",VLOOKUP("~"&CY21,CODE39!$A$2:'CODE39'!$AB$45,8,FALSE)) | DF22: =IF(CY21="","",VLOOKUP("~"&CY21,CODE39!$A$2:'CODE39'!$AB$45,9,FALSE)) | DG22: =IF(CY21="","",VLOOKUP("~"&CY21,CODE39!$A$2:'CODE39'!$AB$45,10,FALSE)) | DH22: =IF(CY21="","",VLOOKUP("~"&CY21,CODE39!$A$2:'CODE39'!$AB$45,11,FALSE)) | DI22: =IF(CY21="","",VLOOKUP("~"&CY21,CODE39!$A$2:'CODE39'!$AB$45,12,FALSE)) | DJ22: =IF(CY21="","",VLOOKUP("~"&CY21,CODE39!$A$2:'CODE39'!$AB$45,13,FALSE)) | DK22: =IF(CY21="","",VLOOKUP("~"&CY21,CODE39!$A$2:'CODE39'!$AB$45,14,FALSE)) | DL22: =IF(CY21="","",VLOOKUP("~"&CY21,CODE39!$A$2:'CODE39'!$AB$45,15,FALSE)) | DM22: =IF(CY21="","",VLOOKUP("~"&CY21,CODE39!$A$2:'CODE39'!$AB$45,16,FALSE)) | DN22: =IF(CY21="","",VLOOKUP("~"&CY21,CODE39!$A$2:'CODE39'!$AB$45,17,FALSE)) | DO22: =IF(CY21="","",VLOOKUP("~"&CY21,CODE39!$A$2:'CODE39'!$AB$45,18,FALSE)) | DP22: =IF(CY21="","",VLOOKUP("~"&CY21,CODE39!$A$2:'CODE39'!$AB$45,19,FALSE)) | DQ22: =IF(CY21="","",VLOOKUP("~"&CY21,CODE39!$A$2:'CODE39'!$AB$45,20,FALSE)) | DR22: =IF(CY21="","",VLOOKUP("~"&CY21,CODE39!$A$2:'CODE39'!$AB$45,21,FALSE)) | DS22: =IF(CY21="","",VLOOKUP("~"&CY21,CODE39!$A$2:'CODE39'!$AB$45,22,FALSE)) | DT22: =IF(CY21="","",VLOOKUP("~"&CY21,CODE39!$A$2:'CODE39'!$AB$45,23,FALSE)) | DU22: =IF(CY21="","",VLOOKUP("~"&CY21,CODE39!$A$2:'CODE39'!$AB$45,24,FALSE)) | DV22: =IF(CY21="","",VLOOKUP("~"&CY21,CODE39!$A$2:'CODE39'!$AB$45,25,FALSE)) | DW22: =IF(CY21="","",VLOOKUP("~"&CY21,CODE39!$A$2:'CODE39'!$AB$45,26,FALSE)) | DX22: =IF(CY21="","",VLOOKUP("~"&CY21,CODE39!$A$2:'CODE39'!$AB$45,27,FALSE)) | DY22: =IF(CY21="","",VLOOKUP("~"&CY21,CODE39!$A$2:'CODE39'!$AB$45,28,FALSE)) | EA22: =IF(EA21="","",VLOOKUP("~"&EA21,CODE39!$A$2:'CODE39'!$AB$45,2,FALSE)) | EB22: =IF(EA21="","",VLOOKUP("~"&EA21,CODE39!$A$2:'CODE39'!$AB$45,3,FALSE)) | EC22: =IF(EA21="","",VLOOKUP("~"&EA21,CODE39!$A$2:'CODE39'!$AB$45,4,FALSE)) | ED22: =IF(EA21="","",VLOOKUP("~"&EA21,CODE39!$A$2:'CODE39'!$AB$45,5,FALSE)) | EE22: =IF(EA21="","",VLOOKUP("~"&EA21,CODE39!$A$2:'CODE39'!$AB$45,6,FALSE)) | EF22: =IF(EA21="","",VLOOKUP("~"&EA21,CODE39!$A$2:'CODE39'!$AB$45,7,FALSE)) | EG22: =IF(EA21="","",VLOOKUP("~"&EA21,CODE39!$A$2:'CODE39'!$AB$45,8,FALSE)) | EH22: =IF(EA21="","",VLOOKUP("~"&EA21,CODE39!$A$2:'CODE39'!$AB$45,9,FALSE)) | EI22: =IF(EA21="","",VLOOKUP("~"&EA21,CODE39!$A$2:'CODE39'!$AB$45,10,FALSE)) | EJ22: =IF(EA21="","",VLOOKUP("~"&EA21,CODE39!$A$2:'CODE39'!$AB$45,11,FALSE)) | EK22: =IF(EA21="","",VLOOKUP("~"&EA21,CODE39!$A$2:'CODE39'!$AB$45,12,FALSE)) | EL22: =IF(EA21="","",VLOOKUP("~"&EA21,CODE39!$A$2:'CODE39'!$AB$45,13,FALSE)) | EM22: =IF(EA21="","",VLOOKUP("~"&EA21,CODE39!$A$2:'CODE39'!$AB$45,14,FALSE)) | EN22: =IF(EA21="","",VLOOKUP("~"&EA21,CODE39!$A$2:'CODE39'!$AB$45,15,FALSE)) | EO22: =IF(EA21="","",VLOOKUP("~"&EA21,CODE39!$A$2:'CODE39'!$AB$45,16,FALSE)) | EP22: =IF(EA21="","",VLOOKUP("~"&EA21,CODE39!$A$2:'CODE39'!$AB$45,17,FALSE)) | EQ22: =IF(EA21="","",VLOOKUP("~"&EA21,CODE39!$A$2:'CODE39'!$AB$45,18,FALSE)) | ER22: =IF(EA21="","",VLOOKUP("~"&EA21,CODE39!$A$2:'CODE39'!$AB$45,19,FALSE)) | ES22: =IF(EA21="","",VLOOKUP("~"&EA21,CODE39!$A$2:'CODE39'!$AB$45,20,FALSE)) | ET22: =IF(EA21="","",VLOOKUP("~"&EA21,CODE39!$A$2:'CODE39'!$AB$45,21,FALSE)) | EU22: =IF(EA21="","",VLOOKUP("~"&EA21,CODE39!$A$2:'CODE39'!$AB$45,22,FALSE)) | EV22: =IF(EA21="","",VLOOKUP("~"&EA21,CODE39!$A$2:'CODE39'!$AB$45,23,FALSE)) | EW22: =IF(EA21="","",VLOOKUP("~"&EA21,CODE39!$A$2:'CODE39'!$AB$45,24,FALSE)) | EX22: =IF(EA21="","",VLOOKUP("~"&EA21,CODE39!$A$2:'CODE39'!$AB$45,25,FALSE)) | EY22: =IF(EA21="","",VLOOKUP("~"&EA21,CODE39!$A$2:'CODE39'!$AB$45,26,FALSE)) | EZ22: =IF(EA21="","",VLOOKUP("~"&EA21,CODE39!$A$2:'CODE39'!$AB$45,27,FALSE)) | FA22: =IF(EA21="","",VLOOKUP("~"&EA21,CODE39!$A$2:'CODE39'!$AB$45,28,FALSE)) | FC22: =IF(FC21="","",VLOOKUP("~"&FC21,CODE39!$A$2:'CODE39'!$AB$45,2,FALSE)) | FD22: =IF(FC21="","",VLOOKUP("~"&FC21,CODE39!$A$2:'CODE39'!$AB$45,3,FALSE)) | FE22: =IF(FC21="","",VLOOKUP("~"&FC21,CODE39!$A$2:'CODE39'!$AB$45,4,FALSE)) | FF22: =IF(FC21="","",VLOOKUP("~"&FC21,CODE39!$A$2:'CODE39'!$AB$45,5,FALSE)) | FG22: =IF(FC21="","",VLOOKUP("~"&FC21,CODE39!$A$2:'CODE39'!$AB$45,6,FALSE)) | FH22: =IF(FC21="","",VLOOKUP("~"&FC21,CODE39!$A$2:'CODE39'!$AB$45,7,FALSE)) | FI22: =IF(FC21="","",VLOOKUP("~"&FC21,CODE39!$A$2:'CODE39'!$AB$45,8,FALSE)) | FJ22: =IF(FC21="","",VLOOKUP("~"&FC21,CODE39!$A$2:'CODE39'!$AB$45,9,FALSE)) | FK22: =IF(FC21="","",VLOOKUP("~"&FC21,CODE39!$A$2:'CODE39'!$AB$45,10,FALSE)) | FL22: =IF(FC21="","",VLOOKUP("~"&FC21,CODE39!$A$2:'CODE39'!$AB$45,11,FALSE)) | FM22: =IF(FC21="","",VLOOKUP("~"&FC21,CODE39!$A$2:'CODE39'!$AB$45,12,FALSE)) | FN22: =IF(FC21="","",VLOOKUP("~"&FC21,CODE39!$A$2:'CODE39'!$AB$45,13,FALSE)) | FO22: =IF(FC21="","",VLOOKUP("~"&FC21,CODE39!$A$2:'CODE39'!$AB$45,14,FALSE)) | FP22: =IF(FC21="","",VLOOKUP("~"&FC21,CODE39!$A$2:'CODE39'!$AB$45,15,FALSE)) | FQ22: =IF(FC21="","",VLOOKUP("~"&FC21,CODE39!$A$2:'CODE39'!$AB$45,16,FALSE)) | FR22: =IF(FC21="","",VLOOKUP("~"&FC21,CODE39!$A$2:'CODE39'!$AB$45,17,FALSE)) | FS22: =IF(FC21="","",VLOOKUP("~"&FC21,CODE39!$A$2:'CODE39'!$AB$45,18,FALSE)) | FT22: =IF(FC21="","",VLOOKUP("~"&FC21,CODE39!$A$2:'CODE39'!$AB$45,19,FALSE)) | FU22: =IF(FC21="","",VLOOKUP("~"&FC21,CODE39!$A$2:'CODE39'!$AB$45,20,FALSE)) | FV22: =IF(FC21="","",VLOOKUP("~"&FC21,CODE39!$A$2:'CODE39'!$AB$45,21,FALSE)) | FW22: =IF(FC21="","",VLOOKUP("~"&FC21,CODE39!$A$2:'CODE39'!$AB$45,22,FALSE)) | FX22: =IF(FC21="","",VLOOKUP("~"&FC21,CODE39!$A$2:'CODE39'!$AB$45,23,FALSE)) | FY22: =IF(FC21="","",VLOOKUP("~"&FC21,CODE39!$A$2:'CODE39'!$AB$45,24,FALSE)) | FZ22: =IF(FC21="","",VLOOKUP("~"&FC21,CODE39!$A$2:'CODE39'!$AB$45,25,FALSE)) | GA22: =IF(FC21="","",VLOOKUP("~"&FC21,CODE39!$A$2:'CODE39'!$AB$45,26,FALSE)) | GB22: =IF(FC21="","",VLOOKUP("~"&FC21,CODE39!$A$2:'CODE39'!$AB$45,27,FALSE)) | GC22: =IF(FC21="","",VLOOKUP("~"&FC21,CODE39!$A$2:'CODE39'!$AB$45,28,FALSE)) | GE22: =IF(GE21="","",VLOOKUP("~"&GE21,CODE39!$A$2:'CODE39'!$AB$45,2,FALSE)) | GF22: =IF(GE21="","",VLOOKUP("~"&GE21,CODE39!$A$2:'CODE39'!$AB$45,3,FALSE)) | GG22: =IF(GE21="","",VLOOKUP("~"&GE21,CODE39!$A$2:'CODE39'!$AB$45,4,FALSE)) | GH22: =IF(GE21="","",VLOOKUP("~"&GE21,CODE39!$A$2:'CODE39'!$AB$45,5,FALSE)) | GI22: =IF(GE21="","",VLOOKUP("~"&GE21,CODE39!$A$2:'CODE39'!$AB$45,6,FALSE)) | GJ22: =IF(GE21="","",VLOOKUP("~"&GE21,CODE39!$A$2:'CODE39'!$AB$45,7,FALSE)) | GK22: =IF(GE21="","",VLOOKUP("~"&GE21,CODE39!$A$2:'CODE39'!$AB$45,8,FALSE)) | GL22: =IF(GE21="","",VLOOKUP("~"&GE21,CODE39!$A$2:'CODE39'!$AB$45,9,FALSE)) | GM22: =IF(GE21="","",VLOOKUP("~"&GE21,CODE39!$A$2:'CODE39'!$AB$45,10,FALSE)) | GN22: =IF(GE21="","",VLOOKUP("~"&GE21,CODE39!$A$2:'CODE39'!$AB$45,11,FALSE)) | GO22: =IF(GE21="","",VLOOKUP("~"&GE21,CODE39!$A$2:'CODE39'!$AB$45,12,FALSE)) | GP22: =IF(GE21="","",VLOOKUP("~"&GE21,CODE39!$A$2:'CODE39'!$AB$45,13,FALSE)) | GQ22: =IF(GE21="","",VLOOKUP("~"&GE21,CODE39!$A$2:'CODE39'!$AB$45,14,FALSE)) | GR22: =IF(GE21="","",VLOOKUP("~"&GE21,CODE39!$A$2:'CODE39'!$AB$45,15,FALSE)) | GS22: =IF(GE21="","",VLOOKUP("~"&GE21,CODE39!$A$2:'CODE39'!$AB$45,16,FALSE)) | GT22: =IF(GE21="","",VLOOKUP("~"&GE21,CODE39!$A$2:'CODE39'!$AB$45,17,FALSE)) | GU22: =IF(GE21="","",VLOOKUP("~"&GE21,CODE39!$A$2:'CODE39'!$AB$45,18,FALSE)) | GV22: =IF(GE21="","",VLOOKUP("~"&GE21,CODE39!$A$2:'CODE39'!$AB$45,19,FALSE)) | GW22: =IF(GE21="","",VLOOKUP("~"&GE21,CODE39!$A$2:'CODE39'!$AB$45,20,FALSE)) | GX22: =IF(GE21="","",VLOOKUP("~"&GE21,CODE39!$A$2:'CODE39'!$AB$45,21,FALSE)) | GY22: =IF(GE21="","",VLOOKUP("~"&GE21,CODE39!$A$2:'CODE39'!$AB$45,22,FALSE)) | GZ22: =IF(GE21="","",VLOOKUP("~"&GE21,CODE39!$A$2:'CODE39'!$AB$45,23,FALSE)) | HA22: =IF(GE21="","",VLOOKUP("~"&GE21,CODE39!$A$2:'CODE39'!$AB$45,24,FALSE)) | HB22: =IF(GE21="","",VLOOKUP("~"&GE21,CODE39!$A$2:'CODE39'!$AB$45,25,FALSE)) | HC22: =IF(GE21="","",VLOOKUP("~"&GE21,CODE39!$A$2:'CODE39'!$AB$45,26,FALSE)) | HD22: =IF(GE21="","",VLOOKUP("~"&GE21,CODE39!$A$2:'CODE39'!$AB$45,27,FALSE)) | HE22: =IF(GE21="","",VLOOKUP("~"&GE21,CODE39!$A$2:'CODE39'!$AB$45,28,FALSE)) | HG22: =IF(HG21="","",VLOOKUP("~"&HG21,CODE39!$A$2:'CODE39'!$AB$45,2,FALSE)) | HH22: =IF(HG21="","",VLOOKUP("~"&HG21,CODE39!$A$2:'CODE39'!$AB$45,3,FALSE)) | HI22: =IF(HG21="","",VLOOKUP("~"&HG21,CODE39!$A$2:'CODE39'!$AB$45,4,FALSE)) | HJ22: =IF(HG21="","",VLOOKUP("~"&HG21,CODE39!$A$2:'CODE39'!$AB$45,5,FALSE)) | HK22: =IF(HG21="","",VLOOKUP("~"&HG21,CODE39!$A$2:'CODE39'!$AB$45,6,FALSE)) | HL22: =IF(HG21="","",VLOOKUP("~"&HG21,CODE39!$A$2:'CODE39'!$AB$45,7,FALSE)) | HM22: =IF(HG21="","",VLOOKUP("~"&HG21,CODE39!$A$2:'CODE39'!$AB$45,8,FALSE)) | HN22: =IF(HG21="","",VLOOKUP("~"&HG21,CODE39!$A$2:'CODE39'!$AB$45,9,FALSE)) | HO22: =IF(HG21="","",VLOOKUP("~"&HG21,CODE39!$A$2:'CODE39'!$AB$45,10,FALSE)) | HP22: =IF(HG21="","",VLOOKUP("~"&HG21,CODE39!$A$2:'CODE39'!$AB$45,11,FALSE)) | HQ22: =IF(HG21="","",VLOOKUP("~"&HG21,CODE39!$A$2:'CODE39'!$AB$45,12,FALSE)) | HR22: =IF(HG21="","",VLOOKUP("~"&HG21,CODE39!$A$2:'CODE39'!$AB$45,13,FALSE)) | HS22: =IF(HG21="","",VLOOKUP("~"&HG21,CODE39!$A$2:'CODE39'!$AB$45,14,FALSE)) | HT22: =IF(HG21="","",VLOOKUP("~"&HG21,CODE39!$A$2:'CODE39'!$AB$45,15,FALSE)) | HU22: =IF(HG21="","",VLOOKUP("~"&HG21,CODE39!$A$2:'CODE39'!$AB$45,16,FALSE)) | HV22: =IF(HG21="","",VLOOKUP("~"&HG21,CODE39!$A$2:'CODE39'!$AB$45,17,FALSE)) | HW22: =IF(HG21="","",VLOOKUP("~"&HG21,CODE39!$A$2:'CODE39'!$AB$45,18,FALSE)) | HX22: =IF(HG21="","",VLOOKUP("~"&HG21,CODE39!$A$2:'CODE39'!$AB$45,19,FALSE)) | HY22: =IF(HG21="","",VLOOKUP("~"&HG21,CODE39!$A$2:'CODE39'!$AB$45,20,FALSE)) | HZ22: =IF(HG21="","",VLOOKUP("~"&HG21,CODE39!$A$2:'CODE39'!$AB$45,21,FALSE)) | IA22: =IF(HG21="","",VLOOKUP("~"&HG21,CODE39!$A$2:'CODE39'!$AB$45,22,FALSE)) | IB22: =IF(HG21="","",VLOOKUP("~"&HG21,CODE39!$A$2:'CODE39'!$AB$45,23,FALSE)) | IC22: =IF(HG21="","",VLOOKUP("~"&HG21,CODE39!$A$2:'CODE39'!$AB$45,24,FALSE)) | ID22: =IF(HG21="","",VLOOKUP("~"&HG21,CODE39!$A$2:'CODE39'!$AB$45,25,FALSE)) | IE22: =IF(HG21="","",VLOOKUP("~"&HG21,CODE39!$A$2:'CODE39'!$AB$45,26,FALSE)) | IF22: =IF(HG21="","",VLOOKUP("~"&HG21,CODE39!$A$2:'CODE39'!$AB$45,27,FALSE)) | IG22: =IF(HG21="","",VLOOKUP("~"&HG21,CODE39!$A$2:'CODE39'!$AB$45,28,FALSE))
A25: ■変更業務情報
A26: 変更工期 | B26: =IF(Sheet1!$B$14="","",Sheet1!$B$14)
A27: 文字列に変換 | B27: =IF(B26="","0000",YEAR(B26))&IF(B26="","0",IF(MONTH(B26)<10,MONTH(B26),CHAR(MONTH(B26)+55)))&IF(B26="","0",IF(DAY(B26)<10,DAY(B26),CHAR(DAY(B26)+55))) -> 000000
A28: ３級基準点測量 | B28: =IF(Sheet1!$B$15="","",Sheet1!$B$15)
A29: ボーリング調査 | B29: =IF(Sheet1!$B$16="","",Sheet1!$B$16)
A30: 基準点ボーリングフラグ | B30: =IF(B28="",0,IF(B28="なし",1,2))+IF(B29="",0,IF(B29="なし",3,6)) -> 0
A31: 対象文字列 | B31: =IF(OR(Sheet1!$B$14<>"",Sheet1!$B$15<>"",Sheet1!$B$16<>""),B27&B30,"") | C31: （変更がなければ表示しない）
A33: チェックデジット計算
A34: 先頭からの桁数 | C34: 1 | D34: 2 | E34: 3 | F34: 4 | G34: 5 | H34: 6 | I34: 7 | J34: 8 | K34: 9 | L34: 10 | M34: 11 | N34: 12 | O34: 13 | P34: 14 | Q34: 15 | R34: 16
A35: 桁の文字 | C35: =MID($B$31,C34,1) | D35: =MID($B$31,D34,1) | E35: =MID($B$31,E34,1) | F35: =MID($B$31,F34,1) | G35: =MID($B$31,G34,1) | H35: =MID($B$31,H34,1) | I35: =MID($B$31,I34,1) | J35: =MID($B$31,J34,1) | ... R35: =MID($B$31,R34,1)
A36: 文字を数値化 | C36: =IF(C35="",0,IF(OR(C35="-",C35="."),IF(C35="-",36,37),IF(OR(C35=" ",C35="$"),IF(C35=" ",38,39),IF(OR(C35="/",C35="+"),IF(C35="/",40,41),IF(OR(C35="%",C35="*"),IF(C35="%",42,43),IF(AND(CODE(C35)>=65,CODE(C35)<=90),CODE(C35)-55,VALUE(C35))))))) -> 0 | D36: =IF(D35="",0,IF(OR(D35="-",D35="."),IF(D35="-",36,37),IF(OR(D35=" ",D35="$"),IF(D35=" ",38,39),IF(OR(D35="/",D35="+"),IF(D35="/",40,41),IF(OR(D35="%",D35="*"),IF(D35="%",42,43),IF(AND(CODE(D35)>=65,CODE(D35)<=90),CODE(D35)-55,VALUE(D35))))))) -> 0 | E36: =IF(E35="",0,IF(OR(E35="-",E35="."),IF(E35="-",36,37),IF(OR(E35=" ",E35="$"),IF(E35=" ",38,39),IF(OR(E35="/",E35="+"),IF(E35="/",40,41),IF(OR(E35="%",E35="*"),IF(E35="%",42,43),IF(AND(CODE(E35)>=65,CODE(E35)<=90),CODE(E35)-55,VALUE(E35))))))) -> 0 | F36: =IF(F35="",0,IF(OR(F35="-",F35="."),IF(F35="-",36,37),IF(OR(F35=" ",F35="$"),IF(F35=" ",38,39),IF(OR(F35="/",F35="+"),IF(F35="/",40,41),IF(OR(F35="%",F35="*"),IF(F35="%",42,43),IF(AND(CODE(F35)>=65,CODE(F35)<=90),CODE(F35)-55,VALUE(F35))))))) -> 0 | G36: =IF(G35="",0,IF(OR(G35="-",G35="."),IF(G35="-",36,37),IF(OR(G35=" ",G35="$"),IF(G35=" ",38,39),IF(OR(G35="/",G35="+"),IF(G35="/",40,41),IF(OR(G35="%",G35="*"),IF(G35="%",42,43),IF(AND(CODE(G35)>=65,CODE(G35)<=90),CODE(G35)-55,VALUE(G35))))))) -> 0 | H36: =IF(H35="",0,IF(OR(H35="-",H35="."),IF(H35="-",36,37),IF(OR(H35=" ",H35="$"),IF(H35=" ",38,39),IF(OR(H35="/",H35="+"),IF(H35="/",40,41),IF(OR(H35="%",H35="*"),IF(H35="%",42,43),IF(AND(CODE(H35)>=65,CODE(H35)<=90),CODE(H35)-55,VALUE(H35))))))) -> 0 | I36: =IF(I35="",0,IF(OR(I35="-",I35="."),IF(I35="-",36,37),IF(OR(I35=" ",I35="$"),IF(I35=" ",38,39),IF(OR(I35="/",I35="+"),IF(I35="/",40,41),IF(OR(I35="%",I35="*"),IF(I35="%",42,43),IF(AND(CODE(I35)>=65,CODE(I35)<=90),CODE(I35)-55,VALUE(I35))))))) -> 0 | J36: =IF(J35="",0,IF(OR(J35="-",J35="."),IF(J35="-",36,37),IF(OR(J35=" ",J35="$"),IF(J35=" ",38,39),IF(OR(J35="/",J35="+"),IF(J35="/",40,41),IF(OR(J35="%",J35="*"),IF(J35="%",42,43),IF(AND(CODE(J35)>=65,CODE(J35)<=90),CODE(J35)-55,VALUE(J35))))))) -> 0 | ... R36: =IF(R35="",0,IF(OR(R35="-",R35="."),IF(R35="-",36,37),IF(OR(R35=" ",R35="$"),IF(R35=" ",38,39),IF(OR(R35="/",R35="+"),IF(R35="/",40,41),IF(OR(R35="%",R35="*"),IF(R35="%",42,43),IF(AND(CODE(R35)>=65,CODE(R35)<=90),CODE(R35)-55,VALUE(R35))))))) -> 0
A37: 合計 | B37: =SUM(C36:Q36) -> 0
A38: モジュラス43 | B38: =MOD(B37,43) -> 0
A39: チェックデジット | B39: =IF(OR(B38=36,B38=37),IF(B38=36,"-","."),IF(OR(B38=38,B38=39),IF(B38=38," ","$"),IF(OR(B38=40,B38=41),IF(B38=40,"/","+"),IF(OR(B38=42,B38=43),IF(B38=42,"%","*"),IF(AND(B38>=10,B38<=35),CHAR(B38+55),B38))))) -> 0
A41: CODE39にする文字列 | B41: =IF(B31="","","*"&B31&B39& "*")
A42: 上位８バイト
A43: 先頭からの桁数 | S43: 1 | AU43: 2 | BW43: 3 | CY43: 4 | EA43: 5 | FC43: 6 | GE43: 7 | HG43: 8
A44: その桁の文字 | S44: =MID(B41,S43,1) | AU44: =MID(B41,AU43,1) | BW44: =MID(B41,BW43,1) | CY44: =MID(B41,CY43,1) | EA44: =MID(B41,EA43,1) | FC44: =MID(B41,FC43,1) | GE44: =MID(B41,GE43,1) | HG44: =MID(B41,HG43,1)
A45: バーコード | S45: =IF(S44="","",VLOOKUP("~"&S44,CODE39!$A$2:'CODE39'!$AB$45,2,FALSE)) | T45: =IF(S44="","",VLOOKUP("~"&S44,CODE39!$A$2:'CODE39'!$AB$45,3,FALSE)) | U45: =IF(S44="","",VLOOKUP("~"&S44,CODE39!$A$2:'CODE39'!$AB$45,4,FALSE)) | V45: =IF(S44="","",VLOOKUP("~"&S44,CODE39!$A$2:'CODE39'!$AB$45,5,FALSE)) | W45: =IF(S44="","",VLOOKUP("~"&S44,CODE39!$A$2:'CODE39'!$AB$45,6,FALSE)) | X45: =IF(S44="","",VLOOKUP("~"&S44,CODE39!$A$2:'CODE39'!$AB$45,7,FALSE)) | Y45: =IF(S44="","",VLOOKUP("~"&S44,CODE39!$A$2:'CODE39'!$AB$45,8,FALSE)) | Z45: =IF(S44="","",VLOOKUP("~"&S44,CODE39!$A$2:'CODE39'!$AB$45,9,FALSE)) | AA45: =IF(S44="","",VLOOKUP("~"&S44,CODE39!$A$2:'CODE39'!$AB$45,10,FALSE)) | AB45: =IF(S44="","",VLOOKUP("~"&S44,CODE39!$A$2:'CODE39'!$AB$45,11,FALSE)) | AC45: =IF(S44="","",VLOOKUP("~"&S44,CODE39!$A$2:'CODE39'!$AB$45,12,FALSE)) | AD45: =IF(S44="","",VLOOKUP("~"&S44,CODE39!$A$2:'CODE39'!$AB$45,13,FALSE)) | AE45: =IF(S44="","",VLOOKUP("~"&S44,CODE39!$A$2:'CODE39'!$AB$45,14,FALSE)) | AF45: =IF(S44="","",VLOOKUP("~"&S44,CODE39!$A$2:'CODE39'!$AB$45,15,FALSE)) | AG45: =IF(S44="","",VLOOKUP("~"&S44,CODE39!$A$2:'CODE39'!$AB$45,16,FALSE)) | AH45: =IF(S44="","",VLOOKUP("~"&S44,CODE39!$A$2:'CODE39'!$AB$45,17,FALSE)) | AI45: =IF(S44="","",VLOOKUP("~"&S44,CODE39!$A$2:'CODE39'!$AB$45,18,FALSE)) | AJ45: =IF(S44="","",VLOOKUP("~"&S44,CODE39!$A$2:'CODE39'!$AB$45,19,FALSE)) | AK45: =IF(S44="","",VLOOKUP("~"&S44,CODE39!$A$2:'CODE39'!$AB$45,20,FALSE)) | AL45: =IF(S44="","",VLOOKUP("~"&S44,CODE39!$A$2:'CODE39'!$AB$45,21,FALSE)) | AM45: =IF(S44="","",VLOOKUP("~"&S44,CODE39!$A$2:'CODE39'!$AB$45,22,FALSE)) | AN45: =IF(S44="","",VLOOKUP("~"&S44,CODE39!$A$2:'CODE39'!$AB$45,23,FALSE)) | AO45: =IF(S44="","",VLOOKUP("~"&S44,CODE39!$A$2:'CODE39'!$AB$45,24,FALSE)) | AP45: =IF(S44="","",VLOOKUP("~"&S44,CODE39!$A$2:'CODE39'!$AB$45,25,FALSE)) | AQ45: =IF(S44="","",VLOOKUP("~"&S44,CODE39!$A$2:'CODE39'!$AB$45,26,FALSE)) | AR45: =IF(S44="","",VLOOKUP("~"&S44,CODE39!$A$2:'CODE39'!$AB$45,27,FALSE)) | AS45: =IF(S44="","",VLOOKUP("~"&S44,CODE39!$A$2:'CODE39'!$AB$45,28,FALSE)) | AU45: =IF(AU44="","",VLOOKUP("~"&AU44,CODE39!$A$2:'CODE39'!$AB$45,2,FALSE)) | AV45: =IF(AU44="","",VLOOKUP("~"&AU44,CODE39!$A$2:'CODE39'!$AB$45,3,FALSE)) | AW45: =IF(AU44="","",VLOOKUP("~"&AU44,CODE39!$A$2:'CODE39'!$AB$45,4,FALSE)) | AX45: =IF(AU44="","",VLOOKUP("~"&AU44,CODE39!$A$2:'CODE39'!$AB$45,5,FALSE)) | AY45: =IF(AU44="","",VLOOKUP("~"&AU44,CODE39!$A$2:'CODE39'!$AB$45,6,FALSE)) | AZ45: =IF(AU44="","",VLOOKUP("~"&AU44,CODE39!$A$2:'CODE39'!$AB$45,7,FALSE)) | BA45: =IF(AU44="","",VLOOKUP("~"&AU44,CODE39!$A$2:'CODE39'!$AB$45,8,FALSE)) | BB45: =IF(AU44="","",VLOOKUP("~"&AU44,CODE39!$A$2:'CODE39'!$AB$45,9,FALSE)) | BC45: =IF(AU44="","",VLOOKUP("~"&AU44,CODE39!$A$2:'CODE39'!$AB$45,10,FALSE)) | BD45: =IF(AU44="","",VLOOKUP("~"&AU44,CODE39!$A$2:'CODE39'!$AB$45,11,FALSE)) | BE45: =IF(AU44="","",VLOOKUP("~"&AU44,CODE39!$A$2:'CODE39'!$AB$45,12,FALSE)) | BF45: =IF(AU44="","",VLOOKUP("~"&AU44,CODE39!$A$2:'CODE39'!$AB$45,13,FALSE)) | BG45: =IF(AU44="","",VLOOKUP("~"&AU44,CODE39!$A$2:'CODE39'!$AB$45,14,FALSE)) | BH45: =IF(AU44="","",VLOOKUP("~"&AU44,CODE39!$A$2:'CODE39'!$AB$45,15,FALSE)) | BI45: =IF(AU44="","",VLOOKUP("~"&AU44,CODE39!$A$2:'CODE39'!$AB$45,16,FALSE)) | BJ45: =IF(AU44="","",VLOOKUP("~"&AU44,CODE39!$A$2:'CODE39'!$AB$45,17,FALSE)) | BK45: =IF(AU44="","",VLOOKUP("~"&AU44,CODE39!$A$2:'CODE39'!$AB$45,18,FALSE)) | BL45: =IF(AU44="","",VLOOKUP("~"&AU44,CODE39!$A$2:'CODE39'!$AB$45,19,FALSE)) | BM45: =IF(AU44="","",VLOOKUP("~"&AU44,CODE39!$A$2:'CODE39'!$AB$45,20,FALSE)) | BN45: =IF(AU44="","",VLOOKUP("~"&AU44,CODE39!$A$2:'CODE39'!$AB$45,21,FALSE)) | BO45: =IF(AU44="","",VLOOKUP("~"&AU44,CODE39!$A$2:'CODE39'!$AB$45,22,FALSE)) | BP45: =IF(AU44="","",VLOOKUP("~"&AU44,CODE39!$A$2:'CODE39'!$AB$45,23,FALSE)) | BQ45: =IF(AU44="","",VLOOKUP("~"&AU44,CODE39!$A$2:'CODE39'!$AB$45,24,FALSE)) | BR45: =IF(AU44="","",VLOOKUP("~"&AU44,CODE39!$A$2:'CODE39'!$AB$45,25,FALSE)) | BS45: =IF(AU44="","",VLOOKUP("~"&AU44,CODE39!$A$2:'CODE39'!$AB$45,26,FALSE)) | BT45: =IF(AU44="","",VLOOKUP("~"&AU44,CODE39!$A$2:'CODE39'!$AB$45,27,FALSE)) | BU45: =IF(AU44="","",VLOOKUP("~"&AU44,CODE39!$A$2:'CODE39'!$AB$45,28,FALSE)) | BW45: =IF(BW44="","",VLOOKUP("~"&BW44,CODE39!$A$2:'CODE39'!$AB$45,2,FALSE)) | BX45: =IF(BW44="","",VLOOKUP("~"&BW44,CODE39!$A$2:'CODE39'!$AB$45,3,FALSE)) | BY45: =IF(BW44="","",VLOOKUP("~"&BW44,CODE39!$A$2:'CODE39'!$AB$45,4,FALSE)) | BZ45: =IF(BW44="","",VLOOKUP("~"&BW44,CODE39!$A$2:'CODE39'!$AB$45,5,FALSE)) | CA45: =IF(BW44="","",VLOOKUP("~"&BW44,CODE39!$A$2:'CODE39'!$AB$45,6,FALSE)) | CB45: =IF(BW44="","",VLOOKUP("~"&BW44,CODE39!$A$2:'CODE39'!$AB$45,7,FALSE)) | CC45: =IF(BW44="","",VLOOKUP("~"&BW44,CODE39!$A$2:'CODE39'!$AB$45,8,FALSE)) | CD45: =IF(BW44="","",VLOOKUP("~"&BW44,CODE39!$A$2:'CODE39'!$AB$45,9,FALSE)) | CE45: =IF(BW44="","",VLOOKUP("~"&BW44,CODE39!$A$2:'CODE39'!$AB$45,10,FALSE)) | CF45: =IF(BW44="","",VLOOKUP("~"&BW44,CODE39!$A$2:'CODE39'!$AB$45,11,FALSE)) | CG45: =IF(BW44="","",VLOOKUP("~"&BW44,CODE39!$A$2:'CODE39'!$AB$45,12,FALSE)) | CH45: =IF(BW44="","",VLOOKUP("~"&BW44,CODE39!$A$2:'CODE39'!$AB$45,13,FALSE)) | CI45: =IF(BW44="","",VLOOKUP("~"&BW44,CODE39!$A$2:'CODE39'!$AB$45,14,FALSE)) | CJ45: =IF(BW44="","",VLOOKUP("~"&BW44,CODE39!$A$2:'CODE39'!$AB$45,15,FALSE)) | CK45: =IF(BW44="","",VLOOKUP("~"&BW44,CODE39!$A$2:'CODE39'!$AB$45,16,FALSE)) | CL45: =IF(BW44="","",VLOOKUP("~"&BW44,CODE39!$A$2:'CODE39'!$AB$45,17,FALSE)) | CM45: =IF(BW44="","",VLOOKUP("~"&BW44,CODE39!$A$2:'CODE39'!$AB$45,18,FALSE)) | CN45: =IF(BW44="","",VLOOKUP("~"&BW44,CODE39!$A$2:'CODE39'!$AB$45,19,FALSE)) | CO45: =IF(BW44="","",VLOOKUP("~"&BW44,CODE39!$A$2:'CODE39'!$AB$45,20,FALSE)) | CP45: =IF(BW44="","",VLOOKUP("~"&BW44,CODE39!$A$2:'CODE39'!$AB$45,21,FALSE)) | CQ45: =IF(BW44="","",VLOOKUP("~"&BW44,CODE39!$A$2:'CODE39'!$AB$45,22,FALSE)) | CR45: =IF(BW44="","",VLOOKUP("~"&BW44,CODE39!$A$2:'CODE39'!$AB$45,23,FALSE)) | CS45: =IF(BW44="","",VLOOKUP("~"&BW44,CODE39!$A$2:'CODE39'!$AB$45,24,FALSE)) | CT45: =IF(BW44="","",VLOOKUP("~"&BW44,CODE39!$A$2:'CODE39'!$AB$45,25,FALSE)) | CU45: =IF(BW44="","",VLOOKUP("~"&BW44,CODE39!$A$2:'CODE39'!$AB$45,26,FALSE)) | CV45: =IF(BW44="","",VLOOKUP("~"&BW44,CODE39!$A$2:'CODE39'!$AB$45,27,FALSE)) | CW45: =IF(BW44="","",VLOOKUP("~"&BW44,CODE39!$A$2:'CODE39'!$AB$45,28,FALSE)) | CY45: =IF(CY44="","",VLOOKUP("~"&CY44,CODE39!$A$2:'CODE39'!$AB$45,2,FALSE)) | CZ45: =IF(CY44="","",VLOOKUP("~"&CY44,CODE39!$A$2:'CODE39'!$AB$45,3,FALSE)) | DA45: =IF(CY44="","",VLOOKUP("~"&CY44,CODE39!$A$2:'CODE39'!$AB$45,4,FALSE)) | DB45: =IF(CY44="","",VLOOKUP("~"&CY44,CODE39!$A$2:'CODE39'!$AB$45,5,FALSE)) | DC45: =IF(CY44="","",VLOOKUP("~"&CY44,CODE39!$A$2:'CODE39'!$AB$45,6,FALSE)) | DD45: =IF(CY44="","",VLOOKUP("~"&CY44,CODE39!$A$2:'CODE39'!$AB$45,7,FALSE)) | DE45: =IF(CY44="","",VLOOKUP("~"&CY44,CODE39!$A$2:'CODE39'!$AB$45,8,FALSE)) | DF45: =IF(CY44="","",VLOOKUP("~"&CY44,CODE39!$A$2:'CODE39'!$AB$45,9,FALSE)) | DG45: =IF(CY44="","",VLOOKUP("~"&CY44,CODE39!$A$2:'CODE39'!$AB$45,10,FALSE)) | DH45: =IF(CY44="","",VLOOKUP("~"&CY44,CODE39!$A$2:'CODE39'!$AB$45,11,FALSE)) | DI45: =IF(CY44="","",VLOOKUP("~"&CY44,CODE39!$A$2:'CODE39'!$AB$45,12,FALSE)) | DJ45: =IF(CY44="","",VLOOKUP("~"&CY44,CODE39!$A$2:'CODE39'!$AB$45,13,FALSE)) | DK45: =IF(CY44="","",VLOOKUP("~"&CY44,CODE39!$A$2:'CODE39'!$AB$45,14,FALSE)) | DL45: =IF(CY44="","",VLOOKUP("~"&CY44,CODE39!$A$2:'CODE39'!$AB$45,15,FALSE)) | DM45: =IF(CY44="","",VLOOKUP("~"&CY44,CODE39!$A$2:'CODE39'!$AB$45,16,FALSE)) | DN45: =IF(CY44="","",VLOOKUP("~"&CY44,CODE39!$A$2:'CODE39'!$AB$45,17,FALSE)) | DO45: =IF(CY44="","",VLOOKUP("~"&CY44,CODE39!$A$2:'CODE39'!$AB$45,18,FALSE)) | DP45: =IF(CY44="","",VLOOKUP("~"&CY44,CODE39!$A$2:'CODE39'!$AB$45,19,FALSE)) | DQ45: =IF(CY44="","",VLOOKUP("~"&CY44,CODE39!$A$2:'CODE39'!$AB$45,20,FALSE)) | DR45: =IF(CY44="","",VLOOKUP("~"&CY44,CODE39!$A$2:'CODE39'!$AB$45,21,FALSE)) | DS45: =IF(CY44="","",VLOOKUP("~"&CY44,CODE39!$A$2:'CODE39'!$AB$45,22,FALSE)) | DT45: =IF(CY44="","",VLOOKUP("~"&CY44,CODE39!$A$2:'CODE39'!$AB$45,23,FALSE)) | DU45: =IF(CY44="","",VLOOKUP("~"&CY44,CODE39!$A$2:'CODE39'!$AB$45,24,FALSE)) | DV45: =IF(CY44="","",VLOOKUP("~"&CY44,CODE39!$A$2:'CODE39'!$AB$45,25,FALSE)) | DW45: =IF(CY44="","",VLOOKUP("~"&CY44,CODE39!$A$2:'CODE39'!$AB$45,26,FALSE)) | DX45: =IF(CY44="","",VLOOKUP("~"&CY44,CODE39!$A$2:'CODE39'!$AB$45,27,FALSE)) | DY45: =IF(CY44="","",VLOOKUP("~"&CY44,CODE39!$A$2:'CODE39'!$AB$45,28,FALSE)) | EA45: =IF(EA44="","",VLOOKUP("~"&EA44,CODE39!$A$2:'CODE39'!$AB$45,2,FALSE)) | EB45: =IF(EA44="","",VLOOKUP("~"&EA44,CODE39!$A$2:'CODE39'!$AB$45,3,FALSE)) | EC45: =IF(EA44="","",VLOOKUP("~"&EA44,CODE39!$A$2:'CODE39'!$AB$45,4,FALSE)) | ED45: =IF(EA44="","",VLOOKUP("~"&EA44,CODE39!$A$2:'CODE39'!$AB$45,5,FALSE)) | EE45: =IF(EA44="","",VLOOKUP("~"&EA44,CODE39!$A$2:'CODE39'!$AB$45,6,FALSE)) | EF45: =IF(EA44="","",VLOOKUP("~"&EA44,CODE39!$A$2:'CODE39'!$AB$45,7,FALSE)) | EG45: =IF(EA44="","",VLOOKUP("~"&EA44,CODE39!$A$2:'CODE39'!$AB$45,8,FALSE)) | EH45: =IF(EA44="","",VLOOKUP("~"&EA44,CODE39!$A$2:'CODE39'!$AB$45,9,FALSE)) | EI45: =IF(EA44="","",VLOOKUP("~"&EA44,CODE39!$A$2:'CODE39'!$AB$45,10,FALSE)) | EJ45: =IF(EA44="","",VLOOKUP("~"&EA44,CODE39!$A$2:'CODE39'!$AB$45,11,FALSE)) | EK45: =IF(EA44="","",VLOOKUP("~"&EA44,CODE39!$A$2:'CODE39'!$AB$45,12,FALSE)) | EL45: =IF(EA44="","",VLOOKUP("~"&EA44,CODE39!$A$2:'CODE39'!$AB$45,13,FALSE)) | EM45: =IF(EA44="","",VLOOKUP("~"&EA44,CODE39!$A$2:'CODE39'!$AB$45,14,FALSE)) | EN45: =IF(EA44="","",VLOOKUP("~"&EA44,CODE39!$A$2:'CODE39'!$AB$45,15,FALSE)) | EO45: =IF(EA44="","",VLOOKUP("~"&EA44,CODE39!$A$2:'CODE39'!$AB$45,16,FALSE)) | EP45: =IF(EA44="","",VLOOKUP("~"&EA44,CODE39!$A$2:'CODE39'!$AB$45,17,FALSE)) | EQ45: =IF(EA44="","",VLOOKUP("~"&EA44,CODE39!$A$2:'CODE39'!$AB$45,18,FALSE)) | ER45: =IF(EA44="","",VLOOKUP("~"&EA44,CODE39!$A$2:'CODE39'!$AB$45,19,FALSE)) | ES45: =IF(EA44="","",VLOOKUP("~"&EA44,CODE39!$A$2:'CODE39'!$AB$45,20,FALSE)) | ET45: =IF(EA44="","",VLOOKUP("~"&EA44,CODE39!$A$2:'CODE39'!$AB$45,21,FALSE)) | EU45: =IF(EA44="","",VLOOKUP("~"&EA44,CODE39!$A$2:'CODE39'!$AB$45,22,FALSE)) | EV45: =IF(EA44="","",VLOOKUP("~"&EA44,CODE39!$A$2:'CODE39'!$AB$45,23,FALSE)) | EW45: =IF(EA44="","",VLOOKUP("~"&EA44,CODE39!$A$2:'CODE39'!$AB$45,24,FALSE)) | EX45: =IF(EA44="","",VLOOKUP("~"&EA44,CODE39!$A$2:'CODE39'!$AB$45,25,FALSE)) | EY45: =IF(EA44="","",VLOOKUP("~"&EA44,CODE39!$A$2:'CODE39'!$AB$45,26,FALSE)) | EZ45: =IF(EA44="","",VLOOKUP("~"&EA44,CODE39!$A$2:'CODE39'!$AB$45,27,FALSE)) | FA45: =IF(EA44="","",VLOOKUP("~"&EA44,CODE39!$A$2:'CODE39'!$AB$45,28,FALSE)) | FC45: =IF(FC44="","",VLOOKUP("~"&FC44,CODE39!$A$2:'CODE39'!$AB$45,2,FALSE)) | FD45: =IF(FC44="","",VLOOKUP("~"&FC44,CODE39!$A$2:'CODE39'!$AB$45,3,FALSE)) | FE45: =IF(FC44="","",VLOOKUP("~"&FC44,CODE39!$A$2:'CODE39'!$AB$45,4,FALSE)) | FF45: =IF(FC44="","",VLOOKUP("~"&FC44,CODE39!$A$2:'CODE39'!$AB$45,5,FALSE)) | FG45: =IF(FC44="","",VLOOKUP("~"&FC44,CODE39!$A$2:'CODE39'!$AB$45,6,FALSE)) | FH45: =IF(FC44="","",VLOOKUP("~"&FC44,CODE39!$A$2:'CODE39'!$AB$45,7,FALSE)) | FI45: =IF(FC44="","",VLOOKUP("~"&FC44,CODE39!$A$2:'CODE39'!$AB$45,8,FALSE)) | FJ45: =IF(FC44="","",VLOOKUP("~"&FC44,CODE39!$A$2:'CODE39'!$AB$45,9,FALSE)) | FK45: =IF(FC44="","",VLOOKUP("~"&FC44,CODE39!$A$2:'CODE39'!$AB$45,10,FALSE)) | FL45: =IF(FC44="","",VLOOKUP("~"&FC44,CODE39!$A$2:'CODE39'!$AB$45,11,FALSE)) | FM45: =IF(FC44="","",VLOOKUP("~"&FC44,CODE39!$A$2:'CODE39'!$AB$45,12,FALSE)) | FN45: =IF(FC44="","",VLOOKUP("~"&FC44,CODE39!$A$2:'CODE39'!$AB$45,13,FALSE)) | FO45: =IF(FC44="","",VLOOKUP("~"&FC44,CODE39!$A$2:'CODE39'!$AB$45,14,FALSE)) | FP45: =IF(FC44="","",VLOOKUP("~"&FC44,CODE39!$A$2:'CODE39'!$AB$45,15,FALSE)) | FQ45: =IF(FC44="","",VLOOKUP("~"&FC44,CODE39!$A$2:'CODE39'!$AB$45,16,FALSE)) | FR45: =IF(FC44="","",VLOOKUP("~"&FC44,CODE39!$A$2:'CODE39'!$AB$45,17,FALSE)) | FS45: =IF(FC44="","",VLOOKUP("~"&FC44,CODE39!$A$2:'CODE39'!$AB$45,18,FALSE)) | FT45: =IF(FC44="","",VLOOKUP("~"&FC44,CODE39!$A$2:'CODE39'!$AB$45,19,FALSE)) | FU45: =IF(FC44="","",VLOOKUP("~"&FC44,CODE39!$A$2:'CODE39'!$AB$45,20,FALSE)) | FV45: =IF(FC44="","",VLOOKUP("~"&FC44,CODE39!$A$2:'CODE39'!$AB$45,21,FALSE)) | FW45: =IF(FC44="","",VLOOKUP("~"&FC44,CODE39!$A$2:'CODE39'!$AB$45,22,FALSE)) | FX45: =IF(FC44="","",VLOOKUP("~"&FC44,CODE39!$A$2:'CODE39'!$AB$45,23,FALSE)) | FY45: =IF(FC44="","",VLOOKUP("~"&FC44,CODE39!$A$2:'CODE39'!$AB$45,24,FALSE)) | FZ45: =IF(FC44="","",VLOOKUP("~"&FC44,CODE39!$A$2:'CODE39'!$AB$45,25,FALSE)) | GA45: =IF(FC44="","",VLOOKUP("~"&FC44,CODE39!$A$2:'CODE39'!$AB$45,26,FALSE)) | GB45: =IF(FC44="","",VLOOKUP("~"&FC44,CODE39!$A$2:'CODE39'!$AB$45,27,FALSE)) | GC45: =IF(FC44="","",VLOOKUP("~"&FC44,CODE39!$A$2:'CODE39'!$AB$45,28,FALSE)) | GE45: =IF(GE44="","",VLOOKUP("~"&GE44,CODE39!$A$2:'CODE39'!$AB$45,2,FALSE)) | GF45: =IF(GE44="","",VLOOKUP("~"&GE44,CODE39!$A$2:'CODE39'!$AB$45,3,FALSE)) | GG45: =IF(GE44="","",VLOOKUP("~"&GE44,CODE39!$A$2:'CODE39'!$AB$45,4,FALSE)) | GH45: =IF(GE44="","",VLOOKUP("~"&GE44,CODE39!$A$2:'CODE39'!$AB$45,5,FALSE)) | GI45: =IF(GE44="","",VLOOKUP("~"&GE44,CODE39!$A$2:'CODE39'!$AB$45,6,FALSE)) | GJ45: =IF(GE44="","",VLOOKUP("~"&GE44,CODE39!$A$2:'CODE39'!$AB$45,7,FALSE)) | GK45: =IF(GE44="","",VLOOKUP("~"&GE44,CODE39!$A$2:'CODE39'!$AB$45,8,FALSE)) | GL45: =IF(GE44="","",VLOOKUP("~"&GE44,CODE39!$A$2:'CODE39'!$AB$45,9,FALSE)) | GM45: =IF(GE44="","",VLOOKUP("~"&GE44,CODE39!$A$2:'CODE39'!$AB$45,10,FALSE)) | GN45: =IF(GE44="","",VLOOKUP("~"&GE44,CODE39!$A$2:'CODE39'!$AB$45,11,FALSE)) | GO45: =IF(GE44="","",VLOOKUP("~"&GE44,CODE39!$A$2:'CODE39'!$AB$45,12,FALSE)) | GP45: =IF(GE44="","",VLOOKUP("~"&GE44,CODE39!$A$2:'CODE39'!$AB$45,13,FALSE)) | GQ45: =IF(GE44="","",VLOOKUP("~"&GE44,CODE39!$A$2:'CODE39'!$AB$45,14,FALSE)) | GR45: =IF(GE44="","",VLOOKUP("~"&GE44,CODE39!$A$2:'CODE39'!$AB$45,15,FALSE)) | GS45: =IF(GE44="","",VLOOKUP("~"&GE44,CODE39!$A$2:'CODE39'!$AB$45,16,FALSE)) | GT45: =IF(GE44="","",VLOOKUP("~"&GE44,CODE39!$A$2:'CODE39'!$AB$45,17,FALSE)) | GU45: =IF(GE44="","",VLOOKUP("~"&GE44,CODE39!$A$2:'CODE39'!$AB$45,18,FALSE)) | GV45: =IF(GE44="","",VLOOKUP("~"&GE44,CODE39!$A$2:'CODE39'!$AB$45,19,FALSE)) | GW45: =IF(GE44="","",VLOOKUP("~"&GE44,CODE39!$A$2:'CODE39'!$AB$45,20,FALSE)) | GX45: =IF(GE44="","",VLOOKUP("~"&GE44,CODE39!$A$2:'CODE39'!$AB$45,21,FALSE)) | GY45: =IF(GE44="","",VLOOKUP("~"&GE44,CODE39!$A$2:'CODE39'!$AB$45,22,FALSE)) | GZ45: =IF(GE44="","",VLOOKUP("~"&GE44,CODE39!$A$2:'CODE39'!$AB$45,23,FALSE)) | HA45: =IF(GE44="","",VLOOKUP("~"&GE44,CODE39!$A$2:'CODE39'!$AB$45,24,FALSE)) | HB45: =IF(GE44="","",VLOOKUP("~"&GE44,CODE39!$A$2:'CODE39'!$AB$45,25,FALSE)) | HC45: =IF(GE44="","",VLOOKUP("~"&GE44,CODE39!$A$2:'CODE39'!$AB$45,26,FALSE)) | HD45: =IF(GE44="","",VLOOKUP("~"&GE44,CODE39!$A$2:'CODE39'!$AB$45,27,FALSE)) | HE45: =IF(GE44="","",VLOOKUP("~"&GE44,CODE39!$A$2:'CODE39'!$AB$45,28,FALSE)) | HG45: =IF(HG44="","",VLOOKUP("~"&HG44,CODE39!$A$2:'CODE39'!$AB$45,2,FALSE)) | HH45: =IF(HG44="","",VLOOKUP("~"&HG44,CODE39!$A$2:'CODE39'!$AB$45,3,FALSE)) | HI45: =IF(HG44="","",VLOOKUP("~"&HG44,CODE39!$A$2:'CODE39'!$AB$45,4,FALSE)) | HJ45: =IF(HG44="","",VLOOKUP("~"&HG44,CODE39!$A$2:'CODE39'!$AB$45,5,FALSE)) | HK45: =IF(HG44="","",VLOOKUP("~"&HG44,CODE39!$A$2:'CODE39'!$AB$45,6,FALSE)) | HL45: =IF(HG44="","",VLOOKUP("~"&HG44,CODE39!$A$2:'CODE39'!$AB$45,7,FALSE)) | HM45: =IF(HG44="","",VLOOKUP("~"&HG44,CODE39!$A$2:'CODE39'!$AB$45,8,FALSE)) | HN45: =IF(HG44="","",VLOOKUP("~"&HG44,CODE39!$A$2:'CODE39'!$AB$45,9,FALSE)) | HO45: =IF(HG44="","",VLOOKUP("~"&HG44,CODE39!$A$2:'CODE39'!$AB$45,10,FALSE)) | HP45: =IF(HG44="","",VLOOKUP("~"&HG44,CODE39!$A$2:'CODE39'!$AB$45,11,FALSE)) | HQ45: =IF(HG44="","",VLOOKUP("~"&HG44,CODE39!$A$2:'CODE39'!$AB$45,12,FALSE)) | HR45: =IF(HG44="","",VLOOKUP("~"&HG44,CODE39!$A$2:'CODE39'!$AB$45,13,FALSE)) | HS45: =IF(HG44="","",VLOOKUP("~"&HG44,CODE39!$A$2:'CODE39'!$AB$45,14,FALSE)) | HT45: =IF(HG44="","",VLOOKUP("~"&HG44,CODE39!$A$2:'CODE39'!$AB$45,15,FALSE)) | HU45: =IF(HG44="","",VLOOKUP("~"&HG44,CODE39!$A$2:'CODE39'!$AB$45,16,FALSE)) | HV45: =IF(HG44="","",VLOOKUP("~"&HG44,CODE39!$A$2:'CODE39'!$AB$45,17,FALSE)) | HW45: =IF(HG44="","",VLOOKUP("~"&HG44,CODE39!$A$2:'CODE39'!$AB$45,18,FALSE)) | HX45: =IF(HG44="","",VLOOKUP("~"&HG44,CODE39!$A$2:'CODE39'!$AB$45,19,FALSE)) | HY45: =IF(HG44="","",VLOOKUP("~"&HG44,CODE39!$A$2:'CODE39'!$AB$45,20,FALSE)) | HZ45: =IF(HG44="","",VLOOKUP("~"&HG44,CODE39!$A$2:'CODE39'!$AB$45,21,FALSE)) | IA45: =IF(HG44="","",VLOOKUP("~"&HG44,CODE39!$A$2:'CODE39'!$AB$45,22,FALSE)) | IB45: =IF(HG44="","",VLOOKUP("~"&HG44,CODE39!$A$2:'CODE39'!$AB$45,23,FALSE)) | IC45: =IF(HG44="","",VLOOKUP("~"&HG44,CODE39!$A$2:'CODE39'!$AB$45,24,FALSE)) | ID45: =IF(HG44="","",VLOOKUP("~"&HG44,CODE39!$A$2:'CODE39'!$AB$45,25,FALSE)) | IE45: =IF(HG44="","",VLOOKUP("~"&HG44,CODE39!$A$2:'CODE39'!$AB$45,26,FALSE)) | IF45: =IF(HG44="","",VLOOKUP("~"&HG44,CODE39!$A$2:'CODE39'!$AB$45,27,FALSE)) | IG45: =IF(HG44="","",VLOOKUP("~"&HG44,CODE39!$A$2:'CODE39'!$AB$45,28,FALSE))
A46: 下位８バイト
...

Sheet CODE39
