Workbook
Name 依頼内容: Sheet2!$C$1:$C$3
Name 発注者機関事務所名: Sheet2!$A$1:$A$23
Name 有無: Sheet2!$B$1:$B$2
Name 有無空: Sheet2!$B$1:$B$3

Sheet Sheet1
A1: 様式－３ | C1: 2017年版
A2: 電子成果データ内容確認・登録依頼書
B3: 依頼日
A4: 公益財団法人とちぎ建設技術センター 様
B5: 会社名
A6: 以下の業務について、電子成果データ（副）の内容確認と登録を依頼します。
A7: 依頼内容 | C7: 注意事項
A8: 新規・修正・差し替え | B8: 新規 | C8: ▼を押して新規・修正・差し替えを選択(登録完了後の訂正は差し替えとする)
A9: ＣＤ・DVD等の枚数 | C9: 登録するCD・DVD等の枚数を記入する
A10: 契約番号 | C10: 県の場合はハイフン以外の契約番号9桁、企業局は先頭に「K」を付加。他はそのまま入力
A11: 委託業務の名称 | C11: 契約書の内容をそのまま記入する（改行等は不要）
A13: 業務情報（変更がある場合は記入してください） | C13: 注意事項
A14: 変更後履行期間（終了） | C14: 西暦で記入する（例：2014/3/31) ※変更がない場合は記入不要
A15: ３級基準点測量 | C15: ▼を押してあり・なしを選択する ※変更がない場合は記入不要
A16: ボーリング調査 | C16: ▼を押してあり・なしを選択する ※変更がない場合は記入不要
A18: 受注者情報（変更がある場合は記入してください） | C18: 注意事項
A19: 担当部署 | C19: ※変更がない場合は記入不要
A20: 担当者名 | C20: ※変更がない場合は記入不要
A21: 電話番号 | C21: 担当者への連絡用の電話番号 ※変更がない場合は記入不要
A22: メールアドレス | C22: 担当者への連絡用のメールアドレス ※変更がない場合は記入不要
... A25: 実施日 | C25: 西暦で記入する（例：2013/4/3)
A26: 発注担当者との協議事項や業務内容の特殊性などの理由で、エラーチェックの対象とな
A27: るような内容があれば、以下に記入してください。差し替えの場合は理由を記入してください。
A28: 特記事項
A34: （注）この様式に記入したうえで印刷（白黒で可）し、成果品のCD・DVD等（副）と合わせて
A35: 下記まで郵送または直接お持ちください。
A37: 電子成果データ内容確認・登録依頼書提出先
A38: 〒321-0974 宇都宮市竹林町1030-2
A39: （公財）とちぎ建設技術センター 企画開発部 企画開発課 情報開発担当
A40: CD等預かり証 | B40: =B10 -> 0 | C40: =B9 -> 0
B41: =C5 -> 0

Sheet Sheet2
B1: あり | C1: 新規
B2: なし | C2: 修正
C3: 差し替え

Sheet BCG
A1: ■契約番号と変更フラグ
A2: 契約番号 | B2: =IF(Sheet1!$B$10<>"",UPPER(Sheet1!$B$10),"") | C2: （小文字は大文字に変換）
A3: 変更フラグ | B3: =IF(OR(Sheet1!$B$14<>"",Sheet1!$B$15<>"",Sheet1!$B$16<>""),"%","")
A4: 対象文字列 | B4: =IF(B2<>"",B2&B3,"") | C4: （契約番号が空欄なら表示しない）
A6: チェックデジット計算
A7: 先頭からの桁数 | C7: 1 | D7: 2 | E7: 3 | F7: 4 | G7: 5 | H7: 6 | I7: 7 | J7: 8 | K7: 9 | L7: 10 | M7: 11 | N7: 12 | O7: 13 | P7: 14 | Q7: 15 | R7: 16
A8: 桁の文字 | C8: =MID($B$4,C7,1) | D8: =MID($B$4,D7,1) | E8: =MID($B$4,E7,1) | F8: =MID($B$4,F7,1) | G8: =MID($B$4,G7,1) | H8: =MID($B$4,H7,1) | I8: =MID($B$4,I7,1) | J8: =MID($B$4,J7,1) | ... R8: =MID($B$4,R7,1)
A9: 文字を数値化 | C9: =IF(C8="",0,IF(OR(C8="-",C8="."),IF(C8="-",36,37),IF(OR(C8=" ",C8="$"),IF(C8=" ",38,39),IF(OR(C8="/",C8="+"),IF(C8="/",40,41),IF(OR(C8="%",C8="*"),IF(C8="%",42,43),IF(AND(CODE(C8)>=65,CODE(C8)<=90),CODE(C8)-55,VALUE(C8))))))) -> 0 | D9: =IF(D8="",0,IF(OR(D8="-",D8="."),IF(D8="-",36,37),IF(OR(D8=" ",D8="$"),IF(D8=" ",38,39),IF(OR(D8="/",D8="+"),IF(D8="/",40,41),IF(OR(D8="%",D8="*"),IF(D8="%",42,43),IF(AND(CODE(D8)>=65,CODE(D8)<=90),CODE(D8)-55,VALUE(D8))))))) -> 0 | E9: =IF(E8="",0,IF(OR(E8="-",E8="."),IF(E8="-",36,37),IF(OR(E8=" ",E8="$"),IF(E8=" ",38,39),IF(OR(E8="/",E8="+"),IF(E8="/",40,41),IF(OR(E8="%",E8="*"),IF(E8="%",42,43),IF(AND(CODE(E8)>=65,CODE(E8)<=90),CODE(E8)-55,VALUE(E8))))))) -> 0 | F9: =IF(F8="",0,IF(OR(F8="-",F8="."),IF(F8="-",36,37),IF(OR(F8=" ",F8="$"),IF(F8=" ",38,39),IF(OR(F8="/",F8="+"),IF(F8="/",40,41),IF(OR(F8="%",F8="*"),IF(F8="%",42,43),IF(AND(CODE(F8)>=65,CODE(F8)<=90),CODE(F8)-55,VALUE(F8))))))) -> 0 | G9: =IF(G8="",0,IF(OR(G8="-",G8="."),IF(G8="-",36,37),IF(OR(G8=" ",G8="$"),IF(G8=" ",38,39),IF(OR(G8="/",G8="+"),IF(G8="/",40,41),IF(OR(G8="%",G8="*"),IF(G8="%",42,43),IF(AND(CODE(G8)>=65,CODE(G8)<=90),CODE(G8)-55,VALUE(G8))))))) -> 0 | H9: =IF(H8="",0,IF(OR(H8="-",H8="."),IF(H8="-",36,37),IF(OR(H8=" ",H8="$"),IF(H8=" ",38,39),IF(OR(H8="/",H8="+"),IF(H8="/",40,41),IF(OR(H8="%",H8="*"),IF(H8="%",42,43),IF(AND(CODE(H8)>=65,CODE(H8)<=90),CODE(H8)-55,VALUE(H8))))))) -> 0 | I9: =IF(I8="",0,IF(OR(I8="-",I8="."),IF(I8="-",36,37),IF(OR(I8=" ",I8="$"),IF(I8=" ",38,39),IF(OR(I8="/",I8="+"),IF(I8="/",40,41),IF(OR(I8="%",I8="*"),IF(I8="%",42,43),IF(AND(CODE(I8)>=65,CODE(I8)<=90),CODE(I8)-55,VALUE(I8))))))) -> 0 | J9: =IF(J8="",0,IF(OR(J8="-",J8="."),IF(J8="-",36,37),IF(OR(J8=" ",J8="$"),IF(J8=" ",38,39),IF(OR(J8="/",J8="+"),IF(J8="/",40,41),IF(OR(J8="%",J8="*"),IF(J8="%",42,43),IF(AND(CODE(J8)>=65,CODE(J8)<=90),CODE(J8)-55,VALUE(J8))))))) -> 0 | ... R9: =IF(R8="",0,IF(OR(R8="-",R8="."),IF(R8="-",36,37),IF(OR(R8=" ",R8="$"),IF(R8=" ",38,39),IF(OR(R8="/",R8="+"),IF(R8="/",40,41),IF(OR(R8="%",R8="*"),IF(R8="%",42,43),IF(AND(CODE(R8)>=65,CODE(R8)<=90),CODE(R8)-55,VALUE(R8))))))) -> 0
A10: 合計 | B10: =SUM(C9:Q9) -> 0
A11: モジュラス43 | B11: =MOD(B10,43) -> 0
A12: チェックデジット | B12: =IF(OR(B11=36,B11=37),IF(B11=36,"-","."),IF(OR(B11=38,B11=39),IF(B11=38," ","$"),IF(OR(B11=40,B11=41),IF(B11=40,"/","+"),IF(OR(B11=42,B11=43),IF(B11=42,"%","*"),IF(AND(B11>=10,B11<=35),CHAR(B11+55),B11))))) -> 0
A14: CODE39にする文字列 | B14: =IF(B4="","","*"&B4&B12& "*")
A15: 上位８バイト
A16: 先頭からの桁数 | S16: 1 | AU16: 2 | BW16: 3 | CY16: 4 | EA16: 5 | FC16: 6 | GE16: 7 | HG16: 8
A17: その桁の文字 | S17: =MID(B14,S16,1) | AU17: =MID(B14,AU16,1) | BW17: =MID(B14,BW16,1) | CY17: =MID(B14,CY16,1) | EA17: =MID(B14,EA16,1) | FC17: =MID(B14,FC16,1) | GE17: =MID(B14,GE16,1) | HG17: =MID(B14,HG16,1)
A18: バーコード | S18: =IF(S17="","",VLOOKUP("~"&S17,CODE39!$A$2:'CODE39'!$AB$45,2,FALSE)) | T18: =IF(S17="","",VLOOKUP("~"&S17,CODE39!$A$2:'CODE39'!$AB$45,3,FALSE)) | U18: =IF(S17="","",VLOOKUP("~"&S17,CODE39!$A$2:'CODE39'!$AB$45,4,FALSE)) | V18: =IF(S17="","",VLOOKUP("~"&S17,CODE39!$A$2:'CODE39'!$AB$45,5,FALSE)) | W18: =IF(S17="","",VLOOKUP("~"&S17,CODE39!$A$2:'CODE39'!$AB$45,6,FALSE)) | X18: =IF(S17="","",VLOOKUP("~"&S17,CODE39!$A$2:'CODE39'!$AB$45,7,FALSE)) | Y18: =IF(S17="","",VLOOKUP("~"&S17,CODE39!$A$2:'CODE39'!$AB$45,8,FALSE)) | Z18: =IF(S17="","",VLOOKUP("~"&S17,CODE39!$A$2:'CODE39'!$AB$45,9,FALSE)) | AA18: =IF(S17="","",VLOOKUP("~"&S17,CODE39!$A$2:'CODE39'!$AB$45,10,FALSE)) | AB18: =IF(S17="","",VLOOKUP("~"&S17,CODE39!$A$2:'CODE39'!$AB$45,11,FALSE)) | AC18: =IF(S17="","",VLOOKUP("~"&S17,CODE39!$A$2:'CODE39'!$AB$45,12,FALSE)) | AD18: =IF(S17="","",VLOOKUP("~"&S17,CODE39!$A$2:'CODE39'!$AB$45,13,FALSE)) | AE18: =IF(S17="","",VLOOKUP("~"&S17,CODE39!$A$2:'CODE39'!$AB$45,14,FALSE)) | AF18: =IF(S17="","",VLOOKUP("~"&S17,CODE39!$A$2:'CODE39'!$AB$45,15,FALSE)) | AG18: =IF(S17="","",VLOOKUP("~"&S17,CODE39!$A$2:'CODE39'!$AB$45,16,FALSE)) | AH18: =IF(S17="","",VLOOKUP("~"&S17,CODE39!$A$2:'CODE39'!$AB$45,17,FALSE)) | AI18: =IF(S17="","",VLOOKUP("~"&S17,CODE39!$A$2:'CODE39'!$AB$45,18,FALSE)) | AJ18: =IF(S17="","",VLOOKUP("~"&S17,CODE39!$A$2:'CODE39'!$AB$45,19,FALSE)) | AK18: =IF(S17="","",VLOOKUP("~"&S17,CODE39!$A$2:'CODE39'!$AB$45,20,FALSE)) | AL18: =IF(S17="","",VLOOKUP("~"&S17,CODE39!$A$2:'CODE39'!$AB$45,21,FALSE)) | AM18: =IF(S17="","",VLOOKUP("~"&S17,CODE39!$A$2:'CODE39'!$AB$45,22,FALSE)) | AN18: =IF(S17="","",VLOOKUP("~"&S17,CODE39!$A$2:'CODE39'!$AB$45,23,FALSE)) | AO18: =IF(S17="","",VLOOKUP("~"&S17,CODE39!$A$2:'CODE39'!$AB$45,24,FALSE)) | AP18: =IF(S17="","",VLOOKUP("~"&S17,CODE39!$A$2:'CODE39'!$AB$45,25,FALSE)) | AQ18: =IF(S17="","",VLOOKUP("~"&S17,CODE39!$A$2:'CODE39'!$AB$45,26,FALSE)) | AR18: =IF(S17="","",VLOOKUP("~"&S17,CODE39!$A$2:'CODE39'!$AB$45,27,FALSE)) | AS18: =IF(S17="","",VLOOKUP("~"&S17,CODE39!$A$2:'CODE39'!$AB$45,28,FALSE)) | AU18: =IF(AU17="","",VLOOKUP("~"&AU17,CODE39!$A$2:'CODE39'!$AB$45,2,FALSE)) | AV18: =IF(AU17="","",VLOOKUP("~"&AU17,CODE39!$A$2:'CODE39'!$AB$45,3,FALSE)) | AW18: =IF(AU17="","",VLOOKUP("~"&AU17,CODE39!$A$2:'CODE39'!$AB$45,4,FALSE)) | AX18: =IF(AU17="","",VLOOKUP("~"&AU17,CODE39!$A$2:'CODE39'!$AB$45,5,FALSE)) | AY18: =IF(AU17="","",VLOOKUP("~"&AU17,CODE39!$A$2:'CODE39'!$AB$45,6,FALSE)) | AZ18: =IF(AU17="","",VLOOKUP("~"&AU17,CODE39!$A$2:'CODE39'!$AB$45,7,FALSE)) | BA18: =IF(AU17="","",VLOOKUP("~"&AU17,CODE39!$A$2:'CODE39'!$AB$45,8,FALSE)) | BB18: =IF(AU17="","",VLOOKUP("~"&AU17,CODE39!$A$2:'CODE39'!$AB$45,9,FALSE)) | BC18: =IF(AU17="","",VLOOKUP("~"&AU17,CODE39!$A$2:'CODE39'!$AB$45,10,FALSE)) | BD18: =IF(AU17="","",VLOOKUP("~"&AU17,CODE39!$A$2:'CODE39'!$AB$45,11,FALSE)) | BE18: =IF(AU17="","",VLOOKUP("~"&AU17,CODE39!$A$2:'CODE39'!$AB$45,12,FALSE)) | BF18: =IF(AU17="","",VLOOKUP("~"&AU17,CODE39!$A$2:'CODE39'!$AB$45,13,FALSE)) | BG18: =IF(AU17="","",VLOOKUP("~"&AU17,CODE39!$A$2:'CODE39'!$AB$45,14,FALSE)) | BH18: =IF(AU17="","",VLOOKUP("~"&AU17,CODE39!$A$2:'CODE39'!$AB$45,15,FALSE)) | BI18: =IF(AU17="","",VLOOKUP("~"&AU17,CODE39!$A$2:'CODE39'!$AB$45,16,FALSE)) | BJ18: =IF(AU17="","",VLOOKUP("~"&AU17,CODE39!$A$2:'CODE39'!$AB$45,17,FALSE)) | BK18: =IF(AU17="","",VLOOKUP("~"&AU17,CODE39!$A$2:'CODE39'!$AB$45,18,FALSE)) | BL18: =IF(AU17="","",VLOOKUP("~"&AU17,CODE39!$A$2:'CODE39'!$AB$45,19,FALSE)) | BM18: =IF(AU17="","",VLOOKUP("~"&AU17,CODE39!$A$2:'CODE39'!$AB$45,20,FALSE)) | BN18: =IF(AU17="","",VLOOKUP("~"&AU17,CODE39!$A$2:'CODE39'!$AB$45,21,FALSE)) | BO18: =IF(AU17="","",VLOOKUP("~"&AU17,CODE39!$A$2:'CODE39'!$AB$45,22,FALSE)) | BP18: =IF(AU17="","",VLOOKUP("~"&AU17,CODE39!$A$2:'CODE39'!$AB$45,23,FALSE)) | BQ18: =IF(AU17="","",VLOOKUP("~"&AU17,CODE39!$A$2:'CODE39'!$AB$45,24,FALSE)) | BR18: =IF(AU17="","",VLOOKUP("~"&AU17,CODE39!$A$2:'CODE39'!$AB$45,25,FALSE)) | BS18: =IF(AU17="","",VLOOKUP("~"&AU17,CODE39!$A$2:'CODE39'!$AB$45,26,FALSE)) | BT18: =IF(AU17="","",VLOOKUP("~"&AU17,CODE39!$A$2:'CODE39'!$AB$45,27,FALSE)) | BU18: =IF(AU17="","",VLOOKUP("~"&AU17,CODE39!$A$2:'CODE39'!$AB$45,28,FALSE)) | BW18: =IF(BW17="","",VLOOKUP("~"&BW17,CODE39!$A$2:'CODE39'!$AB$45,2,FALSE)) | BX18: =IF(BW17="","",VLOOKUP("~"&BW17,CODE39!$A$2:'CODE39'!$AB$45,3,FALSE)) | BY18: =IF(BW17="","",VLOOKUP("~"&BW17,CODE39!$A$2:'CODE39'!$AB$45,4,FALSE)) | BZ18: =IF(BW17="","",VLOOKUP("~"&BW17,CODE39!$A$2:'CODE39'!$AB$45,5,FALSE)) | CA18: =IF(BW17="","",VLOOKUP("~"&BW17,CODE39!$A$2:'CODE39'!$AB$45,6,FALSE)) | CB18: =IF(BW17="","",VLOOKUP("~"&BW17,CODE39!$A$2:'CODE39'!$AB$45,7,FALSE)) | CC18: =IF(BW17="","",VLOOKUP("~"&BW17,CODE39!$A$2:'CODE39'!$AB$45,8,FALSE)) | CD18: =IF(BW17="","",VLOOKUP("~"&BW17,CODE39!$A$2:'CODE39'!$AB$45,9,FALSE)) | CE18: =IF(BW17="","",VLOOKUP("~"&BW17,CODE39!$A$2:'CODE39'!$AB$45,10,FALSE)) | CF18: =IF(BW17="","",VLOOKUP("~"&BW17,CODE39!$A$2:'CODE39'!$AB$45,11,FALSE)) | CG18: =IF(BW17="","",VLOOKUP("~"&BW17,CODE39!$A$2:'CODE39'!$AB$45,12,FALSE)) | CH18: =IF(BW17="","",VLOOKUP("~"&BW17,CODE39!$A$2:'CODE39'!$AB$45,13,FALSE)) | CI18: =IF(BW17="","",VLOOKUP("~"&BW17,CODE39!$A$2:'CODE39'!$AB$45,14,FALSE)) | CJ18: =IF(BW17="","",VLOOKUP("~"&BW17,CODE39!$A$2:'CODE39'!$AB$45,15,FALSE)) | CK18: =IF(BW17="","",VLOOKUP("~"&BW17,CODE39!$A$2:'CODE39'!$AB$45,16,FALSE)) | CL18: =IF(BW17="","",VLOOKUP("~"&BW17,CODE39!$A$2:'CODE39'!$AB$45,17,FALSE)) | CM18: =IF(BW17="","",VLOOKUP("~"&BW17,CODE39!$A$2:'CODE39'!$AB$45,18,FALSE)) | CN18: =IF(BW17="","",VLOOKUP("~"&BW17,CODE39!$A$2:'CODE39'!$AB$45,19,FALSE)) | CO18: =IF(BW17="","",VLOOKUP("~"&BW17,CODE39!$A$2:'CODE39'!$AB$45,20,FALSE)) | CP18: =IF(BW17="","",VLOOKUP("~"&BW17,CODE39!$A$2:'CODE39'!$AB$45,21,FALSE)) | CQ18: =IF(BW17="","",VLOOKUP("~"&BW17,CODE39!$A$2:'CODE39'!$AB$45,22,FALSE)) | CR18: =IF(BW17="","",VLOOKUP("~"&BW17,CODE39!$A$2:'CODE39'!$AB$45,23,FALSE)) | CS18: =IF(BW17="","",VLOOKUP("~"&BW17,CODE39!$A$2:'CODE39'!$AB$45,24,FALSE)) | CT18: =IF(BW17="","",VLOOKUP("~"&BW17,CODE39!$A$2:'CODE39'!$AB$45,25,FALSE)) | CU18: =IF(BW17="","",VLOOKUP("~"&BW17,CODE39!$A$2:'CODE39'!$AB$45,26,FALSE)) | CV18: =IF(BW17="","",VLOOKUP("~"&BW17,CODE39!$A$2:'CODE39'!$AB$45,27,FALSE)) | CW18: =IF(BW17="","",VLOOKUP("~"&BW17,CODE39!$A$2:'CODE39'!$AB$45,28,FALSE)) | CY18: =IF(CY17="","",VLOOKUP("~"&CY17,CODE39!$A$2:'CODE39'!$AB$45,2,FALSE)) | CZ18: =IF(CY17="","",VLOOKUP("~"&CY17,CODE39!$A$2:'CODE39'!$AB$45,3,FALSE)) | DA18: =IF(CY17="","",VLOOKUP("~"&CY17,CODE39!$A$2:'CODE39'!$AB$45,4,FALSE)) | DB18: =IF(CY17="","",VLOOKUP("~"&CY17,CODE39!$A$2:'CODE39'!$AB$45,5,FALSE)) | DC18: =IF(CY17="","",VLOOKUP("~"&CY17,CODE39!$A$2:'CODE39'!$AB$45,6,FALSE)) | DD18: =IF(CY17="","",VLOOKUP("~"&CY17,CODE39!$A$2:'CODE39'!$AB$45,7,FALSE)) | DE18: =IF(CY17="","",VLOOKUP("~"&CY17,CODE39!$A$2:'CODE39'!$AB$45,8,FALSE)) | DF18: =IF(CY17="","",VLOOKUP("~"&CY17,CODE39!$A$2:'CODE39'!$AB$45,9,FALSE)) | DG18: =IF(CY17="","",VLOOKUP("~"&CY17,CODE39!$A$2:'CODE39'!$AB$45,10,FALSE)) | DH18: =IF(CY17="","",VLOOKUP("~"&CY17,CODE39!$A$2:'CODE39'!$AB$45,11,FALSE)) | DI18: =IF(CY17="","",VLOOKUP("~"&CY17,CODE39!$A$2:'CODE39'!$AB$45,12,FALSE)) | DJ18: =IF(CY17="","",VLOOKUP("~"&CY17,CODE39!$A$2:'CODE39'!$AB$45,13,FALSE)) | DK18: =IF(CY17="","",VLOOKUP("~"&CY17,CODE39!$A$2:'CODE39'!$AB$45,14,FALSE)) | DL18: =IF(CY17="","",VLOOKUP("~"&CY17,CODE39!$A$2:'CODE39'!$AB$45,15,FALSE)) | DM18: =IF(CY17="","",VLOOKUP("~"&CY17,CODE39!$A$2:'CODE39'!$AB$45,16,FALSE)) | DN18: =IF(CY17="","",VLOOKUP("~"&CY17,CODE39!$A$2:'CODE39'!$AB$45,17,FALSE)) | DO18: =IF(CY17="","",VLOOKUP("~"&CY17,CODE39!$A$2:'CODE39'!$AB$45,18,FALSE)) | DP18: =IF(CY17="","",VLOOKUP("~"&CY17,CODE39!$A$2:'CODE39'!$AB$45,19,FALSE)) | DQ18: =IF(CY17="","",VLOOKUP("~"&CY17,CODE39!$A$2:'CODE39'!$AB$45,20,FALSE)) | DR18: =IF(CY17="","",VLOOKUP("~"&CY17,CODE39!$A$2:'CODE39'!$AB$45,21,FALSE)) | DS18: =IF(CY17="","",VLOOKUP("~"&CY17,CODE39!$A$2:'CODE39'!$AB$45,22,FALSE)) | DT18: =IF(CY17="","",VLOOKUP("~"&CY17,CODE39!$A$2:'CODE39'!$AB$45,23,FALSE)) | DU18: =IF(CY17="","",VLOOKUP("~"&CY17,CODE39!$A$2:'CODE39'!$AB$45,24,FALSE)) | DV18: =IF(CY17="","",VLOOKUP("~"&CY17,CODE39!$A$2:'CODE39'!$AB$45,25,FALSE)) | DW18: =IF(CY17="","",VLOOKUP("~"&CY17,CODE39!$A$2:'CODE39'!$AB$45,26,FALSE)) | DX18: =IF(CY17="","",VLOOKUP("~"&CY17,CODE39!$A$2:'CODE39'!$AB$45,27,FALSE)) | DY18: =IF(CY17="","",VLOOKUP("~"&CY17,CODE39!$A$2:'CODE39'!$AB$45,28,FALSE)) | EA18: =IF(EA17="","",VLOOKUP("~"&EA17,CODE39!$A$2:'CODE39'!$AB$45,2,FALSE)) | EB18: =IF(EA17="","",VLOOKUP("~"&EA17,CODE39!$A$2:'CODE39'!$AB$45,3,FALSE)) | EC18: =IF(EA17="","",VLOOKUP("~"&EA17,CODE39!$A$2:'CODE39'!$AB$45,4,FALSE)) | ED18: =IF(EA17="","",VLOOKUP("~"&EA17,CODE39!$A$2:'CODE39'!$AB$45,5,FALSE)) | EE18: =IF(EA17="","",VLOOKUP("~"&EA17,CODE39!$A$2:'CODE39'!$AB$45,6,FALSE)) | EF18: =IF(EA17="","",VLOOKUP("~"&EA17,CODE39!$A$2:'CODE39'!$AB$45,7,FALSE)) | EG18: =IF(EA17="","",VLOOKUP("~"&EA17,CODE39!$A$2:'CODE39'!$AB$45,8,FALSE)) | EH18: =IF(EA17="","",VLOOKUP("~"&EA17,CODE39!$A$2:'CODE39'!$AB$45,9,FALSE)) | EI18: =IF(EA17="","",VLOOKUP("~"&EA17,CODE39!$A$2:'CODE39'!$AB$45,10,FALSE)) | EJ18: =IF(EA17="","",VLOOKUP("~"&EA17,CODE39!$A$2:'CODE39'!$AB$45,11,FALSE)) | EK18: =IF(EA17="","",VLOOKUP("~"&EA17,CODE39!$A$2:'CODE39'!$AB$45,12,FALSE)) | EL18: =IF(EA17="","",VLOOKUP("~"&EA17,CODE39!$A$2:'CODE39'!$AB$45,13,FALSE)) | EM18: =IF(EA17="","",VLOOKUP("~"&EA17,CODE39!$A$2:'CODE39'!$AB$45,14,FALSE)) | EN18: =IF(EA17="","",VLOOKUP("~"&EA17,CODE39!$A$2:'CODE39'!$AB$45,15,FALSE)) | EO18: =IF(EA17="","",VLOOKUP("~"&EA17,CODE39!$A$2:'CODE39'!$AB$45,16,FALSE)) | EP18: =IF(EA17="","",VLOOKUP("~"&EA17,CODE39!$A$2:'CODE39'!$AB$45,17,FALSE)) | EQ18: =IF(EA17="","",VLOOKUP("~"&EA17,CODE39!$A$2:'CODE39'!$AB$45,18,FALSE)) | ER18: =IF(EA17="","",VLOOKUP("~"&EA17,CODE39!$A$2:'CODE39'!$AB$45,19,FALSE)) | ES18: =IF(EA17="","",VLOOKUP("~"&EA17,CODE39!$A$2:'CODE39'!$AB$45,20,FALSE)) | ET18: =IF(EA17="","",VLOOKUP("~"&EA17,CODE39!$A$2:'CODE39'!$AB$45,21,FALSE)) | EU18: =IF(EA17="","",VLOOKUP("~"&EA17,CODE39!$A$2:'CODE39'!$AB$45,22,FALSE)) | EV18: =IF(EA17="","",VLOOKUP("~"&EA17,CODE39!$A$2:'CODE39'!$AB$45,23,FALSE)) | EW18: =IF(EA17="","",VLOOKUP("~"&EA17,CODE39!$A$2:'CODE39'!$AB$45,24,FALSE)) | EX18: =IF(EA17="","",VLOOKUP("~"&EA17,CODE39!$A$2:'CODE39'!$AB$45,25,FALSE)) | EY18: =IF(EA17="","",VLOOKUP("~"&EA17,CODE39!$A$2:'CODE39'!$AB$45,26,FALSE)) | EZ18: =IF(EA17="","",VLOOKUP("~"&EA17,CODE39!$A$2:'CODE39'!$AB$45,27,FALSE)) | FA18: =IF(EA17="","",VLOOKUP("~"&EA17,CODE39!$A$2:'CODE39'!$AB$45,28,FALSE)) | FC18: =IF(FC17="","",VLOOKUP("~"&FC17,CODE39!$A$2:'CODE39'!$AB$45,2,FALSE)) | FD18: =IF(FC17="","",VLOOKUP("~"&FC17,CODE39!$A$2:'CODE39'!$AB$45,3,FALSE)) | FE18: =IF(FC17="","",VLOOKUP("~"&FC17,CODE39!$A$2:'CODE39'!$AB$45,4,FALSE)) | FF18: =IF(FC17="","",VLOOKUP("~"&FC17,CODE39!$A$2:'CODE39'!$AB$45,5,FALSE)) | FG18: =IF(FC17="","",VLOOKUP("~"&FC17,CODE39!$A$2:'CODE39'!$AB$45,6,FALSE)) | FH18: =IF(FC17="","",VLOOKUP("~"&FC17,CODE39!$A$2:'CODE39'!$AB$45,7,FALSE)) | FI18: =IF(FC17="","",VLOOKUP("~"&FC17,CODE39!$A$2:'CODE39'!$AB$45,8,FALSE)) | FJ18: =IF(FC17="","",VLOOKUP("~"&FC17,CODE39!$A$2:'CODE39'!$AB$45,9,FALSE)) | FK18: =IF(FC17="","",VLOOKUP("~"&FC17,CODE39!$A$2:'CODE39'!$AB$45,10,FALSE)) | FL18: =IF(FC17="","",VLOOKUP("~"&FC17,CODE39!$A$2:'CODE39'!$AB$45,11,FALSE)) | FM18: =IF(FC17="","",VLOOKUP("~"&FC17,CODE39!$A$2:'CODE39'!$AB$45,12,FALSE)) | FN18: =IF(FC17="","",VLOOKUP("~"&FC17,CODE39!$A$2:'CODE39'!$AB$45,13,FALSE)) | FO18: =IF(FC17="","",VLOOKUP("~"&FC17,CODE39!$A$2:'CODE39'!$AB$45,14,FALSE)) | FP18: =IF(FC17="","",VLOOKUP("~"&FC17,CODE39!$A$2:'CODE39'!$AB$45,15,FALSE)) | FQ18: =IF(FC17="","",VLOOKUP("~"&FC17,CODE39!$A$2:'CODE39'!$AB$45,16,FALSE)) | FR18: =IF(FC17="","",VLOOKUP("~"&FC17,CODE39!$A$2:'CODE39'!$AB$45,17,FALSE)) | FS18: =IF(FC17="","",VLOOKUP("~"&FC17,CODE39!$A$2:'CODE39'!$AB$45,18,FALSE)) | FT18: =IF(FC17="","",VLOOKUP("~"&FC17,CODE39!$A$2:'CODE39'!$AB$45,19,FALSE)) | FU18: =IF(FC17="","",VLOOKUP("~"&FC17,CODE39!$A$2:'CODE39'!$AB$45,20,FALSE)) | FV18: =IF(FC17="","",VLOOKUP("~"&FC17,CODE39!$A$2:'CODE39'!$AB$45,21,FALSE)) | FW18: =IF(FC17="","",VLOOKUP("~"&FC17,CODE39!$A$2:'CODE39'!$AB$45,22,FALSE)) | FX18: =IF(FC17="","",VLOOKUP("~"&FC17,CODE39!$A$2:'CODE39'!$AB$45,23,FALSE)) | FY18: =IF(FC17="","",VLOOKUP("~"&FC17,CODE39!$A$2:'CODE39'!$AB$45,24,FALSE)) | FZ18: =IF(FC17="","",VLOOKUP("~"&FC17,CODE39!$A$2:'CODE39'!$AB$45,25,FALSE)) | GA18: =IF(FC17="","",VLOOKUP("~"&FC17,CODE39!$A$2:'CODE39'!$AB$45,26,FALSE)) | GB18: =IF(FC17="","",VLOOKUP("~"&FC17,CODE39!$A$2:'CODE39'!$AB$45,27,FALSE)) | GC18: =IF(FC17="","",VLOOKUP("~"&FC17,CODE39!$A$2:'CODE39'!$AB$45,28,FALSE)) | GE18: =IF(GE17="","",VLOOKUP("~"&GE17,CODE39!$A$2:'CODE39'!$AB$45,2,FALSE)) | GF18: =IF(GE17="","",VLOOKUP("~"&GE17,CODE39!$A$2:'CODE39'!$AB$45,3,FALSE)) | GG18: =IF(GE17="","",VLOOKUP("~"&GE17,CODE39!$A$2:'CODE39'!$AB$45,4,FALSE)) | GH18: =IF(GE17="","",VLOOKUP("~"&GE17,CODE39!$A$2:'CODE39'!$AB$45,5,FALSE)) | GI18: =IF(GE17="","",VLOOKUP("~"&GE17,CODE39!$A$2:'CODE39'!$AB$45,6,FALSE)) | GJ18: =IF(GE17="","",VLOOKUP("~"&GE17,CODE39!$A$2:'CODE39'!$AB$45,7,FALSE)) | GK18: =IF(GE17="","",VLOOKUP("~"&GE17,CODE39!$A$2:'CODE39'!$AB$45,8,FALSE)) | GL18: =IF(GE17="","",VLOOKUP("~"&GE17,CODE39!$A$2:'CODE39'!$AB$45,9,FALSE)) | GM18: =IF(GE17="","",VLOOKUP("~"&GE17,CODE39!$A$2:'CODE39'!$AB$45,10,FALSE)) | GN18: =IF(GE17="","",VLOOKUP("~"&GE17,CODE39!$A$2:'CODE39'!$AB$45,11,FALSE)) | GO18: =IF(GE17="","",VLOOKUP("~"&GE17,CODE39!$A$2:'CODE39'!$AB$45,12,FALSE)) | GP18: =IF(GE17="","",VLOOKUP("~"&GE17,CODE39!$A$2:'CODE39'!$AB$45,13,FALSE)) | GQ18: =IF(GE17="","",VLOOKUP("~"&GE17,CODE39!$A$2:'CODE39'!$AB$45,14,FALSE)) | GR18: =IF(GE17="","",VLOOKUP("~"&GE17,CODE39!$A$2:'CODE39'!$AB$45,15,FALSE)) | GS18: =IF(GE17="","",VLOOKUP("~"&GE17,CODE39!$A$2:'CODE39'!$AB$45,16,FALSE)) | GT18: =IF(GE17="","",VLOOKUP("~"&GE17,CODE39!$A$2:'CODE39'!$AB$45,17,FALSE)) | GU18: =IF(GE17="","",VLOOKUP("~"&GE17,CODE39!$A$2:'CODE39'!$AB$45,18,FALSE)) | GV18: =IF(GE17="","",VLOOKUP("~"&GE17,CODE39!$A$2:'CODE39'!$AB$45,19,FALSE)) | GW18: =IF(GE17="","",VLOOKUP("~"&GE17,CODE39!$A$2:'CODE39'!$AB$45,20,FALSE)) | GX18: =IF(GE17="","",VLOOKUP("~"&GE17,CODE39!$A$2:'CODE39'!$AB$45,21,FALSE)) | GY18: =IF(GE17="","",VLOOKUP("~"&GE17,CODE39!$A$2:'CODE39'!$AB$45,22,FALSE)) | GZ18: =IF(GE17="","",VLOOKUP("~"&GE17,CODE39!$A$2:'CODE39'!$AB$45,23,FALSE)) | HA18: =IF(GE17="","",VLOOKUP("~"&GE17,CODE39!$A$2:'CODE39'!$AB$45,24,FALSE)) | HB18: =IF(GE17="","",VLOOKUP("~"&GE17,CODE39!$A$2:'CODE39'!$AB$45,25,FALSE)) | HC18: =IF(GE17="","",VLOOKUP("~"&GE17,CODE39!$A$2:'CODE39'!$AB$45,26,FALSE)) | HD18: =IF(GE17="","",VLOOKUP("~"&GE17,CODE39!$A$2:'CODE39'!$AB$45,27,FALSE)) | HE18: =IF(GE17="","",VLOOKUP("~"&GE17,CODE39!$A$2:'CODE39'!$AB$45,28,FALSE)) | HG18: =IF(HG17="","",VLOOKUP("~"&HG17,CODE39!$A$2:'CODE39'!$AB$45,2,FALSE)) | HH18: =IF(HG17="","",VLOOKUP("~"&HG17,CODE39!$A$2:'CODE39'!$AB$45,3,FALSE)) | HI18: =IF(HG17="","",VLOOKUP("~"&HG17,CODE39!$A$2:'CODE39'!$AB$45,4,FALSE)) | HJ18: =IF(HG17="","",VLOOKUP("~"&HG17,CODE39!$A$2:'CODE39'!$AB$45,5,FALSE)) | HK18: =IF(HG17="","",VLOOKUP("~"&HG17,CODE39!$A$2:'CODE39'!$AB$45,6,FALSE)) | HL18: =IF(HG17="","",VLOOKUP("~"&HG17,CODE39!$A$2:'CODE39'!$AB$45,7,FALSE)) | HM18: =IF(HG17="","",VLOOKUP("~"&HG17,CODE39!$A$2:'CODE39'!$AB$45,8,FALSE)) | HN18: =IF(HG17="","",VLOOKUP("~"&HG17,CODE39!$A$2:'CODE39'!$AB$45,9,FALSE)) | HO18: =IF(HG17="","",VLOOKUP("~"&HG17,CODE39!$A$2:'CODE39'!$AB$45,10,FALSE)) | HP18: =IF(HG17="","",VLOOKUP("~"&HG17,CODE39!$A$2:'CODE39'!$AB$45,11,FALSE)) | HQ18: =IF(HG17="","",VLOOKUP("~"&HG17,CODE39!$A$2:'CODE39'!$AB$45,12,FALSE)) | HR18: =IF(HG17="","",VLOOKUP("~"&HG17,CODE39!$A$2:'CODE39'!$AB$45,13,FALSE)) | HS18: =IF(HG17="","",VLOOKUP("~"&HG17,CODE39!$A$2:'CODE39'!$AB$45,14,FALSE)) | HT18: =IF(HG17="","",VLOOKUP("~"&HG17,CODE39!$A$2:'CODE39'!$AB$45,15,FALSE)) | HU18: =IF(HG17="","",VLOOKUP("~"&HG17,CODE39!$A$2:'CODE39'!$AB$45,16,FALSE)) | HV18: =IF(HG17="","",VLOOKUP("~"&HG17,CODE39!$A$2:'CODE39'!$AB$45,17,FALSE)) | HW18: =IF(HG17="","",VLOOKUP("~"&HG17,CODE39!$A$2:'CODE39'!$AB$45,18,FALSE)) | HX18: =IF(HG17="","",VLOOKUP("~"&HG17,CODE39!$A$2:'CODE39'!$AB$45,19,FALSE)) | HY18: =IF(HG17="","",VLOOKUP("~"&HG17,CODE39!$A$2:'CODE39'!$AB$45,20,FALSE)) | HZ18: =IF(HG17="","",VLOOKUP("~"&HG17,CODE39!$A$2:'CODE39'!$AB$45,21,FALSE)) | IA18: =IF(HG17="","",VLOOKUP("~"&HG17,CODE39!$A$2:'CODE39'!$AB$45,22,FALSE)) | IB18: =IF(HG17="","",VLOOKUP("~"&HG17,CODE39!$A$2:'CODE39'!$AB$45,23,FALSE)) | IC18: =IF(HG17="","",VLOOKUP("~"&HG17,CODE39!$A$2:'CODE39'!$AB$45,24,FALSE)) | ID18: =IF(HG17="","",VLOOKUP("~"&HG17,CODE39!$A$2:'CODE39'!$AB$45,25,FALSE)) | IE18: =IF(HG17="","",VLOOKUP("~"&HG17,CODE39!$A$2:'CODE39'!$AB$45,26,FALSE)) | IF18: =IF(HG17="","",VLOOKUP("~"&HG17,CODE39!$A$2:'CODE39'!$AB$45,27,FALSE)) | IG18: =IF(HG17="","",VLOOKUP("~"&HG17,CODE39!$A$2:'CODE39'!$AB$45,28,FALSE))
A19: 下位８バイト
A20: 先頭からの桁数 | S20: 9 | AU20: 10 | BW20: 11 | CY20: 12 | EA20: 13 | FC20: 14 | GE20: 15 | HG20: 16
A21: その桁の文字 | S21: =MID(B14,S20,1) | AU21: =MID(B14,AU20,1) | BW21: =MID(B14,BW20,1) | CY21: =MID(B14,CY20,1) | EA21: =MID(B14,EA20,1) | FC21: =MID(B14,FC20,1) | GE21: =MID(B14,GE20,1) | HG21: =MID(B14,HG20,1)
A22: バーコード | S22: =IF(S21="","",VLOOKUP("~"&S21,CODE39!$A$2:'CODE39'!$AB$45,2,FALSE)) | T22: =IF(S21="","",VLOOKUP("~"&S21,CODE39!$A$2:'CODE39'!$AB$45,3,FALSE)) | U22: =IF(S21="","",VLOOKUP("~"&S21,CODE39!$A$2:'CODE39'!$AB$45,4,FALSE)) | V22: =IF(S21="","",VLOOKUP("~"&S21,CODE39!$A$2:'CODE39'!$AB$45,5,FALSE)) | W22: =IF(S21="","",VLOOKUP("~"&S21,CODE39!$A$2:'CODE39'!$AB$45,6,FALSE)) | X22: =IF(S21="","",VLOOKUP("~"&S21,CODE39!$A$2:'CODE39'!$AB$45,7,FALSE)) | Y22: =IF(S21="","",VLOOKUP("~"&S21,CODE39!$A$2:'CODE39'!$AB$45,8,FALSE)) | Z22: =IF(S21="","",VLOOKUP("~"&S21,CODE39!$A$2:'CODE39'!$AB$45,9,FALSE)) | AA22: =IF(S21="","",VLOOKUP("~"&S21,CODE39!$A$2:'CODE39'!$AB$45,10,FALSE)) | AB22: =IF(S21="","",VLOOKUP("~"&S21,CODE39!$A$2:'CODE39'!$AB$45,11,FALSE)) | AC22: =IF(S21="","",VLOOKUP("~"&S21,CODE39!$A$2:'CODE39'!$AB$45,12,FALSE)) | AD22: =IF(S21="","",VLOOKUP("~"&S21,CODE39!$A$2:'CODE39'!$AB$45,13,FALSE)) | AE22: =IF(S21="","",VLOOKUP("~"&S21,CODE39!$A$2:'CODE39'!$AB$45,14,FALSE)) | AF22: =IF(S21="","",VLOOKUP("~"&S21,CODE39!$A$2:'CODE39'!$AB$45,15,FALSE)) | AG22: =IF(S21="","",VLOOKUP("~"&S21,CODE39!$A$2:'CODE39'!$AB$45,16,FALSE)) | AH22: =IF(S21="","",VLOOKUP("~"&S21,CODE39!$A$2:'CODE39'!$AB$45,17,FALSE)) | AI22: =IF(S21="","",VLOOKUP("~"&S21,CODE39!$A$2:'CODE39'!$AB$45,18,FALSE)) | AJ22: =IF(S21="","",VLOOKUP("~"&S21,CODE39!$A$2:'CODE39'!$AB$45,19,FALSE)) | AK22: =IF(S21="","",VLOOKUP("~"&S21,CODE39!$A$2:'CODE39'!$AB$45,20,FALSE)) | AL22: =IF(S21="","",VLOOKUP("~"&S21,CODE39!$A$2:'CODE39'!$AB$45,21,FALSE)) | AM22: =IF(S21="","",VLOOKUP("~"&S21,CODE39!$A$2:'CODE39'!$AB$45,22,FALSE)) | AN22: =IF(S21="","",VLOOKUP("~"&S21,CODE39!$A$2:'CODE39'!$AB$45,23,FALSE)) | AO22: =IF(S21="","",VLOOKUP("~"&S21,CODE39!$A$2:'CODE39'!$AB$45,24,FALSE)) | AP22: =IF(S21="","",VLOOKUP("~"&S21,CODE39!$A$2:'CODE39'!$AB$45,25,FALSE)) | AQ22: =IF(S21="","",VLOOKUP("~"&S21,CODE39!$A$2:'CODE39'!$AB$45,26,FALSE)) | AR22: =IF(S21="","",VLOOKUP("~"&S21,CODE39!$A$2:'CODE39'!$AB$45,27,FALSE)) | AS22: =IF(S21="","",VLOOKUP("~"&S21,CODE39!$A$2:'CODE39'!$AB$45,28,FALSE)) | AU22: =IF(AU21="","",VLOOKUP("~"&AU21,CODE39!$A$2:'CODE39'!$AB$45,2,FALSE)) | AV22: =IF(AU21="","",VLOOKUP("~"&AU21,CODE39!$A$2:'CODE39'!$AB$45,3,FALSE)) | AW22: =IF(AU21="","",VLOOKUP("~"&AU21,CODE39!$A$2:'CODE39'!$AB$45,4,FALSE)) | AX22: =IF(AU21="","",VLOOKUP("~"&AU21,CODE39!$A$2:'CODE39'!$AB$45,5,FALSE)) | AY22: =IF(AU21="","",VLOOKUP("~"&AU21,CODE39!$A$2:'CODE39'!$AB$45,6,FALSE)) | AZ22: =IF(AU21="","",VLOOKUP("~"&AU21,CODE39!$A$2:'CODE39'!$AB$45,7,FALSE)) | BA22: =IF(AU21="","",VLOOKUP("~"&AU21,CODE39!$A$2:'CODE39'!$AB$45,8,FALSE)) | BB22: =IF(AU21="","",VLOOKUP("~"&AU21,CODE39!$A$2:'CODE39'!$AB$45,9,FALSE)) | BC22: =IF(AU21="","",VLOOKUP("~"&AU21,CODE39!$A$2:'CODE39'!$AB$45,10,FALSE)) | BD22: =IF(AU21="","",VLOOKUP("~"&AU21,CODE39!$A$2:'CODE39'!$AB$45,11,FALSE)) | BE22: =IF(AU21="","",VLOOKUP("~"&AU21,CODE39!$A$2:'CODE39'!$AB$45,12,FALSE)) | BF22: =IF(AU21="","",VLOOKUP("~"&AU21,CODE39!$A$2:'CODE39'!$AB$45,13,FALSE)) | BG22: =IF(AU21="","",VLOOKUP("~"&AU21,CODE39!$A$2:'CODE39'!$AB$45,14,FALSE)) | BH22: =IF(AU21="","",VLOOKUP("~"&AU21,CODE39!$A$2:'CODE39'!$AB$45,15,FALSE)) | BI22: =IF(AU21="","",VLOOKUP("~"&AU21,CODE39!$A$2:'CODE39'!$AB$45,16,FALSE)) | BJ22: =IF(AU21="","",VLOOKUP("~"&AU21,CODE39!$A$2:'CODE39'!$AB$45,17,FALSE)) | BK22: =IF(AU21="","",VLOOKUP("~"&AU21,CODE39!$A$2:'CODE39'!$AB$45,18,FALSE)) | BL22: =IF(AU21="","",VLOOKUP("~"&AU21,CODE39!$A$2:'CODE39'!$AB$45,19,FALSE)) | BM22: =IF(AU21="","",VLOOKUP("~"&AU21,CODE39!$A$2:'CODE39'!$AB$45,20,FALSE)) | BN22: =IF(AU21="","",VLOOKUP("~"&AU21,CODE39!$A$2:'CODE39'!$AB$45,21,FALSE)) | BO22: =IF(AU21="","",VLOOKUP("~"&AU21,CODE39!$A$2:'CODE39'!$AB$45,22,FALSE)) | BP22: =IF(AU21="","",VLOOKUP("~"&AU21,CODE39!$A$2:'CODE39'!$AB$45,23,FALSE)) | BQ22: =IF(AU21="","",VLOOKUP("~"&AU21,CODE39!$A$2:'CODE39'!$AB$45,24,FALSE)) | BR22: =IF(AU21="","",VLOOKUP("~"&AU21,CODE39!$A$2:'CODE39'!$AB$45,25,FALSE)) | BS22: =IF(AU21="","",VLOOKUP("~"&AU21,CODE39!$A$2:'CODE39'!$AB$45,26,FALSE)) | BT22: =IF(AU21="","",VLOOKUP("~"&AU21,CODE39!$A$2:'CODE39'!$AB$45,27,FALSE)) | BU22: =IF(AU21="","",VLOOKUP("~"&AU21,CODE39!$A$2:'CODE39'!$AB$45,28,FALSE)) | BW22: =IF(BW21="","",VLOOKUP("~"&BW21,CODE39!$A$2:'CODE39'!$AB$45,2,FALSE)) | BX22: =IF(BW21="","",VLOOKUP("~"&BW21,CODE39!$A$2:'CODE39'!$AB$45,3,FALSE)) | BY22: =IF(BW21="","",VLOOKUP("~"&BW21,CODE39!$A$2:'CODE39'!$AB$45,4,FALSE)) | BZ22: =IF(BW21="","",VLOOKUP("~"&BW21,CODE39!$A$2:'CODE39'!$AB$45,5,FALSE)) | CA22: =IF(BW21="","",VLOOKUP("~"&BW21,CODE39!$A$2:'CODE39'!$AB$45,6,FALSE)) | CB22: =IF(BW21="","",VLOOKUP("~"&BW21,CODE39!$A$2:'CODE39'!$AB$45,7,FALSE)) | CC22: =IF(BW21="","",VLOOKUP("~"&BW21,CODE39!$A$2:'CODE39'!$AB$45,8,FALSE)) | CD22: =IF(BW21="","",VLOOKUP("~"&BW21,CODE39!$A$2:'CODE39'!$AB$45,9,FALSE)) | CE22: =IF(BW21="","",VLOOKUP("~"&BW21,CODE39!$A$2:'CODE39'!$AB$45,10,FALSE)) | CF22: =IF(BW21="","",VLOOKUP("~"&BW21,CODE39!$A$2:'CODE39'!$AB$45,11,FALSE)) | CG22: =IF(BW21="","",VLOOKUP("~"&BW21,CODE39!$A$2:'CODE39'!$AB$45,12,FALSE)) | CH22: =IF(BW21="","",VLOOKUP("~"&BW21,CODE39!$A$2:'CODE39'!$AB$45,13,FALSE)) | CI22: =IF(BW21="","",VLOOKUP("~"&BW21,CODE39!$A$2:'CODE39'!$AB$45,14,FALSE)) | CJ22: =IF(BW21="","",VLOOKUP("~"&BW21,CODE39!$A$2:'CODE39'!$AB$45,15,FALSE)) | CK22: =IF(BW21="","",VLOOKUP("~"&BW21,CODE39!$A$2:'CODE39'!$AB$45,16,FALSE)) | CL22: =IF(BW21="","",VLOOKUP("~"&BW21,CODE39!$A$2:'CODE39'!$AB$45,17,FALSE)) | CM22: =IF(BW21="","",VLOOKUP("~"&BW21,CODE39!$A$2:'CODE39'!$AB$45,18,FALSE)) | CN22: =IF(BW21="","",VLOOKUP("~"&BW21,CODE39!$A$2:'CODE39'!$AB$45,19,FALSE)) | CO22: =IF(BW21="","",VLOOKUP("~"&BW21,CODE39!$A$2:'CODE39'!$AB$45,20,FALSE)) | CP22: =IF(BW21="","",VLOOKUP("~"&BW21,CODE39!$A$2:'CODE39'!$AB$45,21,FALSE)) | CQ22: =IF(BW21="","",VLOOKUP("~"&BW21,CODE39!$A$2:'CODE39'!$AB$45,22,FALSE)) | CR22: =IF(BW21="","",VLOOKUP("~"&BW21,CODE39!$A$2:'CODE39'!$AB$45,23,FALSE)) | CS22: =IF(BW21="","",VLOOKUP("~"&BW21,CODE39!$A$2:'CODE39'!$AB$45,24,FALSE)) | CT22: =IF(BW21="","",VLOOKUP("~"&BW21,CODE39!$A$2:'CODE39'!$AB$45,25,FALSE)) | CU22: =IF(BW21="","",VLOOKUP("~"&BW21,CODE39!$A$2:'CODE39'!$AB$45,26,FALSE)) | CV22: =IF(BW21="","",VLOOKUP("~"&BW21,CODE39!$A$2:'CODE39'!$AB$45,27,FALSE)) | CW22: =IF(BW21="","",VLOOKUP("~"&BW21,CODE39!$A$2:'CODE39'!$AB$45,28,FALSE)) | CY22: =IF(CY21="","",VLOOKUP("~"&CY21,CODE39!$A$2:'CODE39'!$AB$45,2,FALSE)) | CZ22: =IF(CY21="","",VLOOKUP("~"&CY21,CODE39!$A$2:'CODE39'!$AB$45,3,FALSE)) | DA22: =IF(CY21="","",VLOOKUP("~"&CY21,CODE39!$A$2:'CODE39'!$AB$45,4,FALSE)) | DB22: =IF(CY21="","",VLOOKUP("~"&CY21,CODE39!$A$2:'CODE39'!$AB$45,5,FALSE)) | DC22: =IF(CY21="","",VLOOKUP("~"&CY21,CODE39!$A$2:'CODE39'!$AB$45,6,FALSE)) | DD22: =IF(CY21="","",VLOOKUP("~"&CY21,CODE39!$A$2:'CODE39'!$AB$45,7,FALSE)) | DE22: =IF(CY21="","",VLOOKUP("~"&CY21,CODE39!$A$2:'CODE39'!$AB$45,8,FALSE)) | DF22: =IF(CY21="","",VLOOKUP("~"&CY21,CODE39!$A$2:'CODE39'!$AB$45,9,FALSE)) | DG22: =IF(CY21="","",VLOOKUP("~"&CY21,CODE39!$A$2:'CODE39'!$AB$45,10,FALSE)) | DH22: =IF(CY21="","",VLOOKUP("~"&CY21,CODE39!$A$2:'CODE39'!$AB$45,11,FALSE)) | DI22: =IF(CY21="","",VLOOKUP("~"&CY21,CODE39!$A$2:'CODE39'!$AB$45,12,FALSE)) | DJ22: =IF(CY21="","",VLOOKUP("~"&CY21,CODE39!$A$2:'CODE39'!$AB$45,13,FALSE)) | DK22: =IF(CY21="","",VLOOKUP("~"&CY21,CODE39!$A$2:'CODE39'!$AB$45,14,FALSE)) | DL22: =IF(CY21="","",VLOOKUP("~"&CY21,CODE39!$A$2:'CODE39'!$AB$45,15,FALSE)) | DM22: =IF(CY21="","",VLOOKUP("~"&CY21,CODE39!$A$2:'CODE39'!$AB$45,16,FALSE)) | DN22: =IF(CY21="","",VLOOKUP("~"&CY21,CODE39!$A$2:'CODE39'!$AB$45,17,FALSE)) | DO22: =IF(CY21="","",VLOOKUP("~"&CY21,CODE39!$A$2:'CODE39'!$AB$45,18,FALSE)) | DP22: =IF(CY21="","",VLOOKUP("~"&CY21,CODE39!$A$2:'CODE39'!$AB$45,19,FALSE)) | DQ22: =IF(CY21="","",VLOOKUP("~"&CY21,CODE39!$A$2:'CODE39'!$AB$45,20,FALSE)) | DR22: =IF(CY21="","",VLOOKUP("~"&CY21,CODE39!$A$2:'CODE39'!$AB$45,21,FALSE)) | DS22: =IF(CY21="","",VLOOKUP("~"&CY21,CODE39!$A$2:'CODE39'!$AB$45,22,FALSE)) | DT22: =IF(CY21="","",VLOOKUP("~"&CY21,CODE39!$A$2:'CODE39'!$AB$45,23,FALSE)) | DU22: =IF(CY21="","",VLOOKUP("~"&CY21,CODE39!$A$2:'CODE39'!$AB$45,24,FALSE)) | DV22: =IF(CY21="","",VLOOKUP("~"&CY21,CODE39!$A$2:'CODE39'!$AB$45,25,FALSE)) | DW22: =IF(CY21="","",VLOOKUP("~"&CY21,CODE39!$A$2:'CODE39'!$AB$45,26,FALSE)) | DX22: =IF(CY21="","",VLOOKUP("~"&CY21,CODE39!$A$2:'CODE39'!$AB$45,27,FALSE)) | DY22: =IF(CY21="","",VLOOKUP("~"&CY21,CODE39!$A$2:'CODE39'!$AB$45,28,FALSE)) | EA22: =IF(EA21="","",VLOOKUP("~"&EA21,CODE39!$A$2:'CODE39'!$AB$45,2,FALSE)) | EB22: =IF(EA21="","",VLOOKUP("~"&EA21,CODE39!$A$2:'CODE39'!$AB$45,3,FALSE)) | EC22: =IF(EA21="","",VLOOKUP("~"&EA21,CODE39!$A$2:'CODE39'!$AB$45,4,FALSE)) | ED22: =IF(EA21="","",VLOOKUP("~"&EA21,CODE39!$A$2:'CODE39'!$AB$45,5,FALSE)) | EE22: =IF(EA21="","",VLOOKUP("~"&EA21,CODE39!$A$2:'CODE39'!$AB$45,6,FALSE)) | EF22: =IF(EA21="","",VLOOKUP("~"&EA21,CODE39!$A$2:'CODE39'!$AB$45,7,FALSE)) | EG22: =IF(EA21="","",VLOOKUP("~"&EA21,CODE39!$A$2:'CODE39'!$AB$45,8,FALSE)) | EH22: =IF(EA21="","",VLOOKUP("~"&EA21,CODE39!$A$2:'CODE39'!$AB$45,9,FALSE)) | EI22: =IF(EA21="","",VLOOKUP("~"&EA21,CODE39!$A$2:'CODE39'!$AB$45,10,FALSE)) | EJ22: =IF(EA21="","",VLOOKUP("~"&EA21,CODE39!$A$2:'CODE39'!$AB$45,11,FALSE)) | EK22: =IF(EA21="","",VLOOKUP("~"&EA21,CODE39!$A$2:'CODE39'!$AB$45,12,FALSE)) | EL22: =IF(EA21="","",VLOOKUP("~"&EA21,CODE39!$A$2:'CODE39'!$AB$45,13,FALSE)) | EM22: =IF(EA21="","",VLOOKUP("~"&EA21,CODE39!$A$2:'CODE39'!$AB$45,14,FALSE)) | EN22: =IF(EA21="","",VLOOKUP("~"&EA21,CODE39!$A$2:'CODE39'!$AB$45,15,FALSE)) | EO22: =IF(EA21="","",VLOOKUP("~"&EA21,CODE39!$A$2:'CODE39'!$AB$45,16,FALSE)) | EP22: =IF(EA21="","",VLOOKUP("~"&EA21,CODE39!$A$2:'CODE39'!$AB$45,17,FALSE)) | EQ22: =IF(EA21="","",VLOOKUP("~"&EA21,CODE39!$A$2:'CODE39'!$AB$45,18,FALSE)) | ER22: =IF(EA21="","",VLOOKUP("~"&EA21,CODE39!$A$2:'CODE39'!$AB$45,19,FALSE)) | ES22: =IF(EA21="","",VLOOKUP("~"&EA21,CODE39!$A$2:'CODE39'!$AB$45,20,FALSE)) | ET22: =IF(EA21="","",VLOOKUP("~"&EA21,CODE39!$A$2:'CODE39'!$AB$45,21,FALSE)) | EU22: =IF(EA21="","",VLOOKUP("~"&EA21,CODE39!$A$2:'CODE39'!$AB$45,22,FALSE)) | EV22: =IF(EA21="","",VLOOKUP("~"&EA21,CODE39!$A$2:'CODE39'!$AB$45,23,FALSE)) | EW22: =IF(EA21="","",VLOOKUP("~"&EA21,CODE39!$A$2:'CODE39'!$AB$45,24,FALSE)) | EX22: =IF(EA21="","",VLOOKUP("~"&EA21,CODE39!$A$2:'CODE39'!$AB$45,25,FALSE)) | EY22: =IF(EA21="","",VLOOKUP("~"&EA21,CODE39!$A$2:'CODE39'!$AB$45,26,FALSE)) | EZ22: =IF(EA21="","",VLOOKUP("~"&EA21,CODE39!$A$2:'CODE39'!$AB$45,27,FALSE)) | FA22: =IF(EA21="","",VLOOKUP("~"&EA21,CODE39!$A$2:'CODE39'!$AB$45,28,FALSE)) | FC22: =IF(FC21="","",VLOOKUP("~"&FC21,CODE39!$A$2:'CODE39'!$AB$45,2,FALSE)) | FD22: =IF(FC21="","",VLOOKUP("~"&FC21,CODE39!$A$2:'CODE39'!$AB$45,3,FALSE)) | FE22: =IF(FC21="","",VLOOKUP("~"&FC21,CODE39!$A$2:'CODE39'!$AB$45,4,FALSE)) | FF22: =IF(FC21="","",VLOOKUP("~"&FC21,CODE39!$A$2:'CODE39'!$AB$45,5,FALSE)) | FG22: =IF(FC21="","",VLOOKUP("~"&FC21,CODE39!$A$2:'CODE39'!$AB$45,6,FALSE)) | FH22: =IF(FC21="","",VLOOKUP("~"&FC21,CODE39!$A$2:'CODE39'!$AB$45,7,FALSE)) | FI22: =IF(FC21="","",VLOOKUP("~"&FC21,CODE39!$A$2:'CODE39'!$AB$45,8,FALSE)) | FJ22: =IF(FC21="","",VLOOKUP("~"&FC21,CODE39!$A$2:'CODE39'!$AB$45,9,FALSE)) | FK22: =IF(FC21="","",VLOOKUP("~"&FC21,CODE39!$A$2:'CODE39'!$AB$45,10,FALSE)) | FL22: =IF(FC21="","",VLOOKUP("~"&FC21,CODE39!$A$2:'CODE39'!$AB$45,11,FALSE)) | FM22: =IF(FC21="","",VLOOKUP("~"&FC21,CODE39!$A$2:'CODE39'!$AB$45,12,FALSE)) | FN22: =IF(FC21="","",VLOOKUP("~"&FC21,CODE39!$A$2:'CODE39'!$AB$45,13,FALSE)) | FO22: =IF(FC21="","",VLOOKUP("~"&FC21,CODE39!$A$2:'CODE39'!$AB$45,14,FALSE)) | FP22: =IF(FC21="","",VLOOKUP("~"&FC21,CODE39!$A$2:'CODE39'!$AB$45,15,FALSE)) | FQ22: =IF(FC21="","",VLOOKUP("~"&FC21,CODE39!$A$2:'CODE39'!$AB$45,16,FALSE)) | FR22: =IF(FC21="","",VLOOKUP("~"&FC21,CODE39!$A$2:'CODE39'!$AB$45,17,FALSE)) | FS22: =IF(FC21="","",VLOOKUP("~"&FC21,CODE39!$A$2:'CODE39'!$AB$45,18,FALSE)) | FT22: =IF(FC21="","",VLOOKUP("~"&FC21,CODE39!$A$2:'CODE39'!$AB$45,19,FALSE)) | FU22: =IF(FC21="","",VLOOKUP("~"&FC21,CODE39!$A$2:'CODE39'!$AB$45,20,FALSE)) | FV22: =IF(FC21="","",VLOOKUP("~"&FC21,CODE39!$A$2:'CODE39'!$AB$45,21,FALSE)) | FW22: =IF(FC21="","",VLOOKUP("~"&FC21,CODE39!$A$2:'CODE39'!$AB$45,22,FALSE)) | FX22: =IF(FC21="","",VLOOKUP("~"&FC21,CODE39!$A$2:'CODE39'!$AB$45,23,FALSE)) | FY22: =IF(FC21="","",VLOOKUP("~"&FC21,CODE39!$A$2:'CODE39'!$AB$45,24,FALSE)) | FZ22: =IF(FC21="","",VLOOKUP("~"&FC21,CODE39!$A$2:'CODE39'!$AB$45,25,FALSE)) | GA22: =IF(FC21="","",VLOOKUP("~"&FC21,CODE39!$A$2:'CODE39'!$AB$45,26,FALSE)) | GB22: =IF(FC21="","",VLOOKUP("~"&FC21,CODE39!$A$2:'CODE39'!$AB$45,27,FALSE)) | GC22: =IF(FC21="","",VLOOKUP("~"&FC21,CODE39!$A$2:'CODE39'!$AB$45,28,FALSE)) | GE22: =IF(GE21="","",VLOOKUP("~"&GE21,CODE39!$A$2:'CODE39'!$AB$45,2,FALSE)) | GF22: =IF(GE21="","",VLOOKUP("~"&GE21,CODE39!$A$2:'CODE39'!$AB$45,3,FALSE)) | GG22: =IF(GE21="","",VLOOKUP("~"&GE21,CODE39!$A$2:'CODE39'!$AB$45,4,FALSE)) | GH22: =IF(GE21="","",VLOOKUP("~"&GE21,CODE39!$A$2:'CODE39'!$AB$45,5,FALSE)) | GI22: =IF(GE21="","",VLOOKUP("~"&GE21,CODE39!$A$2:'CODE39'!$AB$45,6,FALSE)) | GJ22: =IF(GE21="","",VLOOKUP("~"&GE21,CODE39!$A$2:'CODE39'!$AB$45,7,FALSE)) | GK22: =IF(GE21="","",VLOOKUP("~"&GE21,CODE39!$A$2:'CODE39'!$AB$45,8,FALSE)) | GL22: =IF(GE21="","",VLOOKUP("~"&GE21,CODE39!$A$2:'CODE39'!$AB$45,9,FALSE)) | GM22: =IF(GE21="","",VLOOKUP("~"&GE21,CODE39!$A$2:'CODE39'!$AB$45,10,FALSE)) | GN22: =IF(GE21="","",VLOOKUP("~"&GE21,CODE39!$A$2:'CODE39'!$AB$45,11,FALSE)) | GO22: =IF(GE21="","",VLOOKUP("~"&GE21,CODE39!$A$2:'CODE39'!$AB$45,12,FALSE)) | GP22: =IF(GE21="","",VLOOKUP("~"&GE21,CODE39!$A$2:'CODE39'!$AB$45,13,FALSE)) | GQ22: =IF(GE21="","",VLOOKUP("~"&GE21,CODE39!$A$2:'CODE39'!$AB$45,14,FALSE)) | GR22: =IF(GE21="","",VLOOKUP("~"&GE21,CODE39!$A$2:'CODE39'!$AB$45,15,FALSE)) | GS22: =IF(GE21="","",VLOOKUP("~"&GE21,CODE39!$A$2:'CODE39'!$AB$45,16,FALSE)) | GT22: =IF(GE21="","",VLOOKUP("~"&GE21,CODE39!$A$2:'CODE39'!$AB$45,17,FALSE)) | GU22: =IF(GE21="","",VLOOKUP("~"&GE21,CODE39!$A$2:'CODE39'!$AB$45,18,FALSE)) | GV22: =IF(GE21="","",VLOOKUP("~"&GE21,CODE39!$A$2:'CODE39'!$AB$45,19,FALSE)) | GW22: =IF(GE21="","",VLOOKUP("~"&GE21,CODE39!$A$2:'CODE39'!$AB$45,20,FALSE)) | GX22: =IF(GE21="","",VLOOKUP("~"&GE21,CODE39!$A$2:'CODE39'!$AB$45,21,FALSE)) | GY22: =IF(GE21="","",VLOOKUP("~"&GE21,CODE39!$A$2:'CODE39'!$AB$45,22,FALSE)) | GZ22: =IF(GE21="","",VLOOKUP("~"&GE21,CODE39!$A$2:'CODE39'!$AB$45,23,FALSE)) | HA22: =IF(GE21="","",VLOOKUP("~"&GE21,CODE39!$A$2:'CODE39'!$AB$45,24,FALSE)) | HB22: =IF(GE21="","",VLOOKUP("~"&GE21,CODE39!$A$2:'CODE39'!$AB$45,25,FALSE)) | HC22: =IF(GE21="","",VLOOKUP("~"&GE21,CODE39!$A$2:'CODE39'!$AB$45,26,FALSE)) | HD22: =IF(GE21="","",VLOOKUP("~"&GE21,CODE39!$A$2:'CODE39'!$AB$45,27,FALSE)) | HE22: =IF(GE21="","",VLOOKUP("~"&GE21,CODE39!$A$2:'CODE39'!$AB$45,28,FALSE)) | HG22: =IF(HG21="","",VLOOKUP("~"&HG21,CODE39!$A$2:'CODE39'!$AB$45,2,FALSE)) | HH22: =IF(HG21="","",VLOOKUP("~"&HG21,CODE39!$A$2:'CODE39'!$AB$45,3,FALSE)) | HI22: =IF(HG21="","",VLOOKUP("~"&HG21,CODE39!$A$2:'CODE39'!$AB$45,4,FALSE)) | HJ22: =IF(HG21="","",VLOOKUP("~"&HG21,CODE39!$A$2:'CODE39'!$AB$45,5,FALSE)) | HK22: =IF(HG21="","",VLOOKUP("~"&HG21,CODE39!$A$2:'CODE39'!$AB$45,6,FALSE)) | HL22: =IF(HG21="","",VLOOKUP("~"&HG21,CODE39!$A$2:'CODE39'!$AB$45,7,FALSE)) | HM22: =IF(HG21="","",VLOOKUP("~"&HG21,CODE39!$A$2:'CODE39'!$AB$45,8,FALSE)) | HN22: =IF(HG21="","",VLOOKUP("~"&HG21,CODE39!$A$2:'CODE39'!$AB$45,9,FALSE)) | HO22: =IF(HG21="","",VLOOKUP("~"&HG21,CODE39!$A$2:'CODE39'!$AB$45,10,FALSE)) | HP22: =IF(HG21="","",VLOOKUP("~"&HG21,CODE39!$A$2:'CODE39'!$AB$45,11,FALSE)) | HQ22: =IF(HG21="","",VLOOKUP("~"&HG21,CODE39!$A$2:'CODE39'!$AB$45,12,FALSE)) | HR22: =IF(HG21="","",VLOOKUP("~"&HG21,CODE39!$A$2:'CODE39'!$AB$45,13,FALSE)) | HS22: =IF(HG21="","",VLOOKUP("~"&HG21,CODE39!$A$2:'CODE39'!$AB$45,14,FALSE)) | HT22: =IF(HG21="","",VLOOKUP("~"&HG21,CODE39!$A$2:'CODE39'!$AB$45,15,FALSE)) | HU22: =IF(HG21="","",VLOOKUP("~"&HG21,CODE39!$A$2:'CODE39'!$AB$45,16,FALSE)) | HV22: =IF(HG21="","",VLOOKUP("~"&HG21,CODE39!$A$2:'CODE39'!$AB$45,17,FALSE)) | HW22: =IF(HG21="","",VLOOKUP("~"&HG21,CODE39!$A$2:'CODE39'!$AB$45,18,FALSE)) | HX22: =IF(HG21="","",VLOOKUP("~"&HG21,CODE39!$A$2:'CODE39'!$AB$45,19,FALSE)) | HY22: =IF(HG21="","",VLOOKUP("~"&HG21,CODE39!$A$2:'CODE39'!$AB$45,20,FALSE)) | HZ22: =IF(HG21="","",VLOOKUP("~"&HG21,CODE39!$A$2:'CODE39'!$AB$45,21,FALSE)) | IA22: =IF(HG21="","",VLOOKUP("~"&HG21,CODE39!$A$2:'CODE39'!$AB$45,22,FALSE)) | IB22: =IF(HG21="","",VLOOKUP("~"&HG21,CODE39!$A$2:'CODE39'!$AB$45,23,FALSE)) | IC22: =IF(HG21="","",VLOOKUP("~"&HG21,CODE39!$A$2:'CODE39'!$AB$45,24,FALSE)) | ID22: =IF(HG21="","",VLOOKUP("~"&HG21,CODE39!$A$2:'CODE39'!$AB$45,25,FALSE)) | IE22: =IF(HG21="","",VLOOKUP("~"&HG21,CODE39!$A$2:'CODE39'!$AB$45,26,FALSE)) | IF22: =IF(HG21="","",VLOOKUP("~"&HG21,CODE39!$A$2:'CODE39'!$AB$45,27,FALSE)) | IG22: =IF(HG21="","",VLOOKUP("~"&HG21,CODE39!$A$2:'CODE39'!$AB$45,28,FALSE))
A25: ■変更業務情報
A26: 変更工期 | B26: =IF(Sheet1!$B$14="","",Sheet1!$B$14)
A27: 文字列に変換 | B27: =IF(B26="","0000",YEAR(B26))&IF(B26="","0",IF(MONTH(B26)<10,MONTH(B26),CHAR(MONTH(B26)+55)))&IF(B26="","0",IF(DAY(B26)<10,DAY(B26),CHAR(DAY(B26)+55))) -> 000000
A28: ３級基準点測量 | B28: =IF(Sheet1!$B$15="","",Sheet1!$B$15)
A29: ボーリング調査 | B29: =IF(Sheet1!$B$16="","",Sheet1!$B$16)
A30: 基準点ボーリングフラグ | B30: =IF(B28="",0,IF(B28="なし",1,2))+IF(B29="",0,IF(B29="なし",3,6)) -> 0
A31: 対象文字列 | B31: =IF(OR(Sheet1!$B$14<>"",Sheet1!$B$15<>"",Sheet1!$B$16<>""),B27&B30,"") | C31: （変更がなければ表示しない）
A33: チェックデジット計算
A34: 先頭からの桁数 | C34: 1 | D34: 2 | E34: 3 | F34: 4 | G34: 5 | H34: 6 | I34: 7 | J34: 8 | K34: 9 | L34: 10 | M34: 11 | N34: 12 | O34: 13 | P34: 14 | Q34: 15 | R34: 16
A35: 桁の文字 | C35: =MID($B$31,C34,1) | D35: =MID($B$31,D34,1) | E35: =MID($B$31,E34,1) | F35: =MID($B$31,F34,1) | G35: =MID($B$31,G34,1) | H35: =MID($B$31,H34,1) | I35: =MID($B$31,I34,1) | J35: =MID($B$31,J34,1) | ... R35: =MID($B$31,R34,1)
A36: 文字を数値化 | C36: =IF(C35="",0,IF(OR(C35="-",C35="."),IF(C35="-",36,37),IF(OR(C35=" ",C35="$"),IF(C35=" ",38,39),IF(OR(C35="/",C35="+"),IF(C35="/",40,41),IF(OR(C35="%",C35="*"),IF(C35="%",42,43),IF(AND(CODE(C35)>=65,CODE(C35)<=90),CODE(C35)-55,VALUE(C35))))))) -> 0 | D36: =IF(D35="",0,IF(OR(D35="-",D35="."),IF(D35="-",36,37),IF(OR(D35=" ",D35="$"),IF(D35=" ",38,39),IF(OR(D35="/",D35="+"),IF(D35="/",40,41),IF(OR(D35="%",D35="*"),IF(D35="%",42,43),IF(AND(CODE(D35)>=65,CODE(D35)<=90),CODE(D35)-55,VALUE(D35))))))) -> 0 | E36: =IF(E35="",0,IF(OR(E35="-",E35="."),IF(E35="-",36,37),IF(OR(E35=" ",E35="$"),IF(E35=" ",38,39),IF(OR(E35="/",E35="+"),IF(E35="/",40,41),IF(OR(E35="%",E35="*"),IF(E35="%",42,43),IF(AND(CODE(E35)>=65,CODE(E35)<=90),CODE(E35)-55,VALUE(E35))))))) -> 0 | F36: =IF(F35="",0,IF(OR(F35="-",F35="."),IF(F35="-",36,37),IF(OR(F35=" ",F35="$"),IF(F35=" ",38,39),IF(OR(F35="/",F35="+"),IF(F35="/",40,41),IF(OR(F35="%",F35="*"),IF(F35="%",42,43),IF(AND(CODE(F35)>=65,CODE(F35)<=90),CODE(F35)-55,VALUE(F35))))))) -> 0 | G36: =IF(G35="",0,IF(OR(G35="-",G35="."),IF(G35="-",36,37),IF(OR(G35=" ",G35="$"),IF(G35=" ",38,39),IF(OR(G35="/",G35="+"),IF(G35="/",40,41),IF(OR(G35="%",G35="*"),IF(G35="%",42,43),IF(AND(CODE(G35)>=65,CODE(G35)<=90),CODE(G35)-55,VALUE(G35))))))) -> 0 | H36: =IF(H35="",0,IF(OR(H35="-",H35="."),IF(H35="-",36,37),IF(OR(H35=" ",H35="$"),IF(H35=" ",38,39),IF(OR(H35="/",H35="+"),IF(H35="/",40,41),IF(OR(H35="%",H35="*"),IF(H35="%",42,43),IF(AND(CODE(H35)>=65,CODE(H35)<=90),CODE(H35)-55,VALUE(H35))))))) -> 0 | I36: =IF(I35="",0,IF(OR(I35="-",I35="."),IF(I35="-",36,37),IF(OR(I35=" ",I35="$"),IF(I35=" ",38,39),IF(OR(I35="/",I35="+"),IF(I35="/",40,41),IF(OR(I35="%",I35="*"),IF(I35="%",42,43),IF(AND(CODE(I35)>=65,CODE(I35)<=90),CODE(I35)-55,VALUE(I35))))))) -> 0 | J36: =IF(J35="",0,IF(OR(J35="-",J35="."),IF(J35="-",36,37),IF(OR(J35=" ",J35="$"),IF(J35=" ",38,39),IF(OR(J35="/",J35="+"),IF(J35="/",40,41),IF(OR(J35="%",J35="*"),IF(J35="%",42,43),IF(AND(CODE(J35)>=65,CODE(J35)<=90),CODE(J35)-55,VALUE(J35))))))) -> 0 | ... R36: =IF(R35="",0,IF(OR(R35="-",R35="."),IF(R35="-",36,37),IF(OR(R35=" ",R35="$"),IF(R35=" ",38,39),IF(OR(R35="/",R35="+"),IF(R35="/",40,41),IF(OR(R35="%",R35="*"),IF(R35="%",42,43),IF(AND(CODE(R35)>=65,CODE(R35)<=90),CODE(R35)-55,VALUE(R35))))))) -> 0
A37: 合計 | B37: =SUM(C36:Q36) -> 0
A38: モジュラス43 | B38: =MOD(B37,43) -> 0
A39: チェックデジット | B39: =IF(OR(B38=36,B38=37),IF(B38=36,"-","."),IF(OR(B38=38,B38=39),IF(B38=38," ","$"),IF(OR(B38=40,B38=41),IF(B38=40,"/","+"),IF(OR(B38=42,B38=43),IF(B38=42,"%","*"),IF(AND(B38>=10,B38<=35),CHAR(B38+55),B38))))) -> 0
A41: CODE39にする文字列 | B41: =IF(B31="","","*"&B31&B39& "*")
A42: 上位８バイト
A43: 先頭からの桁数 | S43: 1 | AU43: 2 | BW43: 3 | CY43: 4 | EA43: 5 | FC43: 6 | GE43: 7 | HG43: 8
A44: その桁の文字 | S44: =MID(B41,S43,1) | AU44: =MID(B41,AU43,1) | BW44: =MID(B41,BW43,1) | CY44: =MID(B41,CY43,1) | EA44: =MID(B41,EA43,1) | FC44: =MID(B41,FC43,1) | GE44: =MID(B41,GE43,1) | HG44: =MID(B41,HG43,1)
A45: バーコード | S45: =IF(S44="","",VLOOKUP("~"&S44,CODE39!$A$2:'CODE39'!$AB$45,2,FALSE)) | T45: =IF(S44="","",VLOOKUP("~"&S44,CODE39!$A$2:'CODE39'!$AB$45,3,FALSE)) | U45: =IF(S44="","",VLOOKUP("~"&S44,CODE39!$A$2:'CODE39'!$AB$45,4,FALSE)) | V45: =IF(S44="","",VLOOKUP("~"&S44,CODE39!$A$2:'CODE39'!$AB$45,5,FALSE)) | W45: =IF(S44="","",VLOOKUP("~"&S44,CODE39!$A$2:'CODE39'!$AB$45,6,FALSE)) | X45: =IF(S44="","",VLOOKUP("~"&S44,CODE39!$A$2:'CODE39'!$AB$45,7,FALSE)) | Y45: =IF(S44="","",VLOOKUP("~"&S44,CODE39!$A$2:'CODE39'!$AB$45,8,FALSE)) | Z45: =IF(S44="","",VLOOKUP("~"&S44,CODE39!$A$2:'CODE39'!$AB$45,9,FALSE)) | AA45: =IF(S44="","",VLOOKUP("~"&S44,CODE39!$A$2:'CODE39'!$AB$45,10,FALSE)) | AB45: =IF(S44="","",VLOOKUP("~"&S44,CODE39!$A$2:'CODE39'!$AB$45,11,FALSE)) | AC45: =IF(S44="","",VLOOKUP("~"&S44,CODE39!$A$2:'CODE39'!$AB$45,12,FALSE)) | AD45: =IF(S44="","",VLOOKUP("~"&S44,CODE39!$A$2:'CODE39'!$AB$45,13,FALSE)) | AE45: =IF(S44="","",VLOOKUP("~"&S44,CODE39!$A$2:'CODE39'!$AB$45,14,FALSE)) | AF45: =IF(S44="","",VLOOKUP("~"&S44,CODE39!$A$2:'CODE39'!$AB$45,15,FALSE)) | AG45: =IF(S44="","",VLOOKUP("~"&S44,CODE39!$A$2:'CODE39'!$AB$45,16,FALSE)) | AH45: =IF(S44="","",VLOOKUP("~"&S44,CODE39!$A$2:'CODE39'!$AB$45,17,FALSE)) | AI45: =IF(S44="","",VLOOKUP("~"&S44,CODE39!$A$2:'CODE39'!$AB$45,18,FALSE)) | AJ45: =IF(S44="","",VLOOKUP("~"&S44,CODE39!$A$2:'CODE39'!$AB$45,19,FALSE)) | AK45: =IF(S44="","",VLOOKUP("~"&S44,CODE39!$A$2:'CODE39'!$AB$45,20,FALSE)) | AL45: =IF(S44="","",VLOOKUP("~"&S44,CODE39!$A$2:'CODE39'!$AB$45,21,FALSE)) | AM45: =IF(S44="","",VLOOKUP("~"&S44,CODE39!$A$2:'CODE39'!$AB$45,22,FALSE)) | AN45: =IF(S44="","",VLOOKUP("~"&S44,CODE39!$A$2:'CODE39'!$AB$45,23,FALSE)) | AO45: =IF(S44="","",VLOOKUP("~"&S44,CODE39!$A$2:'CODE39'!$AB$45,24,FALSE)) | AP45: =IF(S44="","",VLOOKUP("~"&S44,CODE39!$A$2:'CODE39'!$AB$45,25,FALSE)) | AQ45: =IF(S44="","",VLOOKUP("~"&S44,CODE39!$A$2:'CODE39'!$AB$45,26,FALSE)) | AR45: =IF(S44="","",VLOOKUP("~"&S44,CODE39!$A$2:'CODE39'!$AB$45,27,FALSE)) | AS45: =IF(S44="","",VLOOKUP("~"&S44,CODE39!$A$2:'CODE39'!$AB$45,28,FALSE)) | AU45: =IF(AU44="","",VLOOKUP("~"&AU44,CODE39!$A$2:'CODE39'!$AB$45,2,FALSE)) | AV45: =IF(AU44="","",VLOOKUP("~"&AU44,CODE39!$A$2:'CODE39'!$AB$45,3,FALSE)) | AW45: =IF(AU44="","",VLOOKUP("~"&AU44,CODE39!$A$2:'CODE39'!$AB$45,4,FALSE)) | AX45: =IF(AU44="","",VLOOKUP("~"&AU44,CODE39!$A$2:'CODE39'!$AB$45,5,FALSE)) | AY45: =IF(AU44="","",VLOOKUP("~"&AU44,CODE39!$A$2:'CODE39'!$AB$45,6,FALSE)) | AZ45: =IF(AU44="","",VLOOKUP("~"&AU44,CODE39!$A$2:'CODE39'!$AB$45,7,FALSE)) | BA45: =IF(AU44="","",VLOOKUP("~"&AU44,CODE39!$A$2:'CODE39'!$AB$45,8,FALSE)) | BB45: =IF(AU44="","",VLOOKUP("~"&AU44,CODE39!$A$2:'CODE39'!$AB$45,9,FALSE)) | BC45: =IF(AU44="","",VLOOKUP("~"&AU44,CODE39!$A$2:'CODE39'!$AB$45,10,FALSE)) | BD45: =IF(AU44="","",VLOOKUP("~"&AU44,CODE39!$A$2:'CODE39'!$AB$45,11,FALSE)) | BE45: =IF(AU44="","",VLOOKUP("~"&AU44,CODE39!$A$2:'CODE39'!$AB$45,12,FALSE)) | BF45: =IF(AU44="","",VLOOKUP("~"&AU44,CODE39!$A$2:'CODE39'!$AB$45,13,FALSE)) | BG45: =IF(AU44="","",VLOOKUP("~"&AU44,CODE39!$A$2:'CODE39'!$AB$45,14,FALSE)) | BH45: =IF(AU44="","",VLOOKUP("~"&AU44,CODE39!$A$2:'CODE39'!$AB$45,15,FALSE)) | BI45: =IF(AU44="","",VLOOKUP("~"&AU44,CODE39!$A$2:'CODE39'!$AB$45,16,FALSE)) | BJ45: =IF(AU44="","",VLOOKUP("~"&AU44,CODE39!$A$2:'CODE39'!$AB$45,17,FALSE)) | BK45: =IF(AU44="","",VLOOKUP("~"&AU44,CODE39!$A$2:'CODE39'!$AB$45,18,FALSE)) | BL45: =IF(AU44="","",VLOOKUP("~"&AU44,CODE39!$A$2:'CODE39'!$AB$45,19,FALSE)) | BM45: =IF(AU44="","",VLOOKUP("~"&AU44,CODE39!$A$2:'CODE39'!$AB$45,20,FALSE)) | BN45: =IF(AU44="","",VLOOKUP("~"&AU44,CODE39!$A$2:'CODE39'!$AB$45,21,FALSE)) | BO45: =IF(AU44="","",VLOOKUP("~"&AU44,CODE39!$A$2:'CODE39'!$AB$45,22,FALSE)) | BP45: =IF(AU44="","",VLOOKUP("~"&AU44,CODE39!$A$2:'CODE39'!$AB$45,23,FALSE)) | BQ45: =IF(AU44="","",VLOOKUP("~"&AU44,CODE39!$A$2:'CODE39'!$AB$45,24,FALSE)) | BR45: =IF(AU44="","",VLOOKUP("~"&AU44,CODE39!$A$2:'CODE39'!$AB$45,25,FALSE)) | BS45: =IF(AU44="","",VLOOKUP("~"&AU44,CODE39!$A$2:'CODE39'!$AB$45,26,FALSE)) | BT45: =IF(AU44="","",VLOOKUP("~"&AU44,CODE39!$A$2:'CODE39'!$AB$45,27,FALSE)) | BU45: =IF(AU44="","",VLOOKUP("~"&AU44,CODE39!$A$2:'CODE39'!$AB$45,28,FALSE)) | BW45: =IF(BW44="","",VLOOKUP("~"&BW44,CODE39!$A$2:'CODE39'!$AB$45,2,FALSE)) | BX45: =IF(BW44="","",VLOOKUP("~"&BW44,CODE39!$A$2:'CODE39'!$AB$45,3,FALSE)) | BY45: =IF(BW44="","",VLOOKUP("~"&BW44,CODE39!$A$2:'CODE39'!$AB$45,4,FALSE)) | BZ45: =IF(BW44="","",VLOOKUP("~"&BW44,CODE39!$A$2:'CODE39'!$AB$45,5,FALSE)) | CA45: =IF(BW44="","",VLOOKUP("~"&BW44,CODE39!$A$2:'CODE39'!$AB$45,6,FALSE)) | CB45: =IF(BW44="","",VLOOKUP("~"&BW44,CODE39!$A$2:'CODE39'!$AB$45,7,FALSE)) | CC45: =IF(BW44="","",VLOOKUP("~"&BW44,CODE39!$A$2:'CODE39'!$AB$45,8,FALSE)) | CD45: =IF(BW44="","",VLOOKUP("~"&BW44,CODE39!$A$2:'CODE39'!$AB$45,9,FALSE)) | CE45: =IF(BW44="","",VLOOKUP("~"&BW44,CODE39!$A$2:'CODE39'!$AB$45,10,FALSE)) | CF45: =IF(BW44="","",VLOOKUP("~"&BW44,CODE39!$A$2:'CODE39'!$AB$45,11,FALSE)) | CG45: =IF(BW44="","",VLOOKUP("~"&BW44,CODE39!$A$2:'CODE39'!$AB$45,12,FALSE)) | CH45: =IF(BW44="","",VLOOKUP("~"&BW44,CODE39!$A$2:'CODE39'!$AB$45,13,FALSE)) | CI45: =IF(BW44="","",VLOOKUP("~"&BW44,CODE39!$A$2:'CODE39'!$AB$45,14,FALSE)) | CJ45: =IF(BW44="","",VLOOKUP("~"&BW44,CODE39!$A$2:'CODE39'!$AB$45,15,FALSE)) | CK45: =IF(BW44="","",VLOOKUP("~"&BW44,CODE39!$A$2:'CODE39'!$AB$45,16,FALSE)) | CL45: =IF(BW44="","",VLOOKUP("~"&BW44,CODE39!$A$2:'CODE39'!$AB$45,17,FALSE)) | CM45: =IF(BW44="","",VLOOKUP("~"&BW44,CODE39!$A$2:'CODE39'!$AB$45,18,FALSE)) | CN45: =IF(BW44="","",VLOOKUP("~"&BW44,CODE39!$A$2:'CODE39'!$AB$45,19,FALSE)) | CO45: =IF(BW44="","",VLOOKUP("~"&BW44,CODE39!$A$2:'CODE39'!$AB$45,20,FALSE)) | CP45: =IF(BW44="","",VLOOKUP("~"&BW44,CODE39!$A$2:'CODE39'!$AB$45,21,FALSE)) | CQ45: =IF(BW44="","",VLOOKUP("~"&BW44,CODE39!$A$2:'CODE39'!$AB$45,22,FALSE)) | CR45: =IF(BW44="","",VLOOKUP("~"&BW44,CODE39!$A$2:'CODE39'!$AB$45,23,FALSE)) | CS45: =IF(BW44="","",VLOOKUP("~"&BW44,CODE39!$A$2:'CODE39'!$AB$45,24,FALSE)) | CT45: =IF(BW44="","",VLOOKUP("~"&BW44,CODE39!$A$2:'CODE39'!$AB$45,25,FALSE)) | CU45: =IF(BW44="","",VLOOKUP("~"&BW44,CODE39!$A$2:'CODE39'!$AB$45,26,FALSE)) | CV45: =IF(BW44="","",VLOOKUP("~"&BW44,CODE39!$A$2:'CODE39'!$AB$45,27,FALSE)) | CW45: =IF(BW44="","",VLOOKUP("~"&BW44,CODE39!$A$2:'CODE39'!$AB$45,28,FALSE)) | CY45: =IF(CY44="","",VLOOKUP("~"&CY44,CODE39!$A$2:'CODE39'!$AB$45,2,FALSE)) | CZ45: =IF(CY44="","",VLOOKUP("~"&CY44,CODE39!$A$2:'CODE39'!$AB$45,3,FALSE)) | DA45: =IF(CY44="","",VLOOKUP("~"&CY44,CODE39!$A$2:'CODE39'!$AB$45,4,FALSE)) | DB45: =IF(CY44="","",VLOOKUP("~"&CY44,CODE39!$A$2:'CODE39'!$AB$45,5,FALSE)) | DC45: =IF(CY44="","",VLOOKUP("~"&CY44,CODE39!$A$2:'CODE39'!$AB$45,6,FALSE)) | DD45: =IF(CY44="","",VLOOKUP("~"&CY44,CODE39!$A$2:'CODE39'!$AB$45,7,FALSE)) | DE45: =IF(CY44="","",VLOOKUP("~"&CY44,CODE39!$A$2:'CODE39'!$AB$45,8,FALSE)) | DF45: =IF(CY44="","",VLOOKUP("~"&CY44,CODE39!$A$2:'CODE39'!$AB$45,9,FALSE)) | DG45: =IF(CY44="","",VLOOKUP("~"&CY44,CODE39!$A$2:'CODE39'!$AB$45,10,FALSE)) | DH45: =IF(CY44="","",VLOOKUP("~"&CY44,CODE39!$A$2:'CODE39'!$AB$45,11,FALSE)) | DI45: =IF(CY44="","",VLOOKUP("~"&CY44,CODE39!$A$2:'CODE39'!$AB$45,12,FALSE)) | DJ45: =IF(CY44="","",VLOOKUP("~"&CY44,CODE39!$A$2:'CODE39'!$AB$45,13,FALSE)) | DK45: =IF(CY44="","",VLOOKUP("~"&CY44,CODE39!$A$2:'CODE39'!$AB$45,14,FALSE)) | DL45: =IF(CY44="","",VLOOKUP("~"&CY44,CODE39!$A$2:'CODE39'!$AB$45,15,FALSE)) | DM45: =IF(CY44="","",VLOOKUP("~"&CY44,CODE39!$A$2:'CODE39'!$AB$45,16,FALSE)) | DN45: =IF(CY44="","",VLOOKUP("~"&CY44,CODE39!$A$2:'CODE39'!$AB$45,17,FALSE)) | DO45: =IF(CY44="","",VLOOKUP("~"&CY44,CODE39!$A$2:'CODE39'!$AB$45,18,FALSE)) | DP45: =IF(CY44="","",VLOOKUP("~"&CY44,CODE39!$A$2:'CODE39'!$AB$45,19,FALSE)) | DQ45: =IF(CY44="","",VLOOKUP("~"&CY44,CODE39!$A$2:'CODE39'!$AB$45,20,FALSE)) | DR45: =IF(CY44="","",VLOOKUP("~"&CY44,CODE39!$A$2:'CODE39'!$AB$45,21,FALSE)) | DS45: =IF(CY44="","",VLOOKUP("~"&CY44,CODE39!$A$2:'CODE39'!$AB$45,22,FALSE)) | DT45: =IF(CY44="","",VLOOKUP("~"&CY44,CODE39!$A$2:'CODE39'!$AB$45,23,FALSE)) | DU45: =IF(CY44="","",VLOOKUP("~"&CY44,CODE39!$A$2:'CODE39'!$AB$45,24,FALSE)) | DV45: =IF(CY44="","",VLOOKUP("~"&CY44,CODE39!$A$2:'CODE39'!$AB$45,25,FALSE)) | DW45: =IF(CY44="","",VLOOKUP("~"&CY44,CODE39!$A$2:'CODE39'!$AB$45,26,FALSE)) | DX45: =IF(CY44="","",VLOOKUP("~"&CY44,CODE39!$A$2:'CODE39'!$AB$45,27,FALSE)) | DY45: =IF(CY44="","",VLOOKUP("~"&CY44,CODE39!$A$2:'CODE39'!$AB$45,28,FALSE)) | EA45: =IF(EA44="","",VLOOKUP("~"&EA44,CODE39!$A$2:'CODE39'!$AB$45,2,FALSE)) | EB45: =IF(EA44="","",VLOOKUP("~"&EA44,CODE39!$A$2:'CODE39'!$AB$45,3,FALSE)) | EC45: =IF(EA44="","",VLOOKUP("~"&EA44,CODE39!$A$2:'CODE39'!$AB$45,4,FALSE)) | ED45: =IF(EA44="","",VLOOKUP("~"&EA44,CODE39!$A$2:'CODE39'!$AB$45,5,FALSE)) | EE45: =IF(EA44="","",VLOOKUP("~"&EA44,CODE39!$A$2:'CODE39'!$AB$45,6,FALSE)) | EF45: =IF(EA44="","",VLOOKUP("~"&EA44,CODE39!$A$2:'CODE39'!$AB$45,7,FALSE)) | EG45: =IF(EA44="","",VLOOKUP("~"&EA44,CODE39!$A$2:'CODE39'!$AB$45,8,FALSE)) | EH45: =IF(EA44="","",VLOOKUP("~"&EA44,CODE39!$A$2:'CODE39'!$AB$45,9,FALSE)) | EI45: =IF(EA44="","",VLOOKUP("~"&EA44,CODE39!$A$2:'CODE39'!$AB$45,10,FALSE)) | EJ45: =IF(EA44="","",VLOOKUP("~"&EA44,CODE39!$A$2:'CODE39'!$AB$45,11,FALSE)) | EK45: =IF(EA44="","",VLOOKUP("~"&EA44,CODE39!$A$2:'CODE39'!$AB$45,12,FALSE)) | EL45: =IF(EA44="","",VLOOKUP("~"&EA44,CODE39!$A$2:'CODE39'!$AB$45,13,FALSE)) | EM45: =IF(EA44="","",VLOOKUP("~"&EA44,CODE39!$A$2:'CODE39'!$AB$45,14,FALSE)) | EN45: =IF(EA44="","",VLOOKUP("~"&EA44,CODE39!$A$2:'CODE39'!$AB$45,15,FALSE)) | EO45: =IF(EA44="","",VLOOKUP("~"&EA44,CODE39!$A$2:'CODE39'!$AB$45,16,FALSE)) | EP45: =IF(EA44="","",VLOOKUP("~"&EA44,CODE39!$A$2:'CODE39'!$AB$45,17,FALSE)) | EQ45: =IF(EA44="","",VLOOKUP("~"&EA44,CODE39!$A$2:'CODE39'!$AB$45,18,FALSE)) | ER45: =IF(EA44="","",VLOOKUP("~"&EA44,CODE39!$A$2:'CODE39'!$AB$45,19,FALSE)) | ES45: =IF(EA44="","",VLOOKUP("~"&EA44,CODE39!$A$2:'CODE39'!$AB$45,20,FALSE)) | ET45: =IF(EA44="","",VLOOKUP("~"&EA44,CODE39!$A$2:'CODE39'!$AB$45,21,FALSE)) | EU45: =IF(EA44="","",VLOOKUP("~"&EA44,CODE39!$A$2:'CODE39'!$AB$45,22,FALSE)) | EV45: =IF(EA44="","",VLOOKUP("~"&EA44,CODE39!$A$2:'CODE39'!$AB$45,23,FALSE)) | EW45: =IF(EA44="","",VLOOKUP("~"&EA44,CODE39!$A$2:'CODE39'!$AB$45,24,FALSE)) | EX45: =IF(EA44="","",VLOOKUP("~"&EA44,CODE39!$A$2:'CODE39'!$AB$45,25,FALSE)) | EY45: =IF(EA44="","",VLOOKUP("~"&EA44,CODE39!$A$2:'CODE39'!$AB$45,26,FALSE)) | EZ45: =IF(EA44="","",VLOOKUP("~"&EA44,CODE39!$A$2:'CODE39'!$AB$45,27,FALSE)) | FA45: =IF(EA44="","",VLOOKUP("~"&EA44,CODE39!$A$2:'CODE39'!$AB$45,28,FALSE)) | FC45: =IF(FC44="","",VLOOKUP("~"&FC44,CODE39!$A$2:'CODE39'!$AB$45,2,FALSE)) | FD45: =IF(FC44="","",VLOOKUP("~"&FC44,CODE39!$A$2:'CODE39'!$AB$45,3,FALSE)) | FE45: =IF(FC44="","",VLOOKUP("~"&FC44,CODE39!$A$2:'CODE39'!$AB$45,4,FALSE)) | FF45: =IF(FC44="","",VLOOKUP("~"&FC44,CODE39!$A$2:'CODE39'!$AB$45,5,FALSE)) | FG45: =IF(FC44="","",VLOOKUP("~"&FC44,CODE39!$A$2:'CODE39'!$AB$45,6,FALSE)) | FH45: =IF(FC44="","",VLOOKUP("~"&FC44,CODE39!$A$2:'CODE39'!$AB$45,7,FALSE)) | FI45: =IF(FC44="","",VLOOKUP("~"&FC44,CODE39!$A$2:'CODE39'!$AB$45,8,FALSE)) | FJ45: =IF(FC44="","",VLOOKUP("~"&FC44,CODE39!$A$2:'CODE39'!$AB$45,9,FALSE)) | FK45: =IF(FC44="","",VLOOKUP("~"&FC44,CODE39!$A$2:'CODE39'!$AB$45,10,FALSE)) | FL45: =IF(FC44="","",VLOOKUP("~"&FC44,CODE39!$A$2:'CODE39'!$AB$45,11,FALSE)) | FM45: =IF(FC44="","",VLOOKUP("~"&FC44,CODE39!$A$2:'CODE39'!$AB$45,12,FALSE)) | FN45: =IF(FC44="","",VLOOKUP("~"&FC44,CODE39!$A$2:'CODE39'!$AB$45,13,FALSE)) | FO45: =IF(FC44="","",VLOOKUP("~"&FC44,CODE39!$A$2:'CODE39'!$AB$45,14,FALSE)) | FP45: =IF(FC44="","",VLOOKUP("~"&FC44,CODE39!$A$2:'CODE39'!$AB$45,15,FALSE)) | FQ45: =IF(FC44="","",VLOOKUP("~"&FC44,CODE39!$A$2:'CODE39'!$AB$45,16,FALSE)) | FR45: =IF(FC44="","",VLOOKUP("~"&FC44,CODE39!$A$2:'CODE39'!$AB$45,17,FALSE)) | FS45: =IF(FC44="","",VLOOKUP("~"&FC44,CODE39!$A$2:'CODE39'!$AB$45,18,FALSE)) | FT45: =IF(FC44="","",VLOOKUP("~"&FC44,CODE39!$A$2:'CODE39'!$AB$45,19,FALSE)) | FU45: =IF(FC44="","",VLOOKUP("~"&FC44,CODE39!$A$2:'CODE39'!$AB$45,20,FALSE)) | FV45: =IF(FC44="","",VLOOKUP("~"&FC44,CODE39!$A$2:'CODE39'!$AB$45,21,FALSE)) | FW45: =IF(FC44="","",VLOOKUP("~"&FC44,CODE39!$A$2:'CODE39'!$AB$45,22,FALSE)) | FX45: =IF(FC44="","",VLOOKUP("~"&FC44,CODE39!$A$2:'CODE39'!$AB$45,23,FALSE)) | FY45: =IF(FC44="","",VLOOKUP("~"&FC44,CODE39!$A$2:'CODE39'!$AB$45,24,FALSE)) | FZ45: =IF(FC44="","",VLOOKUP("~"&FC44,CODE39!$A$2:'CODE39'!$AB$45,25,FALSE)) | GA45: =IF(FC44="","",VLOOKUP("~"&FC44,CODE39!$A$2:'CODE39'!$AB$45,26,FALSE)) | GB45: =IF(FC44="","",VLOOKUP("~"&FC44,CODE39!$A$2:'CODE39'!$AB$45,27,FALSE)) | GC45: =IF(FC44="","",VLOOKUP("~"&FC44,CODE39!$A$2:'CODE39'!$AB$45,28,FALSE)) | GE45: =IF(GE44="","",VLOOKUP("~"&GE44,CODE39!$A$2:'CODE39'!$AB$45,2,FALSE)) | GF45: =IF(GE44="","",VLOOKUP("~"&GE44,CODE39!$A$2:'CODE39'!$AB$45,3,FALSE)) | GG45: =IF(GE44="","",VLOOKUP("~"&GE44,CODE39!$A$2:'CODE39'!$AB$45,4,FALSE)) | GH45: =IF(GE44="","",VLOOKUP("~"&GE44,CODE39!$A$2:'CODE39'!$AB$45,5,FALSE)) | GI45: =IF(GE44="","",VLOOKUP("~"&GE44,CODE39!$A$2:'CODE39'!$AB$45,6,FALSE)) | GJ45: =IF(GE44="","",VLOOKUP("~"&GE44,CODE39!$A$2:'CODE39'!$AB$45,7,FALSE)) | GK45: =IF(GE44="","",VLOOKUP("~"&GE44,CODE39!$A$2:'CODE39'!$AB$45,8,FALSE)) | GL45: =IF(GE44="","",VLOOKUP("~"&GE44,CODE39!$A$2:'CODE39'!$AB$45,9,FALSE)) | GM45: =IF(GE44="","",VLOOKUP("~"&GE44,CODE39!$A$2:'CODE39'!$AB$45,10,FALSE)) | GN45: =IF(GE44="","",VLOOKUP("~"&GE44,CODE39!$A$2:'CODE39'!$AB$45,11,FALSE)) | GO45: =IF(GE44="","",VLOOKUP("~"&GE44,CODE39!$A$2:'CODE39'!$AB$45,12,FALSE)) | GP45: =IF(GE44="","",VLOOKUP("~"&GE44,CODE39!$A$2:'CODE39'!$AB$45,13,FALSE)) | GQ45: =IF(GE44="","",VLOOKUP("~"&GE44,CODE39!$A$2:'CODE39'!$AB$45,14,FALSE)) | GR45: =IF(GE44="","",VLOOKUP("~"&GE44,CODE39!$A$2:'CODE39'!$AB$45,15,FALSE)) | GS45: =IF(GE44="","",VLOOKUP("~"&GE44,CODE39!$A$2:'CODE39'!$AB$45,16,FALSE)) | GT45: =IF(GE44="","",VLOOKUP("~"&GE44,CODE39!$A$2:'CODE39'!$AB$45,17,FALSE)) | GU45: =IF(GE44="","",VLOOKUP("~"&GE44,CODE39!$A$2:'CODE39'!$AB$45,18,FALSE)) | GV45: =IF(GE44="","",VLOOKUP("~"&GE44,CODE39!$A$2:'CODE39'!$AB$45,19,FALSE)) | GW45: =IF(GE44="","",VLOOKUP("~"&GE44,CODE39!$A$2:'CODE39'!$AB$45,20,FALSE)) | GX45: =IF(GE44="","",VLOOKUP("~"&GE44,CODE39!$A$2:'CODE39'!$AB$45,21,FALSE)) | GY45: =IF(GE44="","",VLOOKUP("~"&GE44,CODE39!$A$2:'CODE39'!$AB$45,22,FALSE)) | GZ45: =IF(GE44="","",VLOOKUP("~"&GE44,CODE39!$A$2:'CODE39'!$AB$45,23,FALSE)) | HA45: =IF(GE44="","",VLOOKUP("~"&GE44,CODE39!$A$2:'CODE39'!$AB$45,24,FALSE)) | HB45: =IF(GE44="","",VLOOKUP("~"&GE44,CODE39!$A$2:'CODE39'!$AB$45,25,FALSE)) | HC45: =IF(GE44="","",VLOOKUP("~"&GE44,CODE39!$A$2:'CODE39'!$AB$45,26,FALSE)) | HD45: =IF(GE44="","",VLOOKUP("~"&GE44,CODE39!$A$2:'CODE39'!$AB$45,27,FALSE)) | HE45: =IF(GE44="","",VLOOKUP("~"&GE44,CODE39!$A$2:'CODE39'!$AB$45,28,FALSE)) | HG45: =IF(HG44="","",VLOOKUP("~"&HG44,CODE39!$A$2:'CODE39'!$AB$45,2,FALSE)) | HH45: =IF(HG44="","",VLOOKUP("~"&HG44,CODE39!$A$2:'CODE39'!$AB$45,3,FALSE)) | HI45: =IF(HG44="","",VLOOKUP("~"&HG44,CODE39!$A$2:'CODE39'!$AB$45,4,FALSE)) | HJ45: =IF(HG44="","",VLOOKUP("~"&HG44,CODE39!$A$2:'CODE39'!$AB$45,5,FALSE)) | HK45: =IF(HG44="","",VLOOKUP("~"&HG44,CODE39!$A$2:'CODE39'!$AB$45,6,FALSE)) | HL45: =IF(HG44="","",VLOOKUP("~"&HG44,CODE39!$A$2:'CODE39'!$AB$45,7,FALSE)) | HM45: =IF(HG44="","",VLOOKUP("~"&HG44,CODE39!$A$2:'CODE39'!$AB$45,8,FALSE)) | HN45: =IF(HG44="","",VLOOKUP("~"&HG44,CODE39!$A$2:'CODE39'!$AB$45,9,FALSE)) | HO45: =IF(HG44="","",VLOOKUP("~"&HG44,CODE39!$A$2:'CODE39'!$AB$45,10,FALSE)) | HP45: =IF(HG44="","",VLOOKUP("~"&HG44,CODE39!$A$2:'CODE39'!$AB$45,11,FALSE)) | HQ45: =IF(HG44="","",VLOOKUP("~"&HG44,CODE39!$A$2:'CODE39'!$AB$45,12,FALSE)) | HR45: =IF(HG44="","",VLOOKUP("~"&HG44,CODE39!$A$2:'CODE39'!$AB$45,13,FALSE)) | HS45: =IF(HG44="","",VLOOKUP("~"&HG44,CODE39!$A$2:'CODE39'!$AB$45,14,FALSE)) | HT45: =IF(HG44="","",VLOOKUP("~"&HG44,CODE39!$A$2:'CODE39'!$AB$45,15,FALSE)) | HU45: =IF(HG44="","",VLOOKUP("~"&HG44,CODE39!$A$2:'CODE39'!$AB$45,16,FALSE)) | HV45: =IF(HG44="","",VLOOKUP("~"&HG44,CODE39!$A$2:'CODE39'!$AB$45,17,FALSE)) | HW45: =IF(HG44="","",VLOOKUP("~"&HG44,CODE39!$A$2:'CODE39'!$AB$45,18,FALSE)) | HX45: =IF(HG44="","",VLOOKUP("~"&HG44,CODE39!$A$2:'CODE39'!$AB$45,19,FALSE)) | HY45: =IF(HG44="","",VLOOKUP("~"&HG44,CODE39!$A$2:'CODE39'!$AB$45,20,FALSE)) | HZ45: =IF(HG44="","",VLOOKUP("~"&HG44,CODE39!$A$2:'CODE39'!$AB$45,21,FALSE)) | IA45: =IF(HG44="","",VLOOKUP("~"&HG44,CODE39!$A$2:'CODE39'!$AB$45,22,FALSE)) | IB45: =IF(HG44="","",VLOOKUP("~"&HG44,CODE39!$A$2:'CODE39'!$AB$45,23,FALSE)) | IC45: =IF(HG44="","",VLOOKUP("~"&HG44,CODE39!$A$2:'CODE39'!$AB$45,24,FALSE)) | ID45: =IF(HG44="","",VLOOKUP("~"&HG44,CODE39!$A$2:'CODE39'!$AB$45,25,FALSE)) | IE45: =IF(HG44="","",VLOOKUP("~"&HG44,CODE39!$A$2:'CODE39'!$AB$45,26,FALSE)) | IF45: =IF(HG44="","",VLOOKUP("~"&HG44,CODE39!$A$2:'CODE39'!$AB$45,27,FALSE)) | IG45: =IF(HG44="","",VLOOKUP("~"&HG44,CODE39!$A$2:'CODE39'!$AB$45,28,FALSE))
A46: 下位８バイト
A47: 先頭からの桁数 | S47: 9 | AU47: 10 | BW47: 11 | CY47: 12 | EA47: 13 | FC47: 14 | GE47: 15 | HG47: 16
A48: その桁の文字 | S48: =MID(B41,S47,1) | AU48: =MID(B41,AU47,1) | BW48: =MID(B41,BW47,1) | CY48: =MID(B41,CY47,1) | EA48: =MID(B41,EA47,1) | FC48: =MID(B41,FC47,1) | GE48: =MID(B41,GE47,1) | HG48: =MID(B41,HG47,1)
A49: バーコード | S49: =IF(S48="","",VLOOKUP("~"&S48,CODE39!$A$2:'CODE39'!$AB$45,2,FALSE)) | T49: =IF(S48="","",VLOOKUP("~"&S48,CODE39!$A$2:'CODE39'!$AB$45,3,FALSE)) | U49: =IF(S48="","",VLOOKUP("~"&S48,CODE39!$A$2:'CODE39'!$AB$45,4,FALSE)) | V49: =IF(S48="","",VLOOKUP("~"&S48,CODE39!$A$2:'CODE39'!$AB$45,5,FALSE)) | W49: =IF(S48="","",VLOOKUP("~"&S48,CODE39!$A$2:'CODE39'!$AB$45,6,FALSE)) | X49: =IF(S48="","",VLOOKUP("~"&S48,CODE39!$A$2:'CODE39'!$AB$45,7,FALSE)) | Y49: =IF(S48="","",VLOOKUP("~"&S48,CODE39!$A$2:'CODE39'!$AB$45,8,FALSE)) | Z49: =IF(S48="","",VLOOKUP("~"&S48,CODE39!$A$2:'CODE39'!$AB$45,9,FALSE)) | AA49: =IF(S48="","",VLOOKUP("~"&S48,CODE39!$A$2:'CODE39'!$AB$45,10,FALSE)) | AB49: =IF(S48="","",VLOOKUP("~"&S48,CODE39!$A$2:'CODE39'!$AB$45,11,FALSE)) | AC49: =IF(S48="","",VLOOKUP("~"&S48,CODE39!$A$2:'CODE39'!$AB$45,12,FALSE)) | AD49: =IF(S48="","",VLOOKUP("~"&S48,CODE39!$A$2:'CODE39'!$AB$45,13,FALSE)) | AE49: =IF(S48="","",VLOOKUP("~"&S48,CODE39!$A$2:'CODE39'!$AB$45,14,FALSE)) | AF49: =IF(S48="","",VLOOKUP("~"&S48,CODE39!$A$2:'CODE39'!$AB$45,15,FALSE)) | AG49: =IF(S48="","",VLOOKUP("~"&S48,CODE39!$A$2:'CODE39'!$AB$45,16,FALSE)) | AH49: =IF(S48="","",VLOOKUP("~"&S48,CODE39!$A$2:'CODE39'!$AB$45,17,FALSE)) | AI49: =IF(S48="","",VLOOKUP("~"&S48,CODE39!$A$2:'CODE39'!$AB$45,18,FALSE)) | AJ49: =IF(S48="","",VLOOKUP("~"&S48,CODE39!$A$2:'CODE39'!$AB$45,19,FALSE)) | AK49: =IF(S48="","",VLOOKUP("~"&S48,CODE39!$A$2:'CODE39'!$AB$45,20,FALSE)) | AL49: =IF(S48="","",VLOOKUP("~"&S48,CODE39!$A$2:'CODE39'!$AB$45,21,FALSE)) | AM49: =IF(S48="","",VLOOKUP("~"&S48,CODE39!$A$2:'CODE39'!$AB$45,22,FALSE)) | AN49: =IF(S48="","",VLOOKUP("~"&S48,CODE39!$A$2:'CODE39'!$AB$45,23,FALSE)) | AO49: =IF(S48="","",VLOOKUP("~"&S48,CODE39!$A$2:'CODE39'!$AB$45,24,FALSE)) | AP49: =IF(S48="","",VLOOKUP("~"&S48,CODE39!$A$2:'CODE39'!$AB$45,25,FALSE)) | AQ49: =IF(S48="","",VLOOKUP("~"&S48,CODE39!$A$2:'CODE39'!$AB$45,26,FALSE)) | AR49: =IF(S48="","",VLOOKUP("~"&S48,CODE39!$A$2:'CODE39'!$AB$45,27,FALSE)) | AS49: =IF(S48="","",VLOOKUP("~"&S48,CODE39!$A$2:'CODE39'!$AB$45,28,FALSE)) | AU49: =IF(AU48="","",VLOOKUP("~"&AU48,CODE39!$A$2:'CODE39'!$AB$45,2,FALSE)) | AV49: =IF(AU48="","",VLOOKUP("~"&AU48,CODE39!$A$2:'CODE39'!$AB$45,3,FALSE)) | AW49: =IF(AU48="","",VLOOKUP("~"&AU48,CODE39!$A$2:'CODE39'!$AB$45,4,FALSE)) | AX49: =IF(AU48="","",VLOOKUP("~"&AU48,CODE39!$A$2:'CODE39'!$AB$45,5,FALSE)) | AY49: =IF(AU48="","",VLOOKUP("~"&AU48,CODE39!$A$2:'CODE39'!$AB$45,6,FALSE)) | AZ49: =IF(AU48="","",VLOOKUP("~"&AU48,CODE39!$A$2:'CODE39'!$AB$45,7,FALSE)) | BA49: =IF(AU48="","",VLOOKUP("~"&AU48,CODE39!$A$2:'CODE39'!$AB$45,8,FALSE)) | BB49: =IF(AU48="","",VLOOKUP("~"&AU48,CODE39!$A$2:'CODE39'!$AB$45,9,FALSE)) | BC49: =IF(AU48="","",VLOOKUP("~"&AU48,CODE39!$A$2:'CODE39'!$AB$45,10,FALSE)) | BD49: =IF(AU48="","",VLOOKUP("~"&AU48,CODE39!$A$2:'CODE39'!$AB$45,11,FALSE)) | BE49: =IF(AU48="","",VLOOKUP("~"&AU48,CODE39!$A$2:'CODE39'!$AB$45,12,FALSE)) | BF49: =IF(AU48="","",VLOOKUP("~"&AU48,CODE39!$A$2:'CODE39'!$AB$45,13,FALSE)) | BG49: =IF(AU48="","",VLOOKUP("~"&AU48,CODE39!$A$2:'CODE39'!$AB$45,14,FALSE)) | BH49: =IF(AU48="","",VLOOKUP("~"&AU48,CODE39!$A$2:'CODE39'!$AB$45,15,FALSE)) | BI49: =IF(AU48="","",VLOOKUP("~"&AU48,CODE39!$A$2:'CODE39'!$AB$45,16,FALSE)) | BJ49: =IF(AU48="","",VLOOKUP("~"&AU48,CODE39!$A$2:'CODE39'!$AB$45,17,FALSE)) | BK49: =IF(AU48="","",VLOOKUP("~"&AU48,CODE39!$A$2:'CODE39'!$AB$45,18,FALSE)) | BL49: =IF(AU48="","",VLOOKUP("~"&AU48,CODE39!$A$2:'CODE39'!$AB$45,19,FALSE)) | BM49: =IF(AU48="","",VLOOKUP("~"&AU48,CODE39!$A$2:'CODE39'!$AB$45,20,FALSE)) | BN49: =IF(AU48="","",VLOOKUP("~"&AU48,CODE39!$A$2:'CODE39'!$AB$45,21,FALSE)) | BO49: =IF(AU48="","",VLOOKUP("~"&AU48,CODE39!$A$2:'CODE39'!$AB$45,22,FALSE)) | BP49: =IF(AU48="","",VLOOKUP("~"&AU48,CODE39!$A$2:'CODE39'!$AB$45,23,FALSE)) | BQ49: =IF(AU48="","",VLOOKUP("~"&AU48,CODE39!$A$2:'CODE39'!$AB$45,24,FALSE)) | BR49: =IF(AU48="","",VLOOKUP("~"&AU48,CODE39!$A$2:'CODE39'!$AB$45,25,FALSE)) | BS49: =IF(AU48="","",VLOOKUP("~"&AU48,CODE39!$A$2:'CODE39'!$AB$45,26,FALSE)) | BT49: =IF(AU48="","",VLOOKUP("~"&AU48,CODE39!$A$2:'CODE39'!$AB$45,27,FALSE)) | BU49: =IF(AU48="","",VLOOKUP("~"&AU48,CODE39!$A$2:'CODE39'!$AB$45,28,FALSE)) | BW49: =IF(BW48="","",VLOOKUP("~"&BW48,CODE39!$A$2:'CODE39'!$AB$45,2,FALSE)) | BX49: =IF(BW48="","",VLOOKUP("~"&BW48,CODE39!$A$2:'CODE39'!$AB$45,3,FALSE)) | BY49: =IF(BW48="","",VLOOKUP("~"&BW48,CODE39!$A$2:'CODE39'!$AB$45,4,FALSE)) | BZ49: =IF(BW48="","",VLOOKUP("~"&BW48,CODE39!$A$2:'CODE39'!$AB$45,5,FALSE)) | CA49: =IF(BW48="","",VLOOKUP("~"&BW48,CODE39!$A$2:'CODE39'!$AB$45,6,FALSE)) | CB49: =IF(BW48="","",VLOOKUP("~"&BW48,CODE39!$A$2:'CODE39'!$AB$45,7,FALSE)) | CC49: =IF(BW48="","",VLOOKUP("~"&BW48,CODE39!$A$2:'CODE39'!$AB$45,8,FALSE)) | CD49: =IF(BW48="","",VLOOKUP("~"&BW48,CODE39!$A$2:'CODE39'!$AB$45,9,FALSE)) | CE49: =IF(BW48="","",VLOOKUP("~"&BW48,CODE39!$A$2:'CODE39'!$AB$45,10,FALSE)) | CF49: =IF(BW48="","",VLOOKUP("~"&BW48,CODE39!$A$2:'CODE39'!$AB$45,11,FALSE)) | CG49: =IF(BW48="","",VLOOKUP("~"&BW48,CODE39!$A$2:'CODE39'!$AB$45,12,FALSE)) | CH49: =IF(BW48="","",VLOOKUP("~"&BW48,CODE39!$A$2:'CODE39'!$AB$45,13,FALSE)) | CI49: =IF(BW48="","",VLOOKUP("~"&BW48,CODE39!$A$2:'CODE39'!$AB$45,14,FALSE)) | CJ49: =IF(BW48="","",VLOOKUP("~"&BW48,CODE39!$A$2:'CODE39'!$AB$45,15,FALSE)) | CK49: =IF(BW48="","",VLOOKUP("~"&BW48,CODE39!$A$2:'CODE39'!$AB$45,16,FALSE)) | CL49: =IF(BW48="","",VLOOKUP("~"&BW48,CODE39!$A$2:'CODE39'!$AB$45,17,FALSE)) | CM49: =IF(BW48="","",VLOOKUP("~"&BW48,CODE39!$A$2:'CODE39'!$AB$45,18,FALSE)) | CN49: =IF(BW48="","",VLOOKUP("~"&BW48,CODE39!$A$2:'CODE39'!$AB$45,19,FALSE)) | CO49: =IF(BW48="","",VLOOKUP("~"&BW48,CODE39!$A$2:'CODE39'!$AB$45,20,FALSE)) | CP49: =IF(BW48="","",VLOOKUP("~"&BW48,CODE39!$A$2:'CODE39'!$AB$45,21,FALSE)) | CQ49: =IF(BW48="","",VLOOKUP("~"&BW48,CODE39!$A$2:'CODE39'!$AB$45,22,FALSE)) | CR49: =IF(BW48="","",VLOOKUP("~"&BW48,CODE39!$A$2:'CODE39'!$AB$45,23,FALSE)) | CS49: =IF(BW48="","",VLOOKUP("~"&BW48,CODE39!$A$2:'CODE39'!$AB$45,24,FALSE)) | CT49: =IF(BW48="","",VLOOKUP("~"&BW48,CODE39!$A$2:'CODE39'!$AB$45,25,FALSE)) | CU49: =IF(BW48="","",VLOOKUP("~"&BW48,CODE39!$A$2:'CODE39'!$AB$45,26,FALSE)) | CV49: =IF(BW48="","",VLOOKUP("~"&BW48,CODE39!$A$2:'CODE39'!$AB$45,27,FALSE)) | CW49: =IF(BW48="","",VLOOKUP("~"&BW48,CODE39!$A$2:'CODE39'!$AB$45,28,FALSE)) | CY49: =IF(CY48="","",VLOOKUP("~"&CY48,CODE39!$A$2:'CODE39'!$AB$45,2,FALSE)) | CZ49: =IF(CY48="","",VLOOKUP("~"&CY48,CODE39!$A$2:'CODE39'!$AB$45,3,FALSE)) | DA49: =IF(CY48="","",VLOOKUP("~"&CY48,CODE39!$A$2:'CODE39'!$AB$45,4,FALSE)) | DB49: =IF(CY48="","",VLOOKUP("~"&CY48,CODE39!$A$2:'CODE39'!$AB$45,5,FALSE)) | DC49: =IF(CY48="","",VLOOKUP("~"&CY48,CODE39!$A$2:'CODE39'!$AB$45,6,FALSE)) | DD49: =IF(CY48="","",VLOOKUP("~"&CY48,CODE39!$A$2:'CODE39'!$AB$45,7,FALSE)) | DE49: =IF(CY48="","",VLOOKUP("~"&CY48,CODE39!$A$2:'CODE39'!$AB$45,8,FALSE)) | DF49: =IF(CY48="","",VLOOKUP("~"&CY48,CODE39!$A$2:'CODE39'!$AB$45,9,FALSE)) | DG49: =IF(CY48="","",VLOOKUP("~"&CY48,CODE39!$A$2:'CODE39'!$AB$45,10,FALSE)) | DH49: =IF(CY48="","",VLOOKUP("~"&CY48,CODE39!$A$2:'CODE39'!$AB$45,11,FALSE)) | DI49: =IF(CY48="","",VLOOKUP("~"&CY48,CODE39!$A$2:'CODE39'!$AB$45,12,FALSE)) | DJ49: =IF(CY48="","",VLOOKUP("~"&CY48,CODE39!$A$2:'CODE39'!$AB$45,13,FALSE)) | DK49: =IF(CY48="","",VLOOKUP("~"&CY48,CODE39!$A$2:'CODE39'!$AB$45,14,FALSE)) | DL49: =IF(CY48="","",VLOOKUP("~"&CY48,CODE39!$A$2:'CODE39'!$AB$45,15,FALSE)) | DM49: =IF(CY48="","",VLOOKUP("~"&CY48,CODE39!$A$2:'CODE39'!$AB$45,16,FALSE)) | DN49: =IF(CY48="","",VLOOKUP("~"&CY48,CODE39!$A$2:'CODE39'!$AB$45,17,FALSE)) | DO49: =IF(CY48="","",VLOOKUP("~"&CY48,CODE39!$A$2:'CODE39'!$AB$45,18,FALSE)) | DP49: =IF(CY48="","",VLOOKUP("~"&CY48,CODE39!$A$2:'CODE39'!$AB$45,19,FALSE)) | DQ49: =IF(CY48="","",VLOOKUP("~"&CY48,CODE39!$A$2:'CODE39'!$AB$45,20,FALSE)) | DR49: =IF(CY48="","",VLOOKUP("~"&CY48,CODE39!$A$2:'CODE39'!$AB$45,21,FALSE)) | DS49: =IF(CY48="","",VLOOKUP("~"&CY48,CODE39!$A$2:'CODE39'!$AB$45,22,FALSE)) | DT49: =IF(CY48="","",VLOOKUP("~"&CY48,CODE39!$A$2:'CODE39'!$AB$45,23,FALSE)) | DU49: =IF(CY48="","",VLOOKUP("~"&CY48,CODE39!$A$2:'CODE39'!$AB$45,24,FALSE)) | DV49: =IF(CY48="","",VLOOKUP("~"&CY48,CODE39!$A$2:'CODE39'!$AB$45,25,FALSE)) | DW49: =IF(CY48="","",VLOOKUP("~"&CY48,CODE39!$A$2:'CODE39'!$AB$45,26,FALSE)) | DX49: =IF(CY48="","",VLOOKUP("~"&CY48,CODE39!$A$2:'CODE39'!$AB$45,27,FALSE)) | DY49: =IF(CY48="","",VLOOKUP("~"&CY48,CODE39!$A$2:'CODE39'!$AB$45,28,FALSE)) | EA49: =IF(EA48="","",VLOOKUP("~"&EA48,CODE39!$A$2:'CODE39'!$AB$45,2,FALSE)) | EB49: =IF(EA48="","",VLOOKUP("~"&EA48,CODE39!$A$2:'CODE39'!$AB$45,3,FALSE)) | EC49: =IF(EA48="","",VLOOKUP("~"&EA48,CODE39!$A$2:'CODE39'!$AB$45,4,FALSE)) | ED49: =IF(EA48="","",VLOOKUP("~"&EA48,CODE39!$A$2:'CODE39'!$AB$45,5,FALSE)) | EE49: =IF(EA48="","",VLOOKUP("~"&EA48,CODE39!$A$2:'CODE39'!$AB$45,6,FALSE)) | EF49: =IF(EA48="","",VLOOKUP("~"&EA48,CODE39!$A$2:'CODE39'!$AB$45,7,FALSE)) | EG49: =IF(EA48="","",VLOOKUP("~"&EA48,CODE39!$A$2:'CODE39'!$AB$45,8,FALSE)) | EH49: =IF(EA48="","",VLOOKUP("~"&EA48,CODE39!$A$2:'CODE39'!$AB$45,9,FALSE)) | EI49: =IF(EA48="","",VLOOKUP("~"&EA48,CODE39!$A$2:'CODE39'!$AB$45,10,FALSE)) | EJ49: =IF(EA48="","",VLOOKUP("~"&EA48,CODE39!$A$2:'CODE39'!$AB$45,11,FALSE)) | EK49: =IF(EA48="","",VLOOKUP("~"&EA48,CODE39!$A$2:'CODE39'!$AB$45,12,FALSE)) | EL49: =IF(EA48="","",VLOOKUP("~"&EA48,CODE39!$A$2:'CODE39'!$AB$45,13,FALSE)) | EM49: =IF(EA48="","",VLOOKUP("~"&EA48,CODE39!$A$2:'CODE39'!$AB$45,14,FALSE)) | EN49: =IF(EA48="","",VLOOKUP("~"&EA48,CODE39!$A$2:'CODE39'!$AB$45,15,FALSE)) | EO49: =IF(EA48="","",VLOOKUP("~"&EA48,CODE39!$A$2:'CODE39'!$AB$45,16,FALSE)) | EP49: =IF(EA48="","",VLOOKUP("~"&EA48,CODE39!$A$2:'CODE39'!$AB$45,17,FALSE)) | EQ49: =IF(EA48="","",VLOOKUP("~"&EA48,CODE39!$A$2:'CODE39'!$AB$45,18,FALSE)) | ER49: =IF(EA48="","",VLOOKUP("~"&EA48,CODE39!$A$2:'CODE39'!$AB$45,19,FALSE)) | ES49: =IF(EA48="","",VLOOKUP("~"&EA48,CODE39!$A$2:'CODE39'!$AB$45,20,FALSE)) | ET49: =IF(EA48="","",VLOOKUP("~"&EA48,CODE39!$A$2:'CODE39'!$AB$45,21,FALSE)) | EU49: =IF(EA48="","",VLOOKUP("~"&EA48,CODE39!$A$2:'CODE39'!$AB$45,22,FALSE)) | EV49: =IF(EA48="","",VLOOKUP("~"&EA48,CODE39!$A$2:'CODE39'!$AB$45,23,FALSE)) | EW49: =IF(EA48="","",VLOOKUP("~"&EA48,CODE39!$A$2:'CODE39'!$AB$45,24,FALSE)) | EX49: =IF(EA48="","",VLOOKUP("~"&EA48,CODE39!$A$2:'CODE39'!$AB$45,25,FALSE)) | EY49: =IF(EA48="","",VLOOKUP("~"&EA48,CODE39!$A$2:'CODE39'!$AB$45,26,FALSE)) | EZ49: =IF(EA48="","",VLOOKUP("~"&EA48,CODE39!$A$2:'CODE39'!$AB$45,27,FALSE)) | FA49: =IF(EA48="","",VLOOKUP("~"&EA48,CODE39!$A$2:'CODE39'!$AB$45,28,FALSE)) | FC49: =IF(FC48="","",VLOOKUP("~"&FC48,CODE39!$A$2:'CODE39'!$AB$45,2,FALSE)) | FD49: =IF(FC48="","",VLOOKUP("~"&FC48,CODE39!$A$2:'CODE39'!$AB$45,3,FALSE)) | FE49: =IF(FC48="","",VLOOKUP("~"&FC48,CODE39!$A$2:'CODE39'!$AB$45,4,FALSE)) | FF49: =IF(FC48="","",VLOOKUP("~"&FC48,CODE39!$A$2:'CODE39'!$AB$45,5,FALSE)) | FG49: =IF(FC48="","",VLOOKUP("~"&FC48,CODE39!$A$2:'CODE39'!$AB$45,6,FALSE)) | FH49: =IF(FC48="","",VLOOKUP("~"&FC48,CODE39!$A$2:'CODE39'!$AB$45,7,FALSE)) | FI49: =IF(FC48="","",VLOOKUP("~"&FC48,CODE39!$A$2:'CODE39'!$AB$45,8,FALSE)) | FJ49: =IF(FC48="","",VLOOKUP("~"&FC48,CODE39!$A$2:'CODE39'!$AB$45,9,FALSE)) | FK49: =IF(FC48="","",VLOOKUP("~"&FC48,CODE39!$A$2:'CODE39'!$AB$45,10,FALSE)) | FL49: =IF(FC48="","",VLOOKUP("~"&FC48,CODE39!$A$2:'CODE39'!$AB$45,11,FALSE)) | FM49: =IF(FC48="","",VLOOKUP("~"&FC48,CODE39!$A$2:'CODE39'!$AB$45,12,FALSE)) | FN49: =IF(FC48="","",VLOOKUP("~"&FC48,CODE39!$A$2:'CODE39'!$AB$45,13,FALSE)) | FO49: =IF(FC48="","",VLOOKUP("~"&FC48,CODE39!$A$2:'CODE39'!$AB$45,14,FALSE)) | FP49: =IF(FC48="","",VLOOKUP("~"&FC48,CODE39!$A$2:'CODE39'!$AB$45,15,FALSE)) | FQ49: =IF(FC48="","",VLOOKUP("~"&FC48,CODE39!$A$2:'CODE39'!$AB$45,16,FALSE)) | FR49: =IF(FC48="","",VLOOKUP("~"&FC48,CODE39!$A$2:'CODE39'!$AB$45,17,FALSE)) | FS49: =IF(FC48="","",VLOOKUP("~"&FC48,CODE39!$A$2:'CODE39'!$AB$45,18,FALSE)) | FT49: =IF(FC48="","",VLOOKUP("~"&FC48,CODE39!$A$2:'CODE39'!$AB$45,19,FALSE)) | FU49: =IF(FC48="","",VLOOKUP("~"&FC48,CODE39!$A$2:'CODE39'!$AB$45,20,FALSE)) | FV49: =IF(FC48="","",VLOOKUP("~"&FC48,CODE39!$A$2:'CODE39'!$AB$45,21,FALSE)) | FW49: =IF(FC48="","",VLOOKUP("~"&FC48,CODE39!$A$2:'CODE39'!$AB$45,22,FALSE)) | FX49: =IF(FC48="","",VLOOKUP("~"&FC48,CODE39!$A$2:'CODE39'!$AB$45,23,FALSE)) | FY49: =IF(FC48="","",VLOOKUP("~"&FC48,CODE39!$A$2:'CODE39'!$AB$45,24,FALSE)) | FZ49: =IF(FC48="","",VLOOKUP("~"&FC48,CODE39!$A$2:'CODE39'!$AB$45,25,FALSE)) | GA49: =IF(FC48="","",VLOOKUP("~"&FC48,CODE39!$A$2:'CODE39'!$AB$45,26,FALSE)) | GB49: =IF(FC48="","",VLOOKUP("~"&FC48,CODE39!$A$2:'CODE39'!$AB$45,27,FALSE)) | GC49: =IF(FC48="","",VLOOKUP("~"&FC48,CODE39!$A$2:'CODE39'!$AB$45,28,FALSE)) | GE49: =IF(GE48="","",VLOOKUP("~"&GE48,CODE39!$A$2:'CODE39'!$AB$45,2,FALSE)) | GF49: =IF(GE48="","",VLOOKUP("~"&GE48,CODE39!$A$2:'CODE39'!$AB$45,3,FALSE)) | GG49: =IF(GE48="","",VLOOKUP("~"&GE48,CODE39!$A$2:'CODE39'!$AB$45,4,FALSE)) | GH49: =IF(GE48="","",VLOOKUP("~"&GE48,CODE39!$A$2:'CODE39'!$AB$45,5,FALSE)) | GI49: =IF(GE48="","",VLOOKUP("~"&GE48,CODE39!$A$2:'CODE39'!$AB$45,6,FALSE)) | GJ49: =IF(GE48="","",VLOOKUP("~"&GE48,CODE39!$A$2:'CODE39'!$AB$45,7,FALSE)) | GK49: =IF(GE48="","",VLOOKUP("~"&GE48,CODE39!$A$2:'CODE39'!$AB$45,8,FALSE)) | GL49: =IF(GE48="","",VLOOKUP("~"&GE48,CODE39!$A$2:'CODE39'!$AB$45,9,FALSE)) | GM49: =IF(GE48="","",VLOOKUP("~"&GE48,CODE39!$A$2:'CODE39'!$AB$45,10,FALSE)) | GN49: =IF(GE48="","",VLOOKUP("~"&GE48,CODE39!$A$2:'CODE39'!$AB$45,11,FALSE)) | GO49: =IF(GE48="","",VLOOKUP("~"&GE48,CODE39!$A$2:'CODE39'!$AB$45,12,FALSE)) | GP49: =IF(GE48="","",VLOOKUP("~"&GE48,CODE39!$A$2:'CODE39'!$AB$45,13,FALSE)) | GQ49: =IF(GE48="","",VLOOKUP("~"&GE48,CODE39!$A$2:'CODE39'!$AB$45,14,FALSE)) | GR49: =IF(GE48="","",VLOOKUP("~"&GE48,CODE39!$A$2:'CODE39'!$AB$45,15,FALSE)) | GS49: =IF(GE48="","",VLOOKUP("~"&GE48,CODE39!$A$2:'CODE39'!$AB$45,16,FALSE)) | GT49: =IF(GE48="","",VLOOKUP("~"&GE48,CODE39!$A$2:'CODE39'!$AB$45,17,FALSE)) | GU49: =IF(GE48="","",VLOOKUP("~"&GE48,CODE39!$A$2:'CODE39'!$AB$45,18,FALSE)) | GV49: =IF(GE48="","",VLOOKUP("~"&GE48,CODE39!$A$2:'CODE39'!$AB$45,19,FALSE)) | GW49: =IF(GE48="","",VLOOKUP("~"&GE48,CODE39!$A$2:'CODE39'!$AB$45,20,FALSE)) | GX49: =IF(GE48="","",VLOOKUP("~"&GE48,CODE39!$A$2:'CODE39'!$AB$45,21,FALSE)) | GY49: =IF(GE48="","",VLOOKUP("~"&GE48,CODE39!$A$2:'CODE39'!$AB$45,22,FALSE)) | GZ49: =IF(GE48="","",VLOOKUP("~"&GE48,CODE39!$A$2:'CODE39'!$AB$45,23,FALSE)) | HA49: =IF(GE48="","",VLOOKUP("~"&GE48,CODE39!$A$2:'CODE39'!$AB$45,24,FALSE)) | HB49: =IF(GE48="","",VLOOKUP("~"&GE48,CODE39!$A$2:'CODE39'!$AB$45,25,FALSE)) | HC49: =IF(GE48="","",VLOOKUP("~"&GE48,CODE39!$A$2:'CODE39'!$AB$45,26,FALSE)) | HD49: =IF(GE48="","",VLOOKUP("~"&GE48,CODE39!$A$2:'CODE39'!$AB$45,27,FALSE)) | HE49: =IF(GE48="","",VLOOKUP("~"&GE48,CODE39!$A$2:'CODE39'!$AB$45,28,FALSE)) | HG49: =IF(HG48="","",VLOOKUP("~"&HG48,CODE39!$A$2:'CODE39'!$AB$45,2,FALSE)) | HH49: =IF(HG48="","",VLOOKUP("~"&HG48,CODE39!$A$2:'CODE39'!$AB$45,3,FALSE)) | HI49: =IF(HG48="","",VLOOKUP("~"&HG48,CODE39!$A$2:'CODE39'!$AB$45,4,FALSE)) | HJ49: =IF(HG48="","",VLOOKUP("~"&HG48,CODE39!$A$2:'CODE39'!$AB$45,5,FALSE)) | HK49: =IF(HG48="","",VLOOKUP("~"&HG48,CODE39!$A$2:'CODE39'!$AB$45,6,FALSE)) | HL49: =IF(HG48="","",VLOOKUP("~"&HG48,CODE39!$A$2:'CODE39'!$AB$45,7,FALSE)) | HM49: =IF(HG48="","",VLOOKUP("~"&HG48,CODE39!$A$2:'CODE39'!$AB$45,8,FALSE)) | HN49: =IF(HG48="","",VLOOKUP("~"&HG48,CODE39!$A$2:'CODE39'!$AB$45,9,FALSE)) | HO49: =IF(HG48="","",VLOOKUP("~"&HG48,CODE39!$A$2:'CODE39'!$AB$45,10,FALSE)) | HP49: =IF(HG48="","",VLOOKUP("~"&HG48,CODE39!$A$2:'CODE39'!$AB$45,11,FALSE)) | HQ49: =IF(HG48="","",VLOOKUP("~"&HG48,CODE39!$A$2:'CODE39'!$AB$45,12,FALSE)) | HR49: =IF(HG48="","",VLOOKUP("~"&HG48,CODE39!$A$2:'CODE39'!$AB$45,13,FALSE)) | HS49: =IF(HG48="","",VLOOKUP("~"&HG48,CODE39!$A$2:'CODE39'!$AB$45,14,FALSE)) | HT49: =IF(HG48="","",VLOOKUP("~"&HG48,CODE39!$A$2:'CODE39'!$AB$45,15,FALSE)) | HU49: =IF(HG48="","",VLOOKUP("~"&HG48,CODE39!$A$2:'CODE39'!$AB$45,16,FALSE)) | HV49: =IF(HG48="","",VLOOKUP("~"&HG48,CODE39!$A$2:'CODE39'!$AB$45,17,FALSE)) | HW49: =IF(HG48="","",VLOOKUP("~"&HG48,CODE39!$A$2:'CODE39'!$AB$45,18,FALSE)) | HX49: =IF(HG48="","",VLOOKUP("~"&HG48,CODE39!$A$2:'CODE39'!$AB$45,19,FALSE)) | HY49: =IF(HG48="","",VLOOKUP("~"&HG48,CODE39!$A$2:'CODE39'!$AB$45,20,FALSE)) | HZ49: =IF(HG48="","",VLOOKUP("~"&HG48,CODE39!$A$2:'CODE39'!$AB$45,21,FALSE)) | IA49: =IF(HG48="","",VLOOKUP("~"&HG48,CODE39!$A$2:'CODE39'!$AB$45,22,FALSE)) | IB49: =IF(HG48="","",VLOOKUP("~"&HG48,CODE39!$A$2:'CODE39'!$AB$45,23,FALSE)) | IC49: =IF(HG48="","",VLOOKUP("~"&HG48,CODE39!$A$2:'CODE39'!$AB$45,24,FALSE)) | ID49: =IF(HG48="","",VLOOKUP("~"&HG48,CODE39!$A$2:'CODE39'!$AB$45,25,FALSE)) | IE49: =IF(HG48="","",VLOOKUP("~"&HG48,CODE39!$A$2:'CODE39'!$AB$45,26,FALSE)) | IF49: =IF(HG48="","",VLOOKUP("~"&HG48,CODE39!$A$2:'CODE39'!$AB$45,27,FALSE)) | IG49: =IF(HG48="","",VLOOKUP("~"&HG48,CODE39!$A$2:'CODE39'!$AB$45,28,FALSE))

Sheet CODE39
B1: 1 | C1: 2 | D1: 3 | E1: 4 | F1: 5 | G1: 6 | H1: 7 | I1: 8 | J1: 9 | K1: 10 | L1: 11 | M1: 12 | N1: 13 | O1: 14 | P1: 15 | Q1: 16 | R1: 17 | S1: 18 | T1: 19 | U1: 20 | V1: 21 | W1: 22 | X1: 23 | Y1: 24 | Z1: 25 | AA1: 26 | AB1: 27
A2: 0 | B2: 1 | C2: 1 | D2: 0 | E2: 0 | F2: 1 | G2: 1 | H2: 0 | I2: 0 | J2: 0 | K2: 0 | L2: 0 | M2: 1 | N2: 1 | O2: 1 | P2: 1 | Q2: 1 | R2: 0 | S2: 0 | T2: 1 | U2: 1 | V2: 1 | W2: 1 | X2: 1 | Y2: 0 | Z2: 0 | AA2: 1 | AB2: 1
A3: 1 | B3: 1 | C3: 1 | D3: 1 | E3: 1 | F3: 1 | G3: 0 | H3: 0 | I3: 1 | J3: 1 | K3: 0 | L3: 0 | M3: 0 | N3: 0 | O3: 0 | P3: 1 | Q3: 1 | R3: 0 | S3: 0 | T3: 1 | U3: 1 | V3: 0 | W3: 0 | X3: 1 | Y3: 1 | Z3: 1 | AA3: 1 | AB3: 1
A4: 2 | B4: 1 | C4: 1 | D4: 0 | E4: 0 | F4: 1 | G4: 1 | H4: 1 | I4: 1 | J4: 1 | K4: 0 | L4: 0 | M4: 0 | N4: 0 | O4: 0 | P4: 1 | Q4: 1 | R4: 0 | S4: 0 | T4: 1 | U4: 1 | V4: 0 | W4: 0 | X4: 1 | Y4: 1 | Z4: 1 | AA4: 1 | AB4: 1
A5: 3 | B5: 1 | C5: 1 | D5: 1 | E5: 1 | F5: 1 | G5: 0 | H5: 0 | I5: 1 | J5: 1 | K5: 1 | L5: 1 | M5: 1 | N5: 0 | O5: 0 | P5: 0 | Q5: 0 | R5: 0 | S5: 1 | T5: 1 | U5: 0 | V5: 0 | W5: 1 | X5: 1 | Y5: 0 | Z5: 0 | AA5: 1 | AB5: 1
A6: 4 | B6: 1 | C6: 1 | D6: 0 | E6: 0 | F6: 1 | G6: 1 | H6: 0 | I6: 0 | J6: 0 | K6: 0 | L6: 0 | M6: 1 | N6: 1 | O6: 1 | P6: 1 | Q6: 1 | R6: 0 | S6: 0 | T6: 1 | U6: 1 | V6: 0 | W6: 0 | X6: 1 | Y6: 1 | Z6: 1 | AA6: 1 | AB6: 1
A7: 5 | B7: 1 | C7: 1 | D7: 1 | E7: 1 | F7: 1 | G7: 0 | H7: 0 | I7: 1 | J7: 1 | K7: 0 | L7: 0 | M7: 0 | N7: 0 | O7: 0 | P7: 1 | Q7: 1 | R7: 1 | S7: 1 | T7: 1 | U7: 0 | V7: 0 | W7: 1 | X7: 1 | Y7: 0 | Z7: 0 | AA7: 1 | AB7: 1
A8: 6 | B8: 1 | C8: 1 | D8: 0 | E8: 0 | F8: 1 | G8: 1 | H8: 1 | I8: 1 | J8: 1 | K8: 0 | L8: 0 | M8: 0 | N8: 0 | O8: 0 | P8: 1 | Q8: 1 | R8: 1 | S8: 1 | T8: 1 | U8: 0 | V8: 0 | W8: 1 | X8: 1 | Y8: 0 | Z8: 0 | AA8: 1 | AB8: 1
A9: 7 | B9: 1 | C9: 1 | D9: 0 | E9: 0 | F9: 1 | G9: 1 | H9: 0 | I9: 0 | J9: 0 | K9: 0 | L9: 0 | M9: 1 | N9: 1 | O9: 0 | P9: 0 | Q9: 1 | R9: 1 | S9: 1 | T9: 1 | U9: 1 | V9: 0 | W9: 0 | X9: 1 | Y9: 1 | Z9: 1 | AA9: 1 | AB9: 1
A10: 8 | B10: 1 | C10: 1 | D10: 1 | E10: 1 | F10: 1 | G10: 0 | H10: 0 | I10: 1 | J10: 1 | K10: 0 | L10: 0 | M10: 0 | N10: 0 | O10: 0 | P10: 1 | Q10: 1 | R10: 0 | S10: 0 | T10: 1 | U10: 1 | V10: 1 | W10: 1 | X10: 1 | Y10: 0 | Z10: 0 | AA10: 1 | AB10: 1
A11: 9 | B11: 1 | C11: 1 | D11: 0 | E11: 0 | F11: 1 | G11: 1 | H11: 1 | I11: 1 | J11: 1 | K11: 0 | L11: 0 | M11: 0 | N11: 0 | O11: 0 | P11: 1 | Q11: 1 | R11: 0 | S11: 0 | T11: 1 | U11: 1 | V11: 1 | W11: 1 | X11: 1 | Y11: 0 | Z11: 0 | AA11: 1 | AB11: 1
A12: A | B12: 1 | C12: 1 | D12: 1 | E12: 1 | F12: 1 | G12: 0 | H12: 0 | I12: 1 | J12: 1 | K12: 0 | L12: 0 | M12: 1 | N12: 1 | O12: 0 | P12: 0 | Q12: 0 | R12: 0 | S12: 0 | T12: 1 | U12: 1 | V12: 0 | W12: 0 | X12: 1 | Y12: 1 | Z12: 1 | AA12: 1 | AB12: 1
A13: B | B13: 1 | C13: 1 | D13: 0 | E13: 0 | F13: 1 | G13: 1 | H13: 1 | I13: 1 | J13: 1 | K13: 0 | L13: 0 | M13: 1 | N13: 1 | O13: 0 | P13: 0 | Q13: 0 | R13: 0 | S13: 0 | T13: 1 | U13: 1 | V13: 0 | W13: 0 | X13: 1 | Y13: 1 | Z13: 1 | AA13: 1 | AB13: 1
... A39: . | B39: 1 | C39: 1 | D39: 1 | E39: 1 | F39: 1 | G39: 0 | H39: 0 | I39: 0 | J39: 0 | K39: 0 | L39: 1 | M39: 1 | N39: 0 | O39: 0 | P39: 1 | Q39: 1 | R39: 0 | S39: 0 | T39: 1 | U39: 1 | V39: 1 | W39: 1 | X39: 1 | Y39: 0 | Z39: 0 | AA39: 1 | AB39: 1
B40: 1 | C40: 1 | D40: 0 | E40: 0 | F40: 0 | G40: 0 | H40: 0 | I40: 1 | J40: 1 | K40: 1 | L40: 1 | M40: 1 | N40: 0 | O40: 0 | P40: 1 | Q40: 1 | R40: 0 | S40: 0 | T40: 1 | U40: 1 | V40: 1 | W40: 1 | X40: 1 | Y40: 0 | Z40: 0 | AA40: 1 | AB40: 1
A41: $ | B41: 1 | C41: 1 | D41: 0 | E41: 0 | F41: 0 | G41: 0 | H41: 0 | I41: 1 | J41: 1 | K41: 0 | L41: 0 | M41: 0 | N41: 0 | O41: 0 | P41: 1 | Q41: 1 | R41: 0 | S41: 0 | T41: 0 | U41: 0 | V41: 0 | W41: 1 | X41: 1 | Y41: 0 | Z41: 0 | AA41: 1 | AB41: 1
A42: / | B42: 1 | C42: 1 | D42: 0 | E42: 0 | F42: 0 | G42: 0 | H42: 0 | I42: 1 | J42: 1 | K42: 0 | L42: 0 | M42: 0 | N42: 0 | O42: 0 | P42: 1 | Q42: 1 | R42: 0 | S42: 0 | T42: 1 | U42: 1 | V42: 0 | W42: 0 | X42: 0 | Y42: 0 | Z42: 0 | AA42: 1 | AB42: 1
A43: + | B43: 1 | C43: 1 | D43: 0 | E43: 0 | F43: 0 | G43: 0 | H43: 0 | I43: 1 | J43: 1 | K43: 0 | L43: 0 | M43: 1 | N43: 1 | O43: 0 | P43: 0 | Q43: 0 | R43: 0 | S43: 0 | T43: 1 | U43: 1 | V43: 0 | W43: 0 | X43: 0 | Y43: 0 | Z43: 0 | AA43: 1 | AB43: 1
A44: % | B44: 1 | C44: 1 | D44: 0 | E44: 0 | F44: 1 | G44: 1 | H44: 0 | I44: 0 | J44: 0 | K44: 0 | L44: 0 | M44: 1 | N44: 1 | O44: 0 | P44: 0 | Q44: 0 | R44: 0 | S44: 0 | T44: 1 | U44: 1 | V44: 0 | W44: 0 | X44: 0 | Y44: 0 | Z44: 0 | AA44: 1 | AB44: 1
A45: * | B45: 1 | C45: 1 | D45: 0 | E45: 0 | F45: 0 | G45: 0 | H45: 0 | I45: 1 | J45: 1 | K45: 0 | L45: 0 | M45: 1 | N45: 1 | O45: 1 | P45: 1 | Q45: 1 | R45: 0 | S45: 0 | T45: 1 | U45: 1 | V45: 1 | W45: 1 | X45: 1 | Y45: 0 | Z45: 0 | AA45: 1 | AB45: 1
